BEGIN:VCALENDAR
VERSION:2.0
PRODID:-//BACHA - ECPv6.15.19//NONSGML v1.0//EN
CALSCALE:GREGORIAN
METHOD:PUBLISH
X-WR-CALNAME:BACHA
X-ORIGINAL-URL:https://bostoncoffeehouses.org
X-WR-CALDESC:Events for BACHA
REFRESH-INTERVAL;VALUE=DURATION:PT1H
X-Robots-Tag:noindex
X-PUBLISHED-TTL:PT1H
BEGIN:VTIMEZONE
TZID:America/New_York
BEGIN:DAYLIGHT
TZOFFSETFROM:-0500
TZOFFSETTO:-0400
TZNAME:EDT
DTSTART:20230312T070000
END:DAYLIGHT
BEGIN:STANDARD
TZOFFSETFROM:-0400
TZOFFSETTO:-0500
TZNAME:EST
DTSTART:20231105T060000
END:STANDARD
BEGIN:DAYLIGHT
TZOFFSETFROM:-0500
TZOFFSETTO:-0400
TZNAME:EDT
DTSTART:20240310T070000
END:DAYLIGHT
BEGIN:STANDARD
TZOFFSETFROM:-0400
TZOFFSETTO:-0500
TZNAME:EST
DTSTART:20241103T060000
END:STANDARD
BEGIN:DAYLIGHT
TZOFFSETFROM:-0500
TZOFFSETTO:-0400
TZNAME:EDT
DTSTART:20250309T070000
END:DAYLIGHT
BEGIN:STANDARD
TZOFFSETFROM:-0400
TZOFFSETTO:-0500
TZNAME:EST
DTSTART:20251102T060000
END:STANDARD
END:VTIMEZONE
BEGIN:VEVENT
DTSTART;TZID=America/New_York:20241102T190000
DTEND;TZID=America/New_York:20241102T210000
DTSTAMP:20260421T195131
CREATED:20241022T101201Z
LAST-MODIFIED:20241101T172503Z
UID:10000647-1730574000-1730581200@bostoncoffeehouses.org
SUMMARY:Emma's Revolution
DESCRIPTION:Advance tickets are $20. Visit emmasrevolution.com. Tickets at the door are $25. Masks encouraged. \nTickets\nEmma’s Revolution is excited to come to the UU Society of Rockport to raise the roof on the Saturday before Election Day! Let’s do all we can to Get Out the Vote! \nKnown for fearless\, truth-telling lyrics and melodies you can’t resist singing\, Emma’s Revolution is the dynamic\, award-winning activist duo of Pat Humphries & Sandy O. The duo are in their 20th year performing together. Emma’s Revolution’s songs have traveled around the world and have been sung for the Dalai Lama\, praised by Pete Seeger and covered by Holly Near. \nWith one eye on the news\, Emma’s Revolution consistently writes songs about critical issues happening in the world and enthusiastically lends their voices to the movements those issues inspire. “Our House is on Fire” was selected as the opening track for Hope Rises\, a compilation CD from a national nonprofit co-founded by Noel (Paul) Stookey of Peter\, Paul & Mary. “Keep on Moving Forward” opened the UN’s Committee on the Status of Women’s Bejiing+25 Conference. The song originally opened the NGO Forum of the 4th UN World Conference on Women in Beijing in 1995\, becoming its unofficial anthem. Emma’s Revolution are winners of the John Lennon Songwriting Contest Grand Prize and the first Phil Ochs Award.  \n“Our work has always been about building connection\, love and justice through song\,” the duo says. “During this pandemic\, we have moved much of our work online\, creating opportunities for people to sing together (Zoom-style)\, use songwriting as a way to process emotions in an unsettled era\, and attend concerts where they can have a sense of connectedness\, solace and even joy in this challenging time.”  \nAs independent artists and queer and non-conforming women\, Emma’s Revolution has a national presence among communities\, organizations and venues that share the duo’s vision of valuing people over profit\, choosing compassion over violence\, demanding accountability\, and building a more just and sustainable world. 
URL:https://bostoncoffeehouses.org/event/emmas-revolution/
LOCATION:Unitarian Universalist Society of Rockport MA\, 4 Cleaves St\, Rockport\, MA\, 01966\, United States
ATTACH;FMTTYPE=image/jpeg:https://bostoncoffeehouses.org/wp-content/uploads/2024/10/emmas-revolution-600x400-1.jpg
ORGANIZER;CN="Old Sloop Presents":MAILTO:info@oldslooppresents.org
END:VEVENT
END:VCALENDAR