BEGIN:VCALENDAR
VERSION:2.0
PRODID:-//BACHA - ECPv6.15.19//NONSGML v1.0//EN
CALSCALE:GREGORIAN
METHOD:PUBLISH
X-WR-CALNAME:BACHA
X-ORIGINAL-URL:https://bostoncoffeehouses.org
X-WR-CALDESC:Events for BACHA
REFRESH-INTERVAL;VALUE=DURATION:PT1H
X-Robots-Tag:noindex
X-PUBLISHED-TTL:PT1H
BEGIN:VTIMEZONE
TZID:America/New_York
BEGIN:DAYLIGHT
TZOFFSETFROM:-0500
TZOFFSETTO:-0400
TZNAME:EDT
DTSTART:20220313T070000
END:DAYLIGHT
BEGIN:STANDARD
TZOFFSETFROM:-0400
TZOFFSETTO:-0500
TZNAME:EST
DTSTART:20221106T060000
END:STANDARD
BEGIN:DAYLIGHT
TZOFFSETFROM:-0500
TZOFFSETTO:-0400
TZNAME:EDT
DTSTART:20230312T070000
END:DAYLIGHT
BEGIN:STANDARD
TZOFFSETFROM:-0400
TZOFFSETTO:-0500
TZNAME:EST
DTSTART:20231105T060000
END:STANDARD
BEGIN:DAYLIGHT
TZOFFSETFROM:-0500
TZOFFSETTO:-0400
TZNAME:EDT
DTSTART:20240310T070000
END:DAYLIGHT
BEGIN:STANDARD
TZOFFSETFROM:-0400
TZOFFSETTO:-0500
TZNAME:EST
DTSTART:20241103T060000
END:STANDARD
END:VTIMEZONE
BEGIN:VEVENT
DTSTART;TZID=America/New_York:20230920T190000
DTEND;TZID=America/New_York:20230920T210000
DTSTAMP:20260421T161815
CREATED:20230814T194839Z
LAST-MODIFIED:20230830T175203Z
UID:10000219-1695236400-1695243600@bostoncoffeehouses.org
SUMMARY:Steve Turner House Concert
DESCRIPTION:Reservations are required: send email to HouseConcerts@fssgb.org.  Address (in Newton) will be provided when you make your reservation.  $20 at the door (cash) – $5 for students. \nSteve Turner is known as a pioneer of highly sophisticated English concertina song accompaniments\, stretching the boundaries of traditional forms\, with one of the best voices in the business. He is a multi-instrumentalist\, who also accompanies himself on the cittern\, and also plays mandolin and tenor banjo. \nSteve began his career on the Manchester\, UK folk scene at the end of the ‘60s\, with the Geordie band “Canny Fettle”\, touring with them for eight years and making two albums with them. \nIn 1979 he won the UK Melody Maker’s national “Stars of the 80s” competition\, which persuaded him to turn professional\, and for the next 12 years he toured solo\, nationally and internationally\, releasing four albums with Fellside Records during this period (Out Stack\, Jigging One Now\, Eclogue and Braiding). \nAfter 13 years away from the folk scene he made a welcome return in 2004 performing in folk clubs and festivals\, and in 2008 producing his 5th album\, the highly acclaimed “Whirligig of Time” which featured UK luminaries Martin Carthy\, Nancy Kerr and Miranda Sykes. \nSince then he has released further albums\, “Rim of the Wheel” \, “Spirit of the Game” and “Late Cut”\, and his latest much anticipated 9th album “Curious Times” featuring Martin Carthy will be released in Spring 2023. \nCheck the website\, www.fssgb.org\, or email info@fssgb.org\, if you have any questions.
URL:https://bostoncoffeehouses.org/event/steve-turner-house-concert/
LOCATION:Newton\, MA\, Newton\, MA\, United States
CATEGORIES:Music
ATTACH;FMTTYPE=image/jpeg:https://bostoncoffeehouses.org/wp-content/uploads/2023/08/turner.jpg
END:VEVENT
END:VCALENDAR