BEGIN:VCALENDAR
VERSION:2.0
PRODID:-//BACHA - ECPv6.15.19//NONSGML v1.0//EN
CALSCALE:GREGORIAN
METHOD:PUBLISH
X-ORIGINAL-URL:https://bostoncoffeehouses.org
X-WR-CALDESC:Events for BACHA
REFRESH-INTERVAL;VALUE=DURATION:PT1H
X-Robots-Tag:noindex
X-PUBLISHED-TTL:PT1H
BEGIN:VTIMEZONE
TZID:America/New_York
BEGIN:DAYLIGHT
TZOFFSETFROM:-0500
TZOFFSETTO:-0400
TZNAME:EDT
DTSTART:20210314T070000
END:DAYLIGHT
BEGIN:STANDARD
TZOFFSETFROM:-0400
TZOFFSETTO:-0500
TZNAME:EST
DTSTART:20211107T060000
END:STANDARD
BEGIN:DAYLIGHT
TZOFFSETFROM:-0500
TZOFFSETTO:-0400
TZNAME:EDT
DTSTART:20220313T070000
END:DAYLIGHT
BEGIN:STANDARD
TZOFFSETFROM:-0400
TZOFFSETTO:-0500
TZNAME:EST
DTSTART:20221106T060000
END:STANDARD
BEGIN:DAYLIGHT
TZOFFSETFROM:-0500
TZOFFSETTO:-0400
TZNAME:EDT
DTSTART:20230312T070000
END:DAYLIGHT
BEGIN:STANDARD
TZOFFSETFROM:-0400
TZOFFSETTO:-0500
TZNAME:EST
DTSTART:20231105T060000
END:STANDARD
BEGIN:DAYLIGHT
TZOFFSETFROM:-0500
TZOFFSETTO:-0400
TZNAME:EDT
DTSTART:20240310T070000
END:DAYLIGHT
BEGIN:STANDARD
TZOFFSETFROM:-0400
TZOFFSETTO:-0500
TZNAME:EST
DTSTART:20241103T060000
END:STANDARD
END:VTIMEZONE
BEGIN:VEVENT
DTSTART;TZID=America/New_York:20231020T200000
DTEND;TZID=America/New_York:20231020T220000
DTSTAMP:20260421T084932
CREATED:20230813T172715Z
LAST-MODIFIED:20230813T174429Z
UID:10000215-1697832000-1697839200@bostoncoffeehouses.org
SUMMARY:An evening with Chris Smither at Me&Thee Music Friday\, Oct. 20
DESCRIPTION:Tickets: https://ti.to/me-thee-music
URL:https://bostoncoffeehouses.org/event/an-evening-with-chris-smither-at-methee-music-friday-oct-20/
LOCATION:Me&Thee\, Marblehead MA\, 28 Mugford St\, Marblehead\, MA\, 01945\, United States
END:VEVENT
BEGIN:VEVENT
DTSTART;TZID=America/New_York:20231006T200000
DTEND;TZID=America/New_York:20231006T220000
DTSTAMP:20260421T084932
CREATED:20230813T172620Z
LAST-MODIFIED:20230813T174550Z
UID:10000214-1696622400-1696629600@bostoncoffeehouses.org
SUMMARY:Catie Curtis at Me&Thee Music Friday\, Oct. 6
DESCRIPTION:Tickets: https://ti.to/me-thee-music
URL:https://bostoncoffeehouses.org/event/catie-curtis-at-methee-music-friday-oct-6/
LOCATION:Me&Thee\, Marblehead MA\, 28 Mugford St\, Marblehead\, MA\, 01945\, United States
END:VEVENT
BEGIN:VEVENT
DTSTART;TZID=America/New_York:20230908T200000
DTEND;TZID=America/New_York:20230908T220000
DTSTAMP:20260421T084932
CREATED:20230813T172153Z
LAST-MODIFIED:20230813T174705Z
UID:10000212-1694203200-1694210400@bostoncoffeehouses.org
SUMMARY:Christine Lavin at Me&Thee Music Friday\, Sept. 8
DESCRIPTION:Tickets: https://ti.to/me-thee-music
URL:https://bostoncoffeehouses.org/event/christine-lavin-at-methee-music-friday-sept-8/
LOCATION:Me&Thee\, Marblehead MA\, 28 Mugford St\, Marblehead\, MA\, 01945\, United States
END:VEVENT
BEGIN:VEVENT
DTSTART;TZID=America/New_York:20230519T200000
DTEND;TZID=America/New_York:20230519T220000
DTSTAMP:20260421T084932
CREATED:20230423T041900Z
LAST-MODIFIED:20230423T041900Z
UID:10000179-1684526400-1684533600@bostoncoffeehouses.org
SUMMARY:THE SQUEEZEBOX STOMPERS at Me&Thee Music Friday\, May 19
DESCRIPTION:The Squeezebox Stompers return to the Me&Thee to close our season with a CD Release “Mardi Gras in May” Concert & Dance. Performing high-energy Cajun\, Zydeco\, Blues\, Folk and originals\, the Stompers always get folks up and moving with their engaging step-lively up-beat music. Their instrumentation includes accordion\, keyboards\, fiddle\, saxophone\, harmonica\, penny whistle\, guitars\, bass\, drums and scrub board that they may ask you play! Party-lit Stetson Hall will be renamed Stetson (Dance) Hall for the evening.
URL:https://bostoncoffeehouses.org/event/the-squeezebox-stompers-at-methee-music-friday-may-19/
LOCATION:Me&Thee\, Marblehead MA\, 28 Mugford St\, Marblehead\, MA\, 01945\, United States
END:VEVENT
BEGIN:VEVENT
DTSTART;TZID=America/New_York:20230505T200000
DTEND;TZID=America/New_York:20230505T220000
DTSTAMP:20260421T084932
CREATED:20230423T040826Z
LAST-MODIFIED:20230423T041201Z
UID:10000178-1683316800-1683324000@bostoncoffeehouses.org
SUMMARY:PETER PARCEK and DANIELLE MIRAGLIA at Me&Thee Music Friday\, May 5
DESCRIPTION:Two Time Blues Artist of the Year Nominee Peter Parcek and New England Blues Act of the Year Danielle Miraglia join forces for this memorable night of blues\, Bob Dylan\, and much more at the Me&Thee.
URL:https://bostoncoffeehouses.org/event/peter-parcek-and-danielle-miraglia-at-methee-music-friday-may-5/
LOCATION:Me&Thee\, Marblehead MA\, 28 Mugford St\, Marblehead\, MA\, 01945\, United States
END:VEVENT
BEGIN:VEVENT
DTSTART;TZID=America/New_York:20230428T200000
DTEND;TZID=America/New_York:20230428T220000
DTSTAMP:20260421T084932
CREATED:20230423T034341Z
LAST-MODIFIED:20230423T035014Z
UID:10000177-1682712000-1682719200@bostoncoffeehouses.org
SUMMARY:JOHN GORKA at Me&Thee Music April 28\, 2023
DESCRIPTION:We are so happy to welcome John Gorka back to the Me&Thee\, where he has played to packed houses for years. John is a world-renowned singer-songwriter who got his start at a neighborhood coffeehouse in eastern Pennsylvania — Godfrey Daniels. Please note: masks are mandatory at this concert\, at the artist’s request.
URL:https://bostoncoffeehouses.org/event/john-gorka-at-methee-music-april-28-2023/
LOCATION:Me&Thee\, Marblehead MA\, 28 Mugford St\, Marblehead\, MA\, 01945\, United States
END:VEVENT
BEGIN:VEVENT
DTSTART;TZID=America/New_York:20221007T200000
DTEND;TZID=America/New_York:20221007T223000
DTSTAMP:20260421T084932
CREATED:20220930T020510Z
LAST-MODIFIED:20220930T020510Z
UID:10000072-1665172800-1665181800@bostoncoffeehouses.org
SUMMARY:** CANCELED ** Cheryl Wheeler and Kenny White
DESCRIPTION:We regret that the Cheryl Wheeler show at the Me&Thee has been canceled. \nCheryl is confronting some serious mental health challenges and has been admitted to an in-patient treatment facility for an indefinite period. \nCheryl apologizes for the inconvenience but is currently incapable of taking on the strain of performing to the standard her fans deserve. It is her sincere hope that she’s able to return soon. However\, in the meantime she appreciates your thoughts and well wishes as she seeks the treatment she needs at this critical moment. \nWe thank you for your kind understanding\, \nCheryl Wheeler Management \n(This public announcement is authorized by Cheryl Wheeler and her management team. The Me&Thee will be closed on Oct. 7th)
URL:https://bostoncoffeehouses.org/event/canceled-cheryl-wheeler-and-kenny-white/
LOCATION:Me&Thee\, Marblehead MA\, 28 Mugford St\, Marblehead\, MA\, 01945\, United States
ORGANIZER;CN="Me&Thee":MAILTO:info@meandthee.org
END:VEVENT
END:VCALENDAR