BEGIN:VCALENDAR
VERSION:2.0
PRODID:-//BACHA - ECPv6.15.19//NONSGML v1.0//EN
CALSCALE:GREGORIAN
METHOD:PUBLISH
X-WR-CALNAME:BACHA
X-ORIGINAL-URL:https://bostoncoffeehouses.org
X-WR-CALDESC:Events for BACHA
REFRESH-INTERVAL;VALUE=DURATION:PT1H
X-Robots-Tag:noindex
X-PUBLISHED-TTL:PT1H
BEGIN:VTIMEZONE
TZID:America/New_York
BEGIN:DAYLIGHT
TZOFFSETFROM:-0500
TZOFFSETTO:-0400
TZNAME:EDT
DTSTART:20220313T070000
END:DAYLIGHT
BEGIN:STANDARD
TZOFFSETFROM:-0400
TZOFFSETTO:-0500
TZNAME:EST
DTSTART:20221106T060000
END:STANDARD
BEGIN:DAYLIGHT
TZOFFSETFROM:-0500
TZOFFSETTO:-0400
TZNAME:EDT
DTSTART:20230312T070000
END:DAYLIGHT
BEGIN:STANDARD
TZOFFSETFROM:-0400
TZOFFSETTO:-0500
TZNAME:EST
DTSTART:20231105T060000
END:STANDARD
BEGIN:DAYLIGHT
TZOFFSETFROM:-0500
TZOFFSETTO:-0400
TZNAME:EDT
DTSTART:20240310T070000
END:DAYLIGHT
BEGIN:STANDARD
TZOFFSETFROM:-0400
TZOFFSETTO:-0500
TZNAME:EST
DTSTART:20241103T060000
END:STANDARD
BEGIN:DAYLIGHT
TZOFFSETFROM:-0500
TZOFFSETTO:-0400
TZNAME:EDT
DTSTART:20250309T070000
END:DAYLIGHT
BEGIN:STANDARD
TZOFFSETFROM:-0400
TZOFFSETTO:-0500
TZNAME:EST
DTSTART:20251102T060000
END:STANDARD
BEGIN:DAYLIGHT
TZOFFSETFROM:-0500
TZOFFSETTO:-0400
TZNAME:EDT
DTSTART:20260308T070000
END:DAYLIGHT
BEGIN:STANDARD
TZOFFSETFROM:-0400
TZOFFSETTO:-0500
TZNAME:EST
DTSTART:20261101T060000
END:STANDARD
END:VTIMEZONE
BEGIN:VEVENT
DTSTART;TZID=America/New_York:20250502T200000
DTEND;TZID=America/New_York:20250502T220000
DTSTAMP:20260421T051100
CREATED:20241227T061210Z
LAST-MODIFIED:20241227T064814Z
UID:10000692-1746216000-1746223200@bostoncoffeehouses.org
SUMMARY:Heather Maloney
DESCRIPTION:Massachusetts-based “writer song-singer” Heather Maloney headlines at the Me&Thee on Friday\, May 2 at 8pm. Maloney found music in the midst of three years at a meditation center\, honing a sound moored in days of silent reflection and reverence for storytellers like Joni\, Rilke\, Ken Burns\, and the anonymous authors of Zen parables. While she eventually traded the quiet\, structured life of a yogi for the kinetic life of a touring musician\, the core of her songwriting has remained centered around the same curiosity about our inner world and the desire to articulate it through storytelling.
URL:https://bostoncoffeehouses.org/event/heather-maloney/
LOCATION:Me&Thee\, Marblehead MA\, 28 Mugford St\, Marblehead\, MA\, 01945\, United States
ORGANIZER;CN="Me&Thee":MAILTO:info@meandthee.org
END:VEVENT
BEGIN:VEVENT
DTSTART;TZID=America/New_York:20250425T200000
DTEND;TZID=America/New_York:20250425T220000
DTSTAMP:20260421T051100
CREATED:20241227T061019Z
LAST-MODIFIED:20241227T064632Z
UID:10000691-1745611200-1745618400@bostoncoffeehouses.org
SUMMARY:Jon Pousette-Dart Acoustic Duo
DESCRIPTION:Jon Pousette-Dart\, best known as an American Classic and Folk Rock songwriter\, musician\, and performing artist\, returns to the Me&Thee on Friday\, April 25 at 8pm. Growing up in Suffern\, NY in a household of artists (including his father\, grandfather\, and sister)\, he separated himself by picking up a guitar at the age of 10 and mapping out a life in music before he ever attended a little league game. Since then\, it’s been a long and well-traveled road in the world of music.
URL:https://bostoncoffeehouses.org/event/jon-pousette-dart-acoustic-duo/
LOCATION:Me&Thee\, Marblehead MA\, 28 Mugford St\, Marblehead\, MA\, 01945\, United States
ORGANIZER;CN="Me&Thee":MAILTO:info@meandthee.org
END:VEVENT
BEGIN:VEVENT
DTSTART;TZID=America/New_York:20250404T200000
DTEND;TZID=America/New_York:20250404T220000
DTSTAMP:20260421T051100
CREATED:20241227T060740Z
LAST-MODIFIED:20241227T064254Z
UID:10000690-1743796800-1743804000@bostoncoffeehouses.org
SUMMARY:Guy Davis
DESCRIPTION:Back-to-back Grammy nominee Guy Davis brings his exceptional traditional blues\, roots and world music to the Me&Thee stage on Friday\, April 4th at 8pm. Davis is more than a musician. He’s also know as an actor\, author\, and songwriter who uses a blend of roots\, blues\, folk\, rock\, rap\, spoken word\, and world music to sing about\, comment on\, and address the issues of social injustice\, historical events and common life struggles.
URL:https://bostoncoffeehouses.org/event/guy-davis-2/
LOCATION:Me&Thee\, Marblehead MA\, 28 Mugford St\, Marblehead\, MA\, 01945\, United States
ORGANIZER;CN="Me&Thee":MAILTO:info@meandthee.org
END:VEVENT
BEGIN:VEVENT
DTSTART;TZID=America/New_York:20250321T200000
DTEND;TZID=America/New_York:20250321T220000
DTSTAMP:20260421T051100
CREATED:20241227T060547Z
LAST-MODIFIED:20250104T032313Z
UID:10000689-1742587200-1742594400@bostoncoffeehouses.org
SUMMARY:Don White and Hayley Reardon
DESCRIPTION:Two of the Me&Thee’s favorite performers\, Don White & Hayley Reardon\, join forces for a special night commemorating the club’s 55th Anniversary. Don and Haley have been great friends for years and together\, they’ll present the best of what this club has been since its founding — a community.
URL:https://bostoncoffeehouses.org/event/don-white-and-haley-reardon/
LOCATION:Me&Thee\, Marblehead MA\, 28 Mugford St\, Marblehead\, MA\, 01945\, United States
ORGANIZER;CN="Me&Thee":MAILTO:info@meandthee.org
END:VEVENT
BEGIN:VEVENT
DTSTART;TZID=America/New_York:20250307T200000
DTEND;TZID=America/New_York:20250307T220000
DTSTAMP:20260421T051100
CREATED:20241227T060133Z
LAST-MODIFIED:20241227T063753Z
UID:10000688-1741377600-1741384800@bostoncoffeehouses.org
SUMMARY:Porch Party Mamas
DESCRIPTION:Urban folk country and blues artists Porch Party Mamas make their debut at the Me&Thee on Friday\, March 7th at 8pm. Inspired by playing and singing each other’s songs at their porch parties\, these established Boston-area musicians and singer-songwriters combined talents to create a brand new type of band.
URL:https://bostoncoffeehouses.org/event/porch-party-mamas/
LOCATION:Me&Thee\, Marblehead MA\, 28 Mugford St\, Marblehead\, MA\, 01945\, United States
ORGANIZER;CN="Me&Thee":MAILTO:info@meandthee.org
END:VEVENT
BEGIN:VEVENT
DTSTART;TZID=America/New_York:20250228T220000
DTEND;TZID=America/New_York:20250228T220000
DTSTAMP:20260421T051100
CREATED:20241227T055647Z
LAST-MODIFIED:20241227T063607Z
UID:10000687-1740780000-1740780000@bostoncoffeehouses.org
SUMMARY:Sarah Blacker & the Light / Cara Brindisi opens
DESCRIPTION:The Me&Thee presents the 2024 New England Music Awards ‘Performer of the Year” Sarah Blacker and the Light on Friday\, February 28th at 8pm. Blacker has toured nationally and internationally playing to sold out shows throughout the U.S and Germany. She’s been called ‘her own artist’ by the Huffington Post and the Patriot Ledger coined her music as “soaring folk gospel.”
URL:https://bostoncoffeehouses.org/event/sarah-blacker-the-light-cara-brindisi-opens/
LOCATION:Me&Thee\, Marblehead MA\, 28 Mugford St\, Marblehead\, MA\, 01945\, United States
ORGANIZER;CN="Me&Thee":MAILTO:info@meandthee.org
END:VEVENT
BEGIN:VEVENT
DTSTART;TZID=America/New_York:20250207T200000
DTEND;TZID=America/New_York:20250207T220000
DTSTAMP:20260421T051100
CREATED:20241227T055346Z
LAST-MODIFIED:20241227T061728Z
UID:10000686-1738958400-1738965600@bostoncoffeehouses.org
SUMMARY:Fabiola Méndez Trio
DESCRIPTION:Me&Thee Music begins 2025 with the spirited upbeat music of Puerto Rico and the Fabiola Méndez Trio on Friday\, February 7 at 8 pm. Fabiola Méndez\, who was named Latin Artist of the Year at the Boston Music Awards\, is a gifted cuatrista\, singer\, educator\, and Emmy-nominated composer who brings her artistic vision\, energetic personality and original music to the stage in an exciting exploration of her culture\, ancestry and identities.
URL:https://bostoncoffeehouses.org/event/fabiola-mendez-trio/
LOCATION:Me&Thee\, Marblehead MA\, 28 Mugford St\, Marblehead\, MA\, 01945\, United States
ORGANIZER;CN="Me&Thee":MAILTO:info@meandthee.org
END:VEVENT
BEGIN:VEVENT
DTSTART;TZID=America/New_York:20241122T200000
DTEND;TZID=America/New_York:20241122T220000
DTSTAMP:20260421T051100
CREATED:20240807T212451Z
LAST-MODIFIED:20240807T222231Z
UID:10000464-1732305600-1732312800@bostoncoffeehouses.org
SUMMARY:Patty Larkin
DESCRIPTION:We wrap up our fall season with one of New England’s most extraordinary acoustic performers presenting a daring new project. Patty Larkin is a visionary of sound and wonder\, a real deal version of artistry made of equal parts guitar wizardry\, vocals shot through with soul and inventive lyrics that ripple across the heart. Sarah Blacker opens. \nBUY TICKETS
URL:https://bostoncoffeehouses.org/event/patty-larkin-at-the-methee/
LOCATION:Me&Thee\, Marblehead MA\, 28 Mugford St\, Marblehead\, MA\, 01945\, United States
ORGANIZER;CN="Me&Thee":MAILTO:info@meandthee.org
END:VEVENT
BEGIN:VEVENT
DTSTART;TZID=America/New_York:20241108T200000
DTEND;TZID=America/New_York:20241108T220000
DTSTAMP:20260421T051100
CREATED:20240807T221912Z
LAST-MODIFIED:20240807T222554Z
UID:10000463-1731096000-1731103200@bostoncoffeehouses.org
SUMMARY:Erin Ash Sullivan & Sam Robbins
DESCRIPTION:Get ready for a cool autumn night with two New England natives\, Erin Ash Sullivan and Sam Robbins sharing their music\, stories and connections. \nBUY TICKETS
URL:https://bostoncoffeehouses.org/event/erin-ash-sullivan-sam-robbins-at-the-methee/
LOCATION:Me&Thee\, Marblehead MA\, 28 Mugford St\, Marblehead\, MA\, 01945\, United States
ORGANIZER;CN="Me&Thee":MAILTO:info@meandthee.org
END:VEVENT
BEGIN:VEVENT
DTSTART;TZID=America/New_York:20241018T200000
DTEND;TZID=America/New_York:20241018T220000
DTSTAMP:20260421T051100
CREATED:20240807T201626Z
LAST-MODIFIED:20240807T222344Z
UID:10000462-1729281600-1729288800@bostoncoffeehouses.org
SUMMARY:Little Misty
DESCRIPTION:Continuing our month of leading Canadian music\, Little Misty is an indie-folk band founded in Montreal\, Quebec and led by Kathryn Samman (vocals) and François Jalbert (guitar). Although firmly grounded in folk music\, their repertoire mixes indie-rock with more broad compositions. From cinematic landscapes to wailing guitar solos\, the multi-lingual group explores a full range of musical possibilities\, always searching for innovative ways to serve their story telling.  \nBUY TICKETS
URL:https://bostoncoffeehouses.org/event/little-misty/
LOCATION:Me&Thee\, Marblehead MA\, 28 Mugford St\, Marblehead\, MA\, 01945\, United States
ORGANIZER;CN="Me&Thee":MAILTO:info@meandthee.org
END:VEVENT
BEGIN:VEVENT
DTSTART;TZID=America/New_York:20241004T200000
DTEND;TZID=America/New_York:20241004T220000
DTSTAMP:20260421T051100
CREATED:20240807T195130Z
LAST-MODIFIED:20240807T222735Z
UID:10000461-1728072000-1728079200@bostoncoffeehouses.org
SUMMARY:Scott Cook and Pamela Mae
DESCRIPTION:Award winning Canadian singer-songwriter Scott Cook with Pamela Mae will make their first stop at the Me&Thee in what promises to be an evening of optimistic and straightforward songs and stories in the spirit of Woody Guthrie. Scott and Pamela are touring across Canada and America with stops in Bozeman\, Edmonton\, Calgary\, Omaha\, Tulsa\, Ontario\, upstate New York and Marblehead! \nBUY TICKETS
URL:https://bostoncoffeehouses.org/event/scott-cook-and-pamela-mae/
LOCATION:Me&Thee\, Marblehead MA\, 28 Mugford St\, Marblehead\, MA\, 01945\, United States
ORGANIZER;CN="Me&Thee":MAILTO:info@meandthee.org
END:VEVENT
BEGIN:VEVENT
DTSTART;TZID=America/New_York:20240920T200000
DTEND;TZID=America/New_York:20240920T220000
DTSTAMP:20260421T051100
CREATED:20240807T193953Z
LAST-MODIFIED:20240807T222420Z
UID:10000460-1726862400-1726869600@bostoncoffeehouses.org
SUMMARY:Joe Jencks
DESCRIPTION:From coffeehouses to Carnegie Hall\, Joe Jencks has made a mark on the American music scene\, singing and telling stories that educate\, illuminate\, and uplift. His beautiful melodies\, socially conscious lyrics and spiritual exploration merge conservatory training with his Irish roots and working-class upbringing. \nBUY TICKETS
URL:https://bostoncoffeehouses.org/event/joe-jencks-3/
LOCATION:Me&Thee\, Marblehead MA\, 28 Mugford St\, Marblehead\, MA\, 01945\, United States
END:VEVENT
BEGIN:VEVENT
DTSTART;TZID=America/New_York:20240906T200000
DTEND;TZID=America/New_York:20240906T220000
DTSTAMP:20260421T051100
CREATED:20240807T193155Z
LAST-MODIFIED:20240904T185250Z
UID:10000459-1725652800-1725660000@bostoncoffeehouses.org
SUMMARY:Cheryl Wheeler
DESCRIPTION:Me&Thee Music kicks off its 55th season of great evenings with one of the finest singer-songwriters in New England\, Cheryl Wheeler\, who chose Marblehead to begin her fall tour. Wheeler blends her beautiful voice with a natural affinity for deep\, revealing storytelling layered with a fantastic sense of humor. \n—— SOLD OUT! ——
URL:https://bostoncoffeehouses.org/event/cheryl-wheeler/
LOCATION:Me&Thee\, Marblehead MA\, 28 Mugford St\, Marblehead\, MA\, 01945\, United States
END:VEVENT
BEGIN:VEVENT
DTSTART;TZID=America/New_York:20240517T200000
DTEND;TZID=America/New_York:20240517T220000
DTSTAMP:20260421T051100
CREATED:20240501T165851Z
LAST-MODIFIED:20240501T165943Z
UID:10000404-1715976000-1715983200@bostoncoffeehouses.org
SUMMARY:Vienna Teng with special guest Amber Rubarth
DESCRIPTION:Multi-talented singer-songwriter\, pianist\, and environmentalist Vienna Teng will grace the Me&Thee stage for the first time on Friday\, May 17th in our season’s closing event. Amber Rubarth opens this special concert. Amber has played her original music all around the world\, and can currently be seen on Apple TV alongside Joe Purdy in the feature film American Folk. Come see true twenty-first century artistry! \nWe only have a few tickets left. Buy yours now at https://ti.to/me-thee-music/vienna-teng
URL:https://bostoncoffeehouses.org/event/vienna-teng-with-special-guest-amber-rubarth/
LOCATION:Me&Thee\, Marblehead MA\, 28 Mugford St\, Marblehead\, MA\, 01945\, United States
ORGANIZER;CN="Me&Thee":MAILTO:info@meandthee.org
END:VEVENT
BEGIN:VEVENT
DTSTART;TZID=America/New_York:20240503T200000
DTEND;TZID=America/New_York:20240503T220000
DTSTAMP:20260421T051100
CREATED:20231216T044233Z
LAST-MODIFIED:20231216T044233Z
UID:10000319-1714766400-1714773600@bostoncoffeehouses.org
SUMMARY:The Nields
DESCRIPTION:With their un­par­al­leled ability to blend pop crafts­man­ship\, folk sen­si­bil­i­ty\, and the in­flu­ences of ’60s classic rock and ’90s al­ter­na­tive\, The Nields have created a dis­tinc­tive musical style that defies cat­e­go­riza­tion. Their songs\, imbued with in­tel­li­gence and oc­ca­sion­al humor\, offer poignant ob­ser­va­tions on life’s un­ex­pect­ed twists and turns. Apple Music de­scribes their sound as “equal parts The Beatles\, the cran­ber­ries\, and Joni Mitchell\,” a tes­ta­ment to their unique fusion of melodic sen­si­bil­i­ties. \nTickets: https://checkout.tito.io/me-thee-music/the-nields-2024
URL:https://bostoncoffeehouses.org/event/the-nields-3/
LOCATION:Me&Thee\, Marblehead MA\, 28 Mugford St\, Marblehead\, MA\, 01945\, United States
ORGANIZER;CN="Me&Thee":MAILTO:info@meandthee.org
END:VEVENT
BEGIN:VEVENT
DTSTART;TZID=America/New_York:20240419T200000
DTEND;TZID=America/New_York:20240419T220000
DTSTAMP:20260421T051100
CREATED:20231216T043906Z
LAST-MODIFIED:20231216T043906Z
UID:10000318-1713556800-1713564000@bostoncoffeehouses.org
SUMMARY:New Black Eagle Jazz Band
DESCRIPTION:For over fifty years\, from Sym­pho­ny Hall to Sin­ga­pore\, the New Black Eagle Jazz Band has de­light­ed au­di­ences world­wide with its in­fec­tious\, soulful and up­lift­ing style of tra­di­tion­al New Orleans jazz. \nTickets: https://checkout.tito.io/me-thee-music/new-black-eagle-jazz-band
URL:https://bostoncoffeehouses.org/event/new-black-eagle-jazz-band/
LOCATION:Me&Thee\, Marblehead MA\, 28 Mugford St\, Marblehead\, MA\, 01945\, United States
ORGANIZER;CN="Me&Thee":MAILTO:info@meandthee.org
END:VEVENT
BEGIN:VEVENT
DTSTART;TZID=America/New_York:20240405T200000
DTEND;TZID=America/New_York:20240405T220000
DTSTAMP:20260421T051100
CREATED:20231216T043624Z
LAST-MODIFIED:20231216T043624Z
UID:10000317-1712347200-1712354400@bostoncoffeehouses.org
SUMMARY:The Kennedys
DESCRIPTION:Song­writ­ing duo Pete and Maura Kennedy make a strong return to the studio and stage after three years of weekly live-streamed lock­down-era con­certs. They took the op­por­tu­ni­ty to explore classic song­writ­ing in depth\, per­form­ing over a thou­sand songs during the pan­dem­ic. In ad­di­tion to singing and writing\, Pete and Maura are mul­ti-in­stru­men­tal­ists. Their songs are cast in a sound­scape that draws from the classic canon of Amer­i­can roots\, in keeping with the theme of getting back “home” as a nation. \nTickets: https://checkout.tito.io/me-thee-music/the-kennedys
URL:https://bostoncoffeehouses.org/event/the-kennedys-4/
LOCATION:Me&Thee\, Marblehead MA\, 28 Mugford St\, Marblehead\, MA\, 01945\, United States
ORGANIZER;CN="Me&Thee":MAILTO:info@meandthee.org
END:VEVENT
BEGIN:VEVENT
DTSTART;TZID=America/New_York:20240315T200000
DTEND;TZID=America/New_York:20240315T220000
DTSTAMP:20260421T051100
CREATED:20231216T042848Z
LAST-MODIFIED:20231216T043054Z
UID:10000316-1710532800-1710540000@bostoncoffeehouses.org
SUMMARY:Abbie Gardner
DESCRIPTION:Abbie Gardner is a fiery dobro player with an in­fec­tious smile. Whether per­form­ing solo or with Amer­i­cana harmony trio Red Molly\, her ac­claimed tales of love and loss\, both gritty and sweet\, are pro­pelled by her im­pec­ca­ble lap style slide guitar playing. \nTickets: https://checkout.tito.io/me-thee-music/abbie-gardner-2024
URL:https://bostoncoffeehouses.org/event/abbie-gardner-2/
LOCATION:Me&Thee\, Marblehead MA\, 28 Mugford St\, Marblehead\, MA\, 01945\, United States
ORGANIZER;CN="Me&Thee":MAILTO:info@meandthee.org
END:VEVENT
BEGIN:VEVENT
DTSTART;TZID=America/New_York:20240301T200000
DTEND;TZID=America/New_York:20240301T220000
DTSTAMP:20260421T051100
CREATED:20231216T042538Z
LAST-MODIFIED:20231216T045030Z
UID:10000315-1709323200-1709330400@bostoncoffeehouses.org
SUMMARY:Vance Gilbert / Andrew Dunn with Todd Dennison
DESCRIPTION:“If Joni Mitchell and Richie Havens had a love child\, with Rodney Dan­ger­field as the midwife\, the results might be some­thing close to the great Vance Gilbert\,” says Rich­mond Mag­a­zine. \nTickets: https://checkout.tito.io/me-thee-music/vance-gilbert-2024
URL:https://bostoncoffeehouses.org/event/vance-gilbert-andrew-dunn-with-todd-dennison/
LOCATION:Me&Thee\, Marblehead MA\, 28 Mugford St\, Marblehead\, MA\, 01945\, United States
END:VEVENT
BEGIN:VEVENT
DTSTART;TZID=America/New_York:20240216T200000
DTEND;TZID=America/New_York:20240216T220000
DTSTAMP:20260421T051100
CREATED:20231216T041619Z
LAST-MODIFIED:20231216T045225Z
UID:10000314-1708113600-1708120800@bostoncoffeehouses.org
SUMMARY:Amy Speace
DESCRIPTION:Her­ald­ed by Rolling Stone and Bill­board Mag­a­zine\, Amy Speace is one of con­tem­po­rary folk and Amer­i­cana music’s leading voices of the new gen­er­a­tion. \nTickets: https://checkout.tito.io/me-thee-music/amy-speace
URL:https://bostoncoffeehouses.org/event/amy-speace/
LOCATION:Me&Thee\, Marblehead MA\, 28 Mugford St\, Marblehead\, MA\, 01945\, United States
ORGANIZER;CN="Me&Thee":MAILTO:info@meandthee.org
END:VEVENT
BEGIN:VEVENT
DTSTART;TZID=America/New_York:20240202T200000
DTEND;TZID=America/New_York:20240202T220000
DTSTAMP:20260421T051100
CREATED:20231216T041102Z
LAST-MODIFIED:20231216T041102Z
UID:10000313-1706904000-1706911200@bostoncoffeehouses.org
SUMMARY:Sol y Canto
DESCRIPTION:Sol y Canto is the award winning Pan-Latin ensemble led by Puerto Rican/Argentine singer and percussionist Rosi Amador and New Mexican guitarist\, singer and composer Brian Amador. Featuring Rosi’s crystalline voice and Brian’s lush Spanish guitar and inventive compositions\, Sol y Canto is known for making their music accessible to Spanish- and non-Spanish speaking audiences of all ages.  \nTickets: https://checkout.tito.io/me-thee-music/sol-y-canto
URL:https://bostoncoffeehouses.org/event/sol-y-canto-3/
LOCATION:Me&Thee\, Marblehead MA\, 28 Mugford St\, Marblehead\, MA\, 01945\, United States
ORGANIZER;CN="Me&Thee":MAILTO:info@meandthee.org
END:VEVENT
BEGIN:VEVENT
DTSTART;TZID=America/New_York:20231208T200000
DTEND;TZID=America/New_York:20231208T220000
DTSTAMP:20260421T051100
CREATED:20230813T173202Z
LAST-MODIFIED:20230813T175238Z
UID:10000218-1702065600-1702072800@bostoncoffeehouses.org
SUMMARY:Mason Daring & Jeanie Stahl at Me&Thee Music Friday\, Dec. 8
DESCRIPTION:50th anniversary concert!\nTickets: https://ti.to/me-thee-music
URL:https://bostoncoffeehouses.org/event/mason-daring-jeanie-stahl-at-methee-music-friday-dec-8/
LOCATION:Me&Thee\, Marblehead MA\, 28 Mugford St\, Marblehead\, MA\, 01945\, United States
END:VEVENT
BEGIN:VEVENT
DTSTART;TZID=America/New_York:20231117T200000
DTEND;TZID=America/New_York:20231117T220000
DTSTAMP:20260421T051100
CREATED:20230813T173001Z
LAST-MODIFIED:20230813T174500Z
UID:10000217-1700251200-1700258400@bostoncoffeehouses.org
SUMMARY:Rani Arbo & daisy mayhem at Me&Thee Music Friday\, Nov. 17
DESCRIPTION:Tickets: https://ti.to/me-thee-music
URL:https://bostoncoffeehouses.org/event/rani-arbo-daisy-mayhem-at-methee-music-friday-nov-17/
LOCATION:Me&Thee\, Marblehead MA\, 28 Mugford St\, Marblehead\, MA\, 01945\, United States
END:VEVENT
BEGIN:VEVENT
DTSTART;TZID=America/New_York:20231103T200000
DTEND;TZID=America/New_York:20231103T220000
DTSTAMP:20260421T051100
CREATED:20230813T172909Z
LAST-MODIFIED:20230813T174524Z
UID:10000216-1699041600-1699048800@bostoncoffeehouses.org
SUMMARY:Wangari Fahari Trio at Me&Thee Music Friday\, Nov. 3
DESCRIPTION:Tickets: https://ti.to/me-thee-music
URL:https://bostoncoffeehouses.org/event/wangari-fahari-trio-at-methee-music-friday-nov-3/
LOCATION:Me&Thee\, Marblehead MA\, 28 Mugford St\, Marblehead\, MA\, 01945\, United States
END:VEVENT
BEGIN:VEVENT
DTSTART;TZID=America/New_York:20231020T200000
DTEND;TZID=America/New_York:20231020T220000
DTSTAMP:20260421T051100
CREATED:20230813T172715Z
LAST-MODIFIED:20230813T174429Z
UID:10000215-1697832000-1697839200@bostoncoffeehouses.org
SUMMARY:An evening with Chris Smither at Me&Thee Music Friday\, Oct. 20
DESCRIPTION:Tickets: https://ti.to/me-thee-music
URL:https://bostoncoffeehouses.org/event/an-evening-with-chris-smither-at-methee-music-friday-oct-20/
LOCATION:Me&Thee\, Marblehead MA\, 28 Mugford St\, Marblehead\, MA\, 01945\, United States
END:VEVENT
BEGIN:VEVENT
DTSTART;TZID=America/New_York:20231006T200000
DTEND;TZID=America/New_York:20231006T220000
DTSTAMP:20260421T051100
CREATED:20230813T172620Z
LAST-MODIFIED:20230813T174550Z
UID:10000214-1696622400-1696629600@bostoncoffeehouses.org
SUMMARY:Catie Curtis at Me&Thee Music Friday\, Oct. 6
DESCRIPTION:Tickets: https://ti.to/me-thee-music
URL:https://bostoncoffeehouses.org/event/catie-curtis-at-methee-music-friday-oct-6/
LOCATION:Me&Thee\, Marblehead MA\, 28 Mugford St\, Marblehead\, MA\, 01945\, United States
END:VEVENT
BEGIN:VEVENT
DTSTART;TZID=America/New_York:20230908T200000
DTEND;TZID=America/New_York:20230908T220000
DTSTAMP:20260421T051100
CREATED:20230813T172153Z
LAST-MODIFIED:20230813T174705Z
UID:10000212-1694203200-1694210400@bostoncoffeehouses.org
SUMMARY:Christine Lavin at Me&Thee Music Friday\, Sept. 8
DESCRIPTION:Tickets: https://ti.to/me-thee-music
URL:https://bostoncoffeehouses.org/event/christine-lavin-at-methee-music-friday-sept-8/
LOCATION:Me&Thee\, Marblehead MA\, 28 Mugford St\, Marblehead\, MA\, 01945\, United States
END:VEVENT
BEGIN:VEVENT
DTSTART;TZID=America/New_York:20230519T200000
DTEND;TZID=America/New_York:20230519T220000
DTSTAMP:20260421T051100
CREATED:20230423T041900Z
LAST-MODIFIED:20230423T041900Z
UID:10000179-1684526400-1684533600@bostoncoffeehouses.org
SUMMARY:THE SQUEEZEBOX STOMPERS at Me&Thee Music Friday\, May 19
DESCRIPTION:The Squeezebox Stompers return to the Me&Thee to close our season with a CD Release “Mardi Gras in May” Concert & Dance. Performing high-energy Cajun\, Zydeco\, Blues\, Folk and originals\, the Stompers always get folks up and moving with their engaging step-lively up-beat music. Their instrumentation includes accordion\, keyboards\, fiddle\, saxophone\, harmonica\, penny whistle\, guitars\, bass\, drums and scrub board that they may ask you play! Party-lit Stetson Hall will be renamed Stetson (Dance) Hall for the evening.
URL:https://bostoncoffeehouses.org/event/the-squeezebox-stompers-at-methee-music-friday-may-19/
LOCATION:Me&Thee\, Marblehead MA\, 28 Mugford St\, Marblehead\, MA\, 01945\, United States
END:VEVENT
BEGIN:VEVENT
DTSTART;TZID=America/New_York:20230505T200000
DTEND;TZID=America/New_York:20230505T220000
DTSTAMP:20260421T051100
CREATED:20230423T040826Z
LAST-MODIFIED:20230423T041201Z
UID:10000178-1683316800-1683324000@bostoncoffeehouses.org
SUMMARY:PETER PARCEK and DANIELLE MIRAGLIA at Me&Thee Music Friday\, May 5
DESCRIPTION:Two Time Blues Artist of the Year Nominee Peter Parcek and New England Blues Act of the Year Danielle Miraglia join forces for this memorable night of blues\, Bob Dylan\, and much more at the Me&Thee.
URL:https://bostoncoffeehouses.org/event/peter-parcek-and-danielle-miraglia-at-methee-music-friday-may-5/
LOCATION:Me&Thee\, Marblehead MA\, 28 Mugford St\, Marblehead\, MA\, 01945\, United States
END:VEVENT
BEGIN:VEVENT
DTSTART;TZID=America/New_York:20230428T200000
DTEND;TZID=America/New_York:20230428T220000
DTSTAMP:20260421T051100
CREATED:20230423T034341Z
LAST-MODIFIED:20230423T035014Z
UID:10000177-1682712000-1682719200@bostoncoffeehouses.org
SUMMARY:JOHN GORKA at Me&Thee Music April 28\, 2023
DESCRIPTION:We are so happy to welcome John Gorka back to the Me&Thee\, where he has played to packed houses for years. John is a world-renowned singer-songwriter who got his start at a neighborhood coffeehouse in eastern Pennsylvania — Godfrey Daniels. Please note: masks are mandatory at this concert\, at the artist’s request.
URL:https://bostoncoffeehouses.org/event/john-gorka-at-methee-music-april-28-2023/
LOCATION:Me&Thee\, Marblehead MA\, 28 Mugford St\, Marblehead\, MA\, 01945\, United States
END:VEVENT
END:VCALENDAR