BEGIN:VCALENDAR
VERSION:2.0
PRODID:-//BACHA - ECPv6.15.19//NONSGML v1.0//EN
CALSCALE:GREGORIAN
METHOD:PUBLISH
X-ORIGINAL-URL:https://bostoncoffeehouses.org
X-WR-CALDESC:Events for BACHA
REFRESH-INTERVAL;VALUE=DURATION:PT1H
X-Robots-Tag:noindex
X-PUBLISHED-TTL:PT1H
BEGIN:VTIMEZONE
TZID:America/New_York
BEGIN:DAYLIGHT
TZOFFSETFROM:-0500
TZOFFSETTO:-0400
TZNAME:EDT
DTSTART:20250309T070000
END:DAYLIGHT
BEGIN:STANDARD
TZOFFSETFROM:-0400
TZOFFSETTO:-0500
TZNAME:EST
DTSTART:20251102T060000
END:STANDARD
BEGIN:DAYLIGHT
TZOFFSETFROM:-0500
TZOFFSETTO:-0400
TZNAME:EDT
DTSTART:20260308T070000
END:DAYLIGHT
BEGIN:STANDARD
TZOFFSETFROM:-0400
TZOFFSETTO:-0500
TZNAME:EST
DTSTART:20261101T060000
END:STANDARD
BEGIN:DAYLIGHT
TZOFFSETFROM:-0500
TZOFFSETTO:-0400
TZNAME:EDT
DTSTART:20270314T070000
END:DAYLIGHT
BEGIN:STANDARD
TZOFFSETFROM:-0400
TZOFFSETTO:-0500
TZNAME:EST
DTSTART:20271107T060000
END:STANDARD
END:VTIMEZONE
BEGIN:VEVENT
DTSTART;TZID=America/New_York:20260501T200000
DTEND;TZID=America/New_York:20260501T220000
DTSTAMP:20260421T005945
CREATED:20260118T053102Z
LAST-MODIFIED:20260118T053102Z
UID:10001010-1777665600-1777672800@bostoncoffeehouses.org
SUMMARY:The Smack Dabs
DESCRIPTION:Join us to welcome good-time Swing Blues Band The Smack Dabs to the Me&Thee for the first time. Specializing in swing blues of the 1930’s\, the Smack Dabs present a rich variety of musical styles from mournful blues to joyful celebrations\, setting the stage for incredible solo and group improvisations with songs of Tampa Red\, Big Bill Broonzy\, The Harlem Hamfats and many others.
URL:https://bostoncoffeehouses.org/event/the-smack-dabs-2/
LOCATION:Me&Thee\, Marblehead MA\, 28 Mugford St\, Marblehead\, MA\, 01945\, United States
ORGANIZER;CN="Me&Thee":MAILTO:info@meandthee.org
END:VEVENT
BEGIN:VEVENT
DTSTART;TZID=America/New_York:20260515T200000
DTEND;TZID=America/New_York:20260515T220000
DTSTAMP:20260421T005945
CREATED:20260118T053336Z
LAST-MODIFIED:20260118T053336Z
UID:10001011-1778875200-1778882400@bostoncoffeehouses.org
SUMMARY:Lucy Kaplansky
DESCRIPTION:We end our 56th Season with acclaimed singer-songwriter Lucy Kaplansky\, who the New Yorker called “a truly gifted performer with a bagful of enchanting songs.” Lucy has released 9 critically acclaimed CD’s\, two of which were awarded Best Pop Album of the year by the Association of Independent Music. NPR described her 2012 album Reunion as “a master class in making the personal universal\,” and Scott Simon of National Public Radio called her new album\, Last Days of Summer\, released in June 2022\, “Absolutely wonderful . . . utterly beautiful and affecting . . . Lucy sings songs from her life with resonance in ours.”
URL:https://bostoncoffeehouses.org/event/lucy-kaplansky-2/
LOCATION:Me&Thee\, Marblehead MA\, 28 Mugford St\, Marblehead\, MA\, 01945\, United States
ORGANIZER;CN="Me&Thee":MAILTO:info@meandthee.org
END:VEVENT
END:VCALENDAR