BEGIN:VCALENDAR
VERSION:2.0
PRODID:-//BACHA - ECPv6.15.19//NONSGML v1.0//EN
CALSCALE:GREGORIAN
METHOD:PUBLISH
X-ORIGINAL-URL:https://bostoncoffeehouses.org
X-WR-CALDESC:Events for BACHA
REFRESH-INTERVAL;VALUE=DURATION:PT1H
X-Robots-Tag:noindex
X-PUBLISHED-TTL:PT1H
BEGIN:VTIMEZONE
TZID:America/New_York
BEGIN:DAYLIGHT
TZOFFSETFROM:-0500
TZOFFSETTO:-0400
TZNAME:EDT
DTSTART:20210314T070000
END:DAYLIGHT
BEGIN:STANDARD
TZOFFSETFROM:-0400
TZOFFSETTO:-0500
TZNAME:EST
DTSTART:20211107T060000
END:STANDARD
BEGIN:DAYLIGHT
TZOFFSETFROM:-0500
TZOFFSETTO:-0400
TZNAME:EDT
DTSTART:20220313T070000
END:DAYLIGHT
BEGIN:STANDARD
TZOFFSETFROM:-0400
TZOFFSETTO:-0500
TZNAME:EST
DTSTART:20221106T060000
END:STANDARD
BEGIN:DAYLIGHT
TZOFFSETFROM:-0500
TZOFFSETTO:-0400
TZNAME:EDT
DTSTART:20230312T070000
END:DAYLIGHT
BEGIN:STANDARD
TZOFFSETFROM:-0400
TZOFFSETTO:-0500
TZNAME:EST
DTSTART:20231105T060000
END:STANDARD
END:VTIMEZONE
BEGIN:VEVENT
DTSTART;TZID=America/New_York:20220507T190000
DTEND;TZID=America/New_York:20220507T200000
DTSTAMP:20260423T173951
CREATED:20220306T020806Z
LAST-MODIFIED:20220306T024705Z
UID:10000002-1651950000-1651953600@bostoncoffeehouses.org
SUMMARY:John McCutcheon - The Story Behind the Song
DESCRIPTION:
URL:https://bostoncoffeehouses.org/event/john-mccutcheon-the-story-behind-the-song/
LOCATION:Livestream with Peterborough Folk Music
END:VEVENT
BEGIN:VEVENT
DTSTART;TZID=America/New_York:20220410T190000
DTEND;TZID=America/New_York:20220410T200000
DTSTAMP:20260423T173951
CREATED:20220306T010804Z
LAST-MODIFIED:20220306T011203Z
UID:10000010-1649617200-1649620800@bostoncoffeehouses.org
SUMMARY:John McCutcheon - Instrumentalists in the Round
DESCRIPTION:This event is a part of a 4 show series. \nView full series here. \n\n\nJohn McCutcheon – Instrumentalists in the Round – Livestream Ticket\nSUN APRIL 10TH 2022 | 48 HOUR REPLAY\n\n\n\n               Default Title – $20.00\n\nTicket type \n\nLivestream Ticket$20.00\n\n\n\nJOHN MCCUTCHEON LIVESTREAM TICKET INCLUDES:  \n\nOne (1) entry into the livestream concert on 4/10\nUnlimited replay available on demand for 48 hours ending at 11:59pm ET on 4/12\n\n  \n\nbuy now\n\n\n\n\n\nAbout this Event\nSunday\, April 10th at 7:00 PM ET \nJohn will be joined by several of his favorite instrumentalists (Alasdair Fraser & Natalie Haas\, Howard Levy\, and Muriel Anderson) for a round-robin of string wizardry\, conversation\, and fun. \nhttps://alasdairandnatalie.com/ \nhttps://levyland.com/ \nhttps://murielanderson.com/
URL:https://bostoncoffeehouses.org/event/john-mccutcheon-instrumentalists-in-the-round/
LOCATION:Livestream with Peterborough Folk Music
END:VEVENT
BEGIN:VEVENT
DTSTART;TZID=America/New_York:20220403T190000
DTEND;TZID=America/New_York:20220403T200000
DTSTAMP:20260423T173951
CREATED:20220308T034505Z
LAST-MODIFIED:20220308T034530Z
UID:10000021-1649012400-1649016000@bostoncoffeehouses.org
SUMMARY:John McCutcheon – Songwriters in the Round
DESCRIPTION:This event is a part of a 4 show series. \nView full series here. \n\n\nJohn McCutcheon – Songwriters in the Round – Livestream Ticket\nSUN APRIL 3RD 2022 | 48 HOUR REPLAY\n\n\n\n               Default Title – $20.00\n\nTicket type \n\nLivestream Ticket$20.00\n\n\n\nJOHN MCCUTCHEON LIVESTREAM TICKET INCLUDES:  \n\nOne (1) entry into the livestream concert on 4/3\nUnlimited replay available on demand for 48 hours ending at 11:59pm ET on 4/5\n\n  \n\nbuy now\n\n\n\n\n\nAbout this Event\nSunday\, April 3rd at 7:00 PM ET \nJohn will be joined by three of his favorite songwriters (Darrell Scott\, Beth Nielsen Chapman\, and Crys Matthews) for a round-robin of amazing songs. These writers will talk about the songs\, their writing process\, and how they bring what’s inside\, outside. \nhttps://www.darrellscott.com/ \nhttps://bethnielsenchapman.com/ \nhttps://www.crysmatthews.com/
URL:https://bostoncoffeehouses.org/event/john-mccutcheon-songwriters-in-the-round/
LOCATION:Livestream with Peterborough Folk Music
END:VEVENT
BEGIN:VEVENT
DTSTART;TZID=America/New_York:20220306T190000
DTEND;TZID=America/New_York:20220306T200000
DTSTAMP:20260423T173951
CREATED:20220306T004858Z
LAST-MODIFIED:20220306T005753Z
UID:10000007-1646593200-1646596800@bostoncoffeehouses.org
SUMMARY:John McCutcheon - 50 Years of Traditional Music
DESCRIPTION:Sunday\, March 6th at 7:00 PM ET \nThis event is a part of a 4 show series. \nThough John is often thought of as one of the most prolific and powerful songwriters in folk music\, his roots are firmly planted in traditional music. As a young 20-year-old he traveled the Appalachians\, apprenticing himself to some of the greats of traditional Southern music. This concert will feature an homage to his many mentors\, selections from his field recordings housed at the Library of Congress’ Archive of American Folksong\, and some very special surprises.
URL:https://bostoncoffeehouses.org/event/john-mccutcheon-50-years-of-traditional-music/
LOCATION:Livestream with Peterborough Folk Music
END:VEVENT
END:VCALENDAR