BEGIN:VCALENDAR
VERSION:2.0
PRODID:-//BACHA - ECPv6.15.19//NONSGML v1.0//EN
CALSCALE:GREGORIAN
METHOD:PUBLISH
X-ORIGINAL-URL:https://bostoncoffeehouses.org
X-WR-CALDESC:Events for BACHA
REFRESH-INTERVAL;VALUE=DURATION:PT1H
X-Robots-Tag:noindex
X-PUBLISHED-TTL:PT1H
BEGIN:VTIMEZONE
TZID:America/New_York
BEGIN:DAYLIGHT
TZOFFSETFROM:-0500
TZOFFSETTO:-0400
TZNAME:EDT
DTSTART:20240310T070000
END:DAYLIGHT
BEGIN:STANDARD
TZOFFSETFROM:-0400
TZOFFSETTO:-0500
TZNAME:EST
DTSTART:20241103T060000
END:STANDARD
BEGIN:DAYLIGHT
TZOFFSETFROM:-0500
TZOFFSETTO:-0400
TZNAME:EDT
DTSTART:20250309T070000
END:DAYLIGHT
BEGIN:STANDARD
TZOFFSETFROM:-0400
TZOFFSETTO:-0500
TZNAME:EST
DTSTART:20251102T060000
END:STANDARD
BEGIN:DAYLIGHT
TZOFFSETFROM:-0500
TZOFFSETTO:-0400
TZNAME:EDT
DTSTART:20260308T070000
END:DAYLIGHT
BEGIN:STANDARD
TZOFFSETFROM:-0400
TZOFFSETTO:-0500
TZNAME:EST
DTSTART:20261101T060000
END:STANDARD
END:VTIMEZONE
BEGIN:VEVENT
DTSTART;TZID=America/New_York:20250316T110000
DTEND;TZID=America/New_York:20250316T130000
DTSTAMP:20260421T140639
CREATED:20240630T143415Z
LAST-MODIFIED:20240912T142058Z
UID:10000432-1742122800-1742130000@bostoncoffeehouses.org
SUMMARY:"Singing for Justice" - Faith Petric documentary viewing and singalong
DESCRIPTION:Sunday\, March 16\, 2025\, 11am ET\nCommunity Church of Boston\, 565 Boylston St.\, Boston\nFree! (Donations gratefully accepted) \nThis event is co-sponsored by the Community Church of Boston and FSSGB \nLearn about the musical and political history of Faith Petric and the role of folk music in progressive politics in 20th and 21st-century America. Faith Petric (1915-2013) proudly called herself a radical\, and she chose folk music as her vehicle for creating a more just world. \nA student peace activist in her 20s\, she continued to protest war as a Raging Granny in her 80s. She aided migrant workers in California during the Great Depression\, built Liberty Ships during World War II\, faced Cold War-era FBI surveillance\, and marched for racial justice in Selma\, AL. A single working mother\, Faith retired in 1970 at age 55 and reinvented herself as a traveling folk singer\, performing nationally and internationally into her 90s. \nSinging for Justice is produced and directed by award-winning Stanford historian Estelle Freedman and award-winning documentary filmmaker Christie Herring. Singer-songwriter and multi-instrumentalist John McCutcheon is the Composer and Musical Supervisor.
URL:https://bostoncoffeehouses.org/event/singing-for-justice-faith-petric-documentary-viewing-and-singalong/
LOCATION:Community Church of Boston\, 565 Boylston St.\, Boston\, MA\, 01720\, United States
CATEGORIES:Music
ATTACH;FMTTYPE=image/png:https://bostoncoffeehouses.org/wp-content/uploads/2024/06/petric.png
END:VEVENT
END:VCALENDAR