BEGIN:VCALENDAR
VERSION:2.0
PRODID:-//BACHA - ECPv6.15.19//NONSGML v1.0//EN
CALSCALE:GREGORIAN
METHOD:PUBLISH
X-ORIGINAL-URL:https://bostoncoffeehouses.org
X-WR-CALDESC:Events for BACHA
REFRESH-INTERVAL;VALUE=DURATION:PT1H
X-Robots-Tag:noindex
X-PUBLISHED-TTL:PT1H
BEGIN:VTIMEZONE
TZID:America/New_York
BEGIN:DAYLIGHT
TZOFFSETFROM:-0500
TZOFFSETTO:-0400
TZNAME:EDT
DTSTART:20230312T070000
END:DAYLIGHT
BEGIN:STANDARD
TZOFFSETFROM:-0400
TZOFFSETTO:-0500
TZNAME:EST
DTSTART:20231105T060000
END:STANDARD
BEGIN:DAYLIGHT
TZOFFSETFROM:-0500
TZOFFSETTO:-0400
TZNAME:EDT
DTSTART:20240310T070000
END:DAYLIGHT
BEGIN:STANDARD
TZOFFSETFROM:-0400
TZOFFSETTO:-0500
TZNAME:EST
DTSTART:20241103T060000
END:STANDARD
BEGIN:DAYLIGHT
TZOFFSETFROM:-0500
TZOFFSETTO:-0400
TZNAME:EDT
DTSTART:20250309T070000
END:DAYLIGHT
BEGIN:STANDARD
TZOFFSETFROM:-0400
TZOFFSETTO:-0500
TZNAME:EST
DTSTART:20251102T060000
END:STANDARD
END:VTIMEZONE
BEGIN:VEVENT
DTSTART;TZID=America/New_York:20240817T130000
DTEND;TZID=America/New_York:20240817T210000
DTSTAMP:20260421T194338
CREATED:20240803T124552Z
LAST-MODIFIED:20240804T012537Z
UID:10000435-1723899600-1723928400@bostoncoffeehouses.org
SUMMARY:Revival / Gathering
DESCRIPTION:Join us in Hopkinton MA to reignite the spirit of the legendary Old Vienna Kaffeehaus.\nReservations and more information\nDirections & Show Information  are included in an email after making your ticket donation in any amount.\nFeaturing:\nLori McKenna\nChristine Lavin\nCliff Eberhardt\nDuke Levine\nBarbara Kessler\nDon White\nDeborah Henson-Conant\nPeter Mulvey\nDiane Zeigler w/ Geoffrey Cary Sather\nJim Infantino\nBuddy Mondlock\nPaul Della Valle w/ Walter Crockett\nEmilia Ali\nJan Luby\nwith Special Guests Bob Malone\, Richard Cambridge\, Lydia Hutchinson\,\nMarilyn Rea Beyer\, Todd Winmill\, Ellen Karas\, Robert Haigh\, Timothy Mason and more!
URL:https://bostoncoffeehouses.org/event/revival-gathering/
LOCATION:Old Vienna Kaffeehaus\, Hopjinton\, MA\, 01748\, United States
ATTACH;FMTTYPE=image/jpeg:https://bostoncoffeehouses.org/wp-content/uploads/2024/08/ovk-image.jpg
END:VEVENT
END:VCALENDAR