BEGIN:VCALENDAR
VERSION:2.0
PRODID:-//BACHA - ECPv6.15.19//NONSGML v1.0//EN
CALSCALE:GREGORIAN
METHOD:PUBLISH
X-ORIGINAL-URL:https://bostoncoffeehouses.org
X-WR-CALDESC:Events for BACHA
REFRESH-INTERVAL;VALUE=DURATION:PT1H
X-Robots-Tag:noindex
X-PUBLISHED-TTL:PT1H
BEGIN:VTIMEZONE
TZID:America/New_York
BEGIN:DAYLIGHT
TZOFFSETFROM:-0500
TZOFFSETTO:-0400
TZNAME:EDT
DTSTART:20220313T070000
END:DAYLIGHT
BEGIN:STANDARD
TZOFFSETFROM:-0400
TZOFFSETTO:-0500
TZNAME:EST
DTSTART:20221106T060000
END:STANDARD
BEGIN:DAYLIGHT
TZOFFSETFROM:-0500
TZOFFSETTO:-0400
TZNAME:EDT
DTSTART:20230312T070000
END:DAYLIGHT
BEGIN:STANDARD
TZOFFSETFROM:-0400
TZOFFSETTO:-0500
TZNAME:EST
DTSTART:20231105T060000
END:STANDARD
BEGIN:DAYLIGHT
TZOFFSETFROM:-0500
TZOFFSETTO:-0400
TZNAME:EDT
DTSTART:20240310T070000
END:DAYLIGHT
BEGIN:STANDARD
TZOFFSETFROM:-0400
TZOFFSETTO:-0500
TZNAME:EST
DTSTART:20241103T060000
END:STANDARD
BEGIN:DAYLIGHT
TZOFFSETFROM:-0500
TZOFFSETTO:-0400
TZNAME:EDT
DTSTART:20250309T070000
END:DAYLIGHT
BEGIN:STANDARD
TZOFFSETFROM:-0400
TZOFFSETTO:-0500
TZNAME:EST
DTSTART:20251102T060000
END:STANDARD
BEGIN:DAYLIGHT
TZOFFSETFROM:-0500
TZOFFSETTO:-0400
TZNAME:EDT
DTSTART:20260308T070000
END:DAYLIGHT
BEGIN:STANDARD
TZOFFSETFROM:-0400
TZOFFSETTO:-0500
TZNAME:EST
DTSTART:20261101T060000
END:STANDARD
BEGIN:DAYLIGHT
TZOFFSETFROM:-0500
TZOFFSETTO:-0400
TZNAME:EDT
DTSTART:20270314T070000
END:DAYLIGHT
BEGIN:STANDARD
TZOFFSETFROM:-0400
TZOFFSETTO:-0500
TZNAME:EST
DTSTART:20271107T060000
END:STANDARD
END:VTIMEZONE
BEGIN:VEVENT
DTSTART;TZID=America/New_York:20260314T193000
DTEND;TZID=America/New_York:20260314T220000
DTSTAMP:20260422T160721
CREATED:20250704T142318Z
LAST-MODIFIED:20250704T142318Z
UID:10000858-1773516600-1773525600@bostoncoffeehouses.org
SUMMARY:Danielle Miraglia and Rupert Wates
DESCRIPTION:A double bill of blues/Americana artist Danielle Miraglia and the haunting songwriting of London-born Rupert Wates who has toured with great success in  Europe\, and several English-speaking countries such as Canada and Australia. \nReserve tickets by emailing musiconcentre@gmail.com. Admission is $25 for adults and $10 for 21 and under. There are no advance ticket sales. Pay at the door with cash or credit card. More information is available at www.tparkerchurch.org/events or by phone at 617-327-0542.
URL:https://bostoncoffeehouses.org/event/danielle-miraglia-and-rupert-wates/
LOCATION:Music on Centre\, West Roxbury MA\, 1859 Centre St\, West Roxbury\, MA\, 02132\, United States
END:VEVENT
BEGIN:VEVENT
DTSTART;TZID=America/New_York:20260214T193000
DTEND;TZID=America/New_York:20260214T220000
DTSTAMP:20260422T160721
CREATED:20251129T164031Z
LAST-MODIFIED:20251129T164031Z
UID:10000973-1771097400-1771106400@bostoncoffeehouses.org
SUMMARY:Heather Pierson Trio
DESCRIPTION:Heather Pierson is back with her original trio – Heather on piano\, guitar\, banjo  and vocals\,  Shawn on guitar and vocals\, and the amazing Davey on everything else! A regional favorite making a special appearance in Boston/West Roxbury. \nReserve tickets at musiconcentre@gmail.com. No advance sales. Pay at the door\, cash preferred but can accept credit cards. Delicious desserts\, free parking\, great music\, who could ask for more?
URL:https://bostoncoffeehouses.org/event/heather-pierson-trio-2/
LOCATION:Music on Centre\, West Roxbury MA\, 1859 Centre St\, West Roxbury\, MA\, 02132\, United States
CATEGORIES:Americana
END:VEVENT
BEGIN:VEVENT
DTSTART;TZID=America/New_York:20251004T193000
DTEND;TZID=America/New_York:20251004T220000
DTSTAMP:20260422T160721
CREATED:20250704T134227Z
LAST-MODIFIED:20250704T134227Z
UID:10000855-1759606200-1759615200@bostoncoffeehouses.org
SUMMARY:Samodivi - Vessela Stoyanova and the Balkan Music Ensemble
DESCRIPTION:An ultra-talented group of Berklee College of Music has created an ensemble of lively Eastern European music.  Led by Vessela Stoyanova from Bulgaria\, this multi-person group offers an enthralling mix of vocals and instruments\, including Vessela on the electric marimba along with violin\, percussion\, and other string and wind instruments. \nReserve tickets by emailing musiconcentre@gmail.com. Admission is $25 for adults and $10 for 21 and under. There are no advance ticket sales. Pay at the door with cash or credit card. More information is available at www.tparkerchurch.org/events or by phone at 617-327-0532.
URL:https://bostoncoffeehouses.org/event/samodivi-vessela-stoyanova-and-the-balkan-music-ensemble/
LOCATION:Music on Centre\, West Roxbury MA\, 1859 Centre St\, West Roxbury\, MA\, 02132\, United States
END:VEVENT
BEGIN:VEVENT
DTSTART;TZID=America/New_York:20250913T193000
DTEND;TZID=America/New_York:20250913T220000
DTSTAMP:20260422T160721
CREATED:20250731T022712Z
LAST-MODIFIED:20250731T022712Z
UID:10000874-1757791800-1757800800@bostoncoffeehouses.org
SUMMARY:CANCELED **Cheryl Wheeler with special guest Kenny White
DESCRIPTION:Reserve early for this very special show with not only the inimitable Cheryl Wheeler but also Kenny White’s  piano accompaniment and his own  superb songwriting. This concert will take place in the larger space and if you reserve at musiconcentre@gmail.com the price is $35.  It will be $40 at the door\, which opens at 6:30. There are no advance sales on line. \nBuilding is wheelchair accessible and there is plenty of free parking nearby. Non-alcohol beverages and desserts on sale during intermission. For more details\, call 617-327-0542. Do not call the church. \n 
URL:https://bostoncoffeehouses.org/event/canceled-cheryl-wheeler-with-special-guest-kenny-white/
LOCATION:Music on Centre\, West Roxbury MA\, 1859 Centre St\, West Roxbury\, MA\, 02132\, United States
CATEGORIES:Concert,Singer-songwriter
END:VEVENT
BEGIN:VEVENT
DTSTART;TZID=America/New_York:20250517T193000
DTEND;TZID=America/New_York:20250517T220000
DTSTAMP:20260422T160721
CREATED:20240806T152208Z
LAST-MODIFIED:20240806T152208Z
UID:10000455-1747510200-1747519200@bostoncoffeehouses.org
SUMMARY:Crys Matthews
DESCRIPTION:Award winner Crys is not afraid to speak her truth  and she does it so very artfully! \nNew Moon concerts take place in the meeting room of the Haverhill UU Church at 15 Kenoza Avenue.  Enter by the back door off the parking lot. Reserve seats at the New Moon website www.newmooncoffeehouse.org. Pay CASH ONLY when the doors open at 6:30. General admission. Building is wheelchair accessible. Save some cash for our famous homemade desserts. For more info\, go to www.crysmatthews.com  or call 617-327-0542.
URL:https://bostoncoffeehouses.org/event/crys-matthews-3/
LOCATION:New Moon Coffeehouse\, Haverhill MA\, 16 Ashland St\, Haverhill\, MA\, 01830\, United States
END:VEVENT
BEGIN:VEVENT
DTSTART;TZID=America/New_York:20250419T193000
DTEND;TZID=America/New_York:20250419T220000
DTSTAMP:20260422T160721
CREATED:20240806T151708Z
LAST-MODIFIED:20240806T151708Z
UID:10000454-1745091000-1745100000@bostoncoffeehouses.org
SUMMARY:Tret Fure
DESCRIPTION:Seventeen albums and 50 years later\, Tret still delivers songs of love in her vibrant style. A real winner! \nNew Moon concerts take place in the meeting room of the Haverhill UU Church at 15 Kenoza Avenue.  Enter by the back door off the parking lot. Reserve seats at the New Moon website www.newmooncoffeehouse.org. Pay CASH ONLY when the doors open at 6:30. General admission. Building is wheelchair accessible. Save some cash for our famous homemade desserts. For more info\, go to www.tretfure.com or call 617-327-0542
URL:https://bostoncoffeehouses.org/event/tret-fure-2/
LOCATION:New Moon Coffeehouse\, Haverhill MA\, 16 Ashland St\, Haverhill\, MA\, 01830\, United States
END:VEVENT
BEGIN:VEVENT
DTSTART;TZID=America/New_York:20250405T193000
DTEND;TZID=America/New_York:20250405T220000
DTSTAMP:20260422T160721
CREATED:20240806T140656Z
LAST-MODIFIED:20240806T140656Z
UID:10000450-1743881400-1743890400@bostoncoffeehouses.org
SUMMARY:Double Bill of Cosy Sheridan and David Roth
DESCRIPTION:Revered acoustic folk veterans and songwriting workshop organizers offer memorable songs of our time. \nMusic on Centre concerts take place in the comfy parish hall located at 70 Corey Street behind the Theodore Parker UU Church in West Roxbury. Lots of free parking across the street and in two city lots nearby.  Reserve seats by emailing musiconcentre@gmail.com.  There are no advance tickets. Cash is preferred but credit card payments are possible. General admission. For more information\, go to artist websites (www.davidrothmusic.com and www.cosysheridan.com) or www.tparkerchurch.org/events where you can access a digital photo to send to friends and family. Or call 617-327-0542.
URL:https://bostoncoffeehouses.org/event/double-bill-of-cosy-sheridan-and-david-roth/
LOCATION:Music on Centre\, West Roxbury MA\, 1859 Centre St\, West Roxbury\, MA\, 02132\, United States
END:VEVENT
BEGIN:VEVENT
DTSTART;TZID=America/New_York:20250215T193000
DTEND;TZID=America/New_York:20250215T220000
DTSTAMP:20260422T160721
CREATED:20240806T151141Z
LAST-MODIFIED:20240806T151141Z
UID:10000453-1739647800-1739656800@bostoncoffeehouses.org
SUMMARY:Reverend Robert Jones
DESCRIPTION:Nationally known and respected singer-songwriter\, educator\, author and storyteller Rev.Jones delivers a thrilling evening of song and stories – and perhaps some lessons for life. \nNew Moon concerts take place in the meeting room of the Haverhill UU Church at 15 Kenoza Avenue.  Enter by the back door off the parking lot. Reserve seats at the New Moon website www.newmooncoffeehouse.org. Pay CASH ONLY when the doors open at 6:30. General admission. Building is wheelchair accessible. Save some cash for our famous homemade desserts. For more info\, go to www.revrobertjones.com or call 617-327-0542
URL:https://bostoncoffeehouses.org/event/reverend-robert-jones/
LOCATION:New Moon Coffeehouse\, Haverhill MA\, 16 Ashland St\, Haverhill\, MA\, 01830\, United States
CATEGORIES:All genres
END:VEVENT
BEGIN:VEVENT
DTSTART;TZID=America/New_York:20250208T193000
DTEND;TZID=America/New_York:20250208T220000
DTSTAMP:20260422T160721
CREATED:20240806T135658Z
LAST-MODIFIED:20240806T135658Z
UID:10000448-1739043000-1739052000@bostoncoffeehouses.org
SUMMARY:Les Sampou
DESCRIPTION:Original songs from a versatile and powerful singer of songs in various genres from country folk to sultry jazz to indie-rock. \nMusic on Centre concerts take place in the comfy parish hall located at 70 Corey Street behind the Theodore Parker UU Church in West Roxbury. Lots of free parking across the street and in two city lots nearby. Building is wheelchair accessible.  Reserve seats by emailing musiconcentre@gmail.com.  There are no advance tickets. Cash is preferred but credit card payments are possible. General admission. For more information\, go to artist website or www.tparkerchurch.org/events where you can access a digital photo to send to friends and family. Or call 617-327-0542.
URL:https://bostoncoffeehouses.org/event/les-sampou/
LOCATION:Music on Centre\, West Roxbury MA\, 1859 Centre St\, West Roxbury\, MA\, 02132\, United States
END:VEVENT
BEGIN:VEVENT
DTSTART;TZID=America/New_York:20241116T193000
DTEND;TZID=America/New_York:20241116T220000
DTSTAMP:20260422T160721
CREATED:20240806T153525Z
LAST-MODIFIED:20240806T153525Z
UID:10000456-1731785400-1731794400@bostoncoffeehouses.org
SUMMARY:Alice Howe and Freebo
DESCRIPTION:Rising star Alice Howe along with nationally known bassist Freebo who has played with the likes of Bonnie Raitt\, Ringo Starr and John Mayall. \nNew Moon concerts take place in the meeting room of the Haverhill UU Church at 15 Kenoza Avenue.  Enter by the back door off the parking lot. Reserve seats at the New Moon website www.newmooncoffeehouse.org. Pay CASH ONLY when the doors open at 6:30. General admission. Building is wheelchair accessible. Save some cash for our famous homemade desserts. For more info\, go to www.alicehowe.com \, www.freebomusic.com or call 617-327-0542
URL:https://bostoncoffeehouses.org/event/alice-howe-and-freebo/
LOCATION:New Moon Coffeehouse\, Haverhill MA\, 16 Ashland St\, Haverhill\, MA\, 01830\, United States
END:VEVENT
BEGIN:VEVENT
DTSTART;TZID=America/New_York:20241102T193000
DTEND;TZID=America/New_York:20241102T220000
DTSTAMP:20260422T160721
CREATED:20240806T134031Z
LAST-MODIFIED:20240806T134031Z
UID:10000446-1730575800-1730584800@bostoncoffeehouses.org
SUMMARY:Squeezebox Stompers
DESCRIPTION:A five-person band delivering songs in the Cajun and Zydeco style. \nMusic on Centre concerts take place in the comfy parish hall located at 70 Corey Street behind the Theodore Parker UU Church in West Roxbury. Lots of free parking across the street and in two city lots nearby. Building is wheelchair accessible. Refreshments for sale. \nReserve seats by emailing musiconcentre@gmail.com.  There are no advance tickets. Cash is preferred but credit card payments are possible. General admission. For more information\, go to artist website or www.tparkerchurch.org/events where you can access a digital photo to send to friends and family. Or call 617-327-0542.
URL:https://bostoncoffeehouses.org/event/squeezebox-stompers/
LOCATION:Music on Centre\, West Roxbury MA\, 1859 Centre St\, West Roxbury\, MA\, 02132\, United States
END:VEVENT
BEGIN:VEVENT
DTSTART;TZID=America/New_York:20241019T193000
DTEND;TZID=America/New_York:20241019T220000
DTSTAMP:20260422T160721
CREATED:20240806T145448Z
LAST-MODIFIED:20240806T145448Z
UID:10000451-1729366200-1729375200@bostoncoffeehouses.org
SUMMARY:Don White
DESCRIPTION:Songs\, stories and poetry from the inimitable Don White along with opener Michelle LaPoetica\, acclaimed poet from Lynn. \nNew Moon Concerts take place in the meeting room of the Haverhill UU Church. Enter by the back door off the parking lot. To reserve tickets\, go to the New Moon website\, www.newmooncoffeehouse.org. There are no advance tickets. Pay CASH ONLY at the doors which open at 6:30. General admission. Save cash for our famous desserts Building is wheelchair accessible. For more information\, go to artist website – www.donwhite.net or call 617-327-0542.
URL:https://bostoncoffeehouses.org/event/don-white-2/
LOCATION:New Moon Coffeehouse\, Haverhill MA\, 16 Ashland St\, Haverhill\, MA\, 01830\, United States
END:VEVENT
BEGIN:VEVENT
DTSTART;TZID=America/New_York:20240921T193000
DTEND;TZID=America/New_York:20240921T220000
DTSTAMP:20260422T160721
CREATED:20240806T133101Z
LAST-MODIFIED:20240806T133101Z
UID:10000445-1726947000-1726956000@bostoncoffeehouses.org
SUMMARY:Joe Jencks
DESCRIPTION:Songs of hope and justice in Joe’s booming voice and magnetic stage presence. \nMusic on Centre concerts take place in the comfy parish hall located at 70 Corey Street behind the Theodore Parker UU Church in West Roxbury. Lots of free parking across the street and in two city lots nearby. \nReserve seats by emailing musiconcentre@gmail.com.  There are no advance tickets. Cash is preferred but credit card payments are possible. General admission. For more information\, go to artist website or www.tparkerchurch.org/events where you can access a digital photo to send to friends and family. Or call 617-327-0542.
URL:https://bostoncoffeehouses.org/event/joe-jencks-2/
LOCATION:Music on Centre\, West Roxbury MA\, 1859 Centre St\, West Roxbury\, MA\, 02132\, United States
END:VEVENT
BEGIN:VEVENT
DTSTART;TZID=America/New_York:20240420T193000
DTEND;TZID=America/New_York:20240420T223000
DTSTAMP:20260422T160721
CREATED:20240108T183352Z
LAST-MODIFIED:20240108T183352Z
UID:10000328-1713641400-1713652200@bostoncoffeehouses.org
SUMMARY:Vance Gilbert
DESCRIPTION:Vance brings his powerful voice and irreverent humor to the New Moon once again. Sign up at the New Moon website and be prepared to pay in cash. Doors open at 7:00 for a 7:30 show. Plenty of free parking and delicious desserts before the show and during intermission. Go to the back door of the UU Church located on 16 Ashland Street. For more information\, call 617-327-0542.
URL:https://bostoncoffeehouses.org/event/vance-gilbert-2/
LOCATION:New Moon Coffeehouse\, Haverhill MA\, 16 Ashland St\, Haverhill\, MA\, 01830\, United States
CATEGORIES:Coffeehouse
END:VEVENT
BEGIN:VEVENT
DTSTART;TZID=America/New_York:20240413T193000
DTEND;TZID=America/New_York:20240413T223000
DTSTAMP:20260422T160721
CREATED:20230815T201938Z
LAST-MODIFIED:20230815T201938Z
UID:10000229-1713036600-1713047400@bostoncoffeehouses.org
SUMMARY:Cynthia MacLeod and Gordon Belsher
DESCRIPTION:Lively foot-stomping traditional Scottish music of Canada’s Prince Edward Island is brought to Boston by fiddler Cynthia MacLeod and guitarist/vocalist Gordon Blesher.  \nAdmission $25 for adults and $15 for 21 and under. Reserve tickets by emailing musiconcentre@gmail.com and pay at the door. Cash is preferred but we can also take credit cards. Concerts are an outreach of the Theodore Parker Church at 1859 Centre Street in West Roxbury. Shows are either in the church itself or in the parish hall behind the church on Corey Street.\nDesserts and hot and cold beverages are on sale before the show and during intermission. Plenty of free parking nearby. Buildings are wheelchair accessible.
URL:https://bostoncoffeehouses.org/event/cynthia-macleod-and-gordon-belsher/
LOCATION:Music on Centre\, West Roxbury MA\, 1859 Centre St\, West Roxbury\, MA\, 02132\, United States
END:VEVENT
BEGIN:VEVENT
DTSTART;TZID=America/New_York:20240323T193000
DTEND;TZID=America/New_York:20240323T223000
DTSTAMP:20260422T160721
CREATED:20230815T201032Z
LAST-MODIFIED:20230815T201032Z
UID:10000228-1711222200-1711233000@bostoncoffeehouses.org
SUMMARY:Sol y Canto
DESCRIPTION:Admission $25 for adults and $15 for 21 and under. Reserve tickets by emailing musiconcentre@gmail.com and pay at the door. Cash is preferred but we can also take credit cards. Concerts are an outreach of the Theodore Parker Church at 1859 Centre Street in West Roxbury. Shows are either in the church itself or in the parish hall behind the church on Corey Street.\nDesserts and hot and cold beverages are on sale before the show and during intermission. Plenty of free parking nearby. Both buildings are wheelchair accessible.  \nSol y Canto is Rosi and Brian Amador\, a Pan-Latin duo that delivers inventive arrangements of Latin classics and original compositions that can range from quirky to poetic and that can make you laugh\, cry dance and cry\, all in one concert.  Guitar\, vocals and percussion.Songs in English and Spanish.
URL:https://bostoncoffeehouses.org/event/sol-y-canto-2/
LOCATION:Music on Centre\, West Roxbury MA\, 1859 Centre St\, West Roxbury\, MA\, 02132\, United States
END:VEVENT
BEGIN:VEVENT
DTSTART;TZID=America/New_York:20240113T193000
DTEND;TZID=America/New_York:20240113T223000
DTSTAMP:20260422T160721
CREATED:20240108T183934Z
LAST-MODIFIED:20240108T183934Z
UID:10000331-1705174200-1705185000@bostoncoffeehouses.org
SUMMARY:Local Talent Showcase
DESCRIPTION:Music on Centre is proud to present an evening of musical variety and talent with four Boston-based acts. The performers are Tom Smith\, playing classic folk in the style of Tom Paxton and Pete Seeger; Adam and Marcia  Feldman offering a musical mix of jazz and pop with piano\, guitar and vocals; Andrew Innes and the Reluctant Ramblers\, a favorite group around Boston regaling us with original songs in the Americana tradition accompanied by fiddle\, guitar\, bass and pedal steel; and the duo of Brian Cartwright and Karen Sauer whose repertoire covers many centuries of  the folk tradition. \nMake your reservations by emailing musiconcentre@gmail.com. Admission is $25 for adults and $15 for 21 and under. Cash preferred but cards okay. Doors open at 7:00. Refreshments available during intermission. Go to the parish hall which is behind the church at 70 Corey Street. Free parking nearby. Building is handicap accessible.
URL:https://bostoncoffeehouses.org/event/local-talent-showcase-2/
LOCATION:Music on Centre\, West Roxbury MA\, 1859 Centre St\, West Roxbury\, MA\, 02132\, United States
CATEGORIES:Concert
END:VEVENT
BEGIN:VEVENT
DTSTART;TZID=America/New_York:20230815T193000
DTEND;TZID=America/New_York:20230815T223000
DTSTAMP:20260422T160721
CREATED:20230815T190336Z
LAST-MODIFIED:20230815T190336Z
UID:10000224-1692127800-1692138600@bostoncoffeehouses.org
SUMMARY:Joe Crookston
DESCRIPTION:Admission $25 for adults and $15 for 21 and under. Reserve tickets at the New Moon website\, www.newmooncoffeehouse.org\, and be prepared to pay in cash at the door. Showtime is 7:30  PM and doors open at 6:30.\nOur famous desserts and hot and cold beverages are on sale before the show and during intermission. Plenty of free parking nearby. Building is wheelchair accessible.  \nJoe Crookston is “a songwriter\, guitarist\, painter\, fiddler\, slide player eco-village member and believer in all things possible” and delivers an intriguing and uplifting evening of humor and spirituality.
URL:https://bostoncoffeehouses.org/event/joe-crookston/
LOCATION:New Moon Coffeehouse\, Haverhill MA\, 16 Ashland St\, Haverhill\, MA\, 01830\, United States
END:VEVENT
BEGIN:VEVENT
DTSTART;TZID=America/New_York:20230520T193000
DTEND;TZID=America/New_York:20230520T223000
DTSTAMP:20260422T160721
CREATED:20230309T183953Z
LAST-MODIFIED:20230309T183953Z
UID:10000145-1684611000-1684621800@bostoncoffeehouses.org
SUMMARY:Kristen Ford
DESCRIPTION:Young\, energetic  indie-rock performer who reflects the best of current musical vibes along with folk\, reggae\, jazz and more. Concert takes place in the intimate and acoustically perfect meeting room of the Haverhill UU Church. Easy free parking.  Enter by the back door. Reserve tickets at newmooncoffeehouse.org and pay cash at the door. $20 for adults and $10 for 21 and under.
URL:https://bostoncoffeehouses.org/event/kristen-ford/
LOCATION:New Moon Coffeehouse\, Haverhill MA\, 16 Ashland St\, Haverhill\, MA\, 01830\, United States
END:VEVENT
BEGIN:VEVENT
DTSTART;TZID=America/New_York:20230421T193000
DTEND;TZID=America/New_York:20230421T220000
DTSTAMP:20260422T160721
CREATED:20230202T191359Z
LAST-MODIFIED:20230202T191359Z
UID:10000120-1682105400-1682114400@bostoncoffeehouses.org
SUMMARY:Heather Pierson Trio
DESCRIPTION:Back by popular demand this nationally touring trio re-defines Americana music by incorporating it all. \nAdmission is $20 for adults\, $10 for 21 and under with a $40 family maximum for this show for all ages.  Concerts take place in the intimate and acoustically pleasing Parish Hall behind the Theodore Parker Church at 1859 Centre Street in West Roxbury. Doors open on 6:30.  Show starts at 7:30 PM. Refreshments are for sale before the show and during intermission. Free parking nearby. Cash preferred. \nFor reservations or information\, email musiconcentre@gmail.com \nTo get photos and reviews of the performers\,  go to https://heatherpierson.com
URL:https://bostoncoffeehouses.org/event/heather-pierson-trio/
LOCATION:Music on Centre\, West Roxbury MA\, 1859 Centre St\, West Roxbury\, MA\, 02132\, United States
END:VEVENT
BEGIN:VEVENT
DTSTART;TZID=America/New_York:20230318T193000
DTEND;TZID=America/New_York:20230318T223000
DTSTAMP:20260422T160721
CREATED:20230309T191626Z
LAST-MODIFIED:20230309T191626Z
UID:10000143-1679167800-1679178600@bostoncoffeehouses.org
SUMMARY:Double Bill - Pamela Means and Lisa Bastoni
DESCRIPTION:Two powerful women come to the New Moon on Saturday March 18 to share their message and proven musical talents. Admission $20 and $10 for 21 and under. No advance tickets required but seats can be reserved by going to the New Moon website. Pay at the door with cash only. Plenty of free parking.
URL:https://bostoncoffeehouses.org/event/double-bill-pamela-means-and-lisa-bastoni/
LOCATION:New Moon Coffeehouse\, Haverhill MA\, 16 Ashland St\, Haverhill\, MA\, 01830\, United States
END:VEVENT
END:VCALENDAR