BEGIN:VCALENDAR
VERSION:2.0
PRODID:-//BACHA - ECPv6.15.19//NONSGML v1.0//EN
CALSCALE:GREGORIAN
METHOD:PUBLISH
X-WR-CALNAME:BACHA
X-ORIGINAL-URL:https://bostoncoffeehouses.org
X-WR-CALDESC:Events for BACHA
REFRESH-INTERVAL;VALUE=DURATION:PT1H
X-Robots-Tag:noindex
X-PUBLISHED-TTL:PT1H
BEGIN:VTIMEZONE
TZID:America/New_York
BEGIN:DAYLIGHT
TZOFFSETFROM:-0500
TZOFFSETTO:-0400
TZNAME:EDT
DTSTART:20220313T070000
END:DAYLIGHT
BEGIN:STANDARD
TZOFFSETFROM:-0400
TZOFFSETTO:-0500
TZNAME:EST
DTSTART:20221106T060000
END:STANDARD
BEGIN:DAYLIGHT
TZOFFSETFROM:-0500
TZOFFSETTO:-0400
TZNAME:EDT
DTSTART:20230312T070000
END:DAYLIGHT
BEGIN:STANDARD
TZOFFSETFROM:-0400
TZOFFSETTO:-0500
TZNAME:EST
DTSTART:20231105T060000
END:STANDARD
BEGIN:DAYLIGHT
TZOFFSETFROM:-0500
TZOFFSETTO:-0400
TZNAME:EDT
DTSTART:20240310T070000
END:DAYLIGHT
BEGIN:STANDARD
TZOFFSETFROM:-0400
TZOFFSETTO:-0500
TZNAME:EST
DTSTART:20241103T060000
END:STANDARD
END:VTIMEZONE
BEGIN:VEVENT
DTSTART;TZID=America/New_York:20231118T073000
DTEND;TZID=America/New_York:20231118T210000
DTSTAMP:20260424T154755
CREATED:20230915T171340Z
LAST-MODIFIED:20230915T171340Z
UID:10000260-1700292600-1700341200@bostoncoffeehouses.org
SUMMARY:Sol y Canto at Harmony on the Green with Nicolás Emden opening
DESCRIPTION:Sol y Canto is the award-winning Pan-Latin ensemble led by Puerto Rican/Argentine singer and percussionist Rosi Amador and New Mexican guitarist\, singer and composer Brian Amador. Featuring Rosi’s crystalline voice and Brian’s lush Spanish guitar and inventive compositions\, Sol y Canto is known for making their music accessible to Spanish- and non-Spanish speaking audiences of all ages.\nNicolás Emden will open this show. He is a multi-instrumentalist\, composer\, singer and songwriter\, originally from Chilean Patagonia. His music navigates the waters of pop\, rock\, and Latin American folk.\nDoors will open at 7 p.m.\, with Nicolas Emden taking the stage at 7:30. We are wheelchair accessible and have ADA parking spots in the lot behind the building.\nSee our website for more details.
URL:https://bostoncoffeehouses.org/event/sol-y-canto-at-harmony-on-the-green-with-nicolas-emden-opening/
LOCATION:Harmony on the Green Coffeehouse\, 1912 Massachusetts Avenue\, Lexington\, MA\, 02421\, United States
CATEGORIES:Music
ORGANIZER;CN="Harmony on the Green":MAILTO:harmonyonthegreen@hancockchurch.org
END:VEVENT
END:VCALENDAR