BEGIN:VCALENDAR
VERSION:2.0
PRODID:-//BACHA - ECPv6.15.19//NONSGML v1.0//EN
CALSCALE:GREGORIAN
METHOD:PUBLISH
X-ORIGINAL-URL:https://bostoncoffeehouses.org
X-WR-CALDESC:Events for BACHA
REFRESH-INTERVAL;VALUE=DURATION:PT1H
X-Robots-Tag:noindex
X-PUBLISHED-TTL:PT1H
BEGIN:VTIMEZONE
TZID:America/New_York
BEGIN:DAYLIGHT
TZOFFSETFROM:-0500
TZOFFSETTO:-0400
TZNAME:EDT
DTSTART:20230312T070000
END:DAYLIGHT
BEGIN:STANDARD
TZOFFSETFROM:-0400
TZOFFSETTO:-0500
TZNAME:EST
DTSTART:20231105T060000
END:STANDARD
BEGIN:DAYLIGHT
TZOFFSETFROM:-0500
TZOFFSETTO:-0400
TZNAME:EDT
DTSTART:20240310T070000
END:DAYLIGHT
BEGIN:STANDARD
TZOFFSETFROM:-0400
TZOFFSETTO:-0500
TZNAME:EST
DTSTART:20241103T060000
END:STANDARD
BEGIN:DAYLIGHT
TZOFFSETFROM:-0500
TZOFFSETTO:-0400
TZNAME:EDT
DTSTART:20250309T070000
END:DAYLIGHT
BEGIN:STANDARD
TZOFFSETFROM:-0400
TZOFFSETTO:-0500
TZNAME:EST
DTSTART:20251102T060000
END:STANDARD
END:VTIMEZONE
BEGIN:VEVENT
DTSTART;TZID=America/New_York:20241004T190000
DTEND;TZID=America/New_York:20241004T211500
DTSTAMP:20260422T073745
CREATED:20240904T171553Z
LAST-MODIFIED:20240904T211129Z
UID:10000474-1728068400-1728076500@bostoncoffeehouses.org
SUMMARY:Kim Moberg Coffeehouse Feature with Open Mic Oct 4 2024
DESCRIPTION:The South Shore Folk Music Club will host a coffeehouse featuring Kim Moberg with an Open Mic to follow Friday Oct 4 2024 at First Parish Duxbury\, 842 Tremont St (Rte 3A) Duxbury.\n\n\n\n\n\nAward winning Indigenous (Tlingit) singer/songwriter Kim Moberg is an Alaska native artist who suffered a lifetime of debilitating stage fright. In 2014 she set out to overcome that stage fright and wrote her first song. Kim teamed with Grammy nominated producer Jon Evans to record three albums\, all receiving critical acclaim and charting on the Folk Alliance International DJ charts. Her latest release “The Seven Fires Prophecy Suite for Humanity” (2023) is an original 8 song suite that tells the ancient yet relevant Anishinaabe legend “The Seven Fires Prophecy”. Her newest project “All That Really Matters” will be released in early 2025. Kim’s rich vocals have been described as “a blend of honey and whiskey”. http://www.kimmobermusic.com\n\nThe doors open at 6:30pm\, open mic signups begin at 630p\, show starts at 7pm. Tickets are $8 for members and open mic performers\, $9 for non-members\, $ 4 for kids\, up to high school age. No Advance tickets or credit cards for this show.  Just come on down and pay by cash or check at the door.  Kitchen is open for coffee\, tea\, water and cookies. ADA compliant.  
URL:https://bostoncoffeehouses.org/event/kim-moberg-oct-4-2024/
LOCATION:South Shore Folk Music Club\, Duxbury MA\, 842 Tremont St\, Duxbury\, MA\, 02332\, United States
CATEGORIES:Coffeehouse,Open Mic,Singer-songwriter
ATTACH;FMTTYPE=image/jpeg:https://bostoncoffeehouses.org/wp-content/uploads/2024/09/DSC_1112.jpeg
END:VEVENT
BEGIN:VEVENT
DTSTART;TZID=America/New_York:20241019T193000
DTEND;TZID=America/New_York:20241019T213000
DTSTAMP:20260422T073745
CREATED:20241002T183505Z
LAST-MODIFIED:20241002T183505Z
UID:10000640-1729366200-1729373400@bostoncoffeehouses.org
SUMMARY:Shanna In a Dress
DESCRIPTION:The Open Book Coffeehouse continues its 2024-2025 season on Saturday evening\, October 19\, with singer/songwriter Shanna In a Dress.  The coffeehouse is located at the Canton Public Library\, 786 Washington Street\, Canton.  Doors open at 6:45 PM; music starts at 7:30 PM.  Admission is $12 for the general public and $6 for students of any age. Tickets are available that evening on a first come\, first serve basis. (cash or checks). \nShanna in a Dress is your quirky best friend who refuses to wear pants. She says what everyone has felt but no one else will say and you’ll get an uncensored journey of clever humor and heartbreak\, extreme candor\, and a hefty side of entertainment at her shows. This witty wordsmith is known for taking you on an emotional roller coaster\, sometimes within the same song.  She’s as real as it gets\, as anyone who follows her on FB or Instagram knows. \nEnjoy the relaxing\, warm atmosphere of friendly people\, good music\, coffee\, tea\, and home baked goodies.  The Open Book Coffeehouse is located in the community room of the Canton Public Library at 786 Washington Street\, Canton\, and is made possible by the Friends of the Library. Parking is to the left when facing the library from Washington Street. Enter by the “Special Events” door to the left of the columns\, midway into the parking area. \nFor more information\, visit the Open Book Coffeehouse website at  http://library.canton.ma.us\, send an email to openbookcoffeehouse@verizon.net\, find the coffeehouse on Facebook\, or call 617-922-2551.
URL:https://bostoncoffeehouses.org/event/shanna-in-a-dress/
LOCATION:Open Book Coffeehouse\, Canton MA\, 786 Washington St\, Canton\, MA\, 02021\, United States
CATEGORIES:Coffeehouse
ATTACH;FMTTYPE=image/jpeg:https://bostoncoffeehouses.org/wp-content/uploads/2024/10/Shanna-In-A-Dress.jpg
ORGANIZER;CN="Open Book Coffeehouse":MAILTO:openbookcoffeehouse@verizon.net
END:VEVENT
END:VCALENDAR