BEGIN:VCALENDAR
VERSION:2.0
PRODID:-//BACHA - ECPv6.15.19//NONSGML v1.0//EN
CALSCALE:GREGORIAN
METHOD:PUBLISH
X-WR-CALNAME:BACHA
X-ORIGINAL-URL:https://bostoncoffeehouses.org
X-WR-CALDESC:Events for BACHA
REFRESH-INTERVAL;VALUE=DURATION:PT1H
X-Robots-Tag:noindex
X-PUBLISHED-TTL:PT1H
BEGIN:VTIMEZONE
TZID:America/New_York
BEGIN:DAYLIGHT
TZOFFSETFROM:-0500
TZOFFSETTO:-0400
TZNAME:EDT
DTSTART:20230312T070000
END:DAYLIGHT
BEGIN:STANDARD
TZOFFSETFROM:-0400
TZOFFSETTO:-0500
TZNAME:EST
DTSTART:20231105T060000
END:STANDARD
BEGIN:DAYLIGHT
TZOFFSETFROM:-0500
TZOFFSETTO:-0400
TZNAME:EDT
DTSTART:20240310T070000
END:DAYLIGHT
BEGIN:STANDARD
TZOFFSETFROM:-0400
TZOFFSETTO:-0500
TZNAME:EST
DTSTART:20241103T060000
END:STANDARD
BEGIN:DAYLIGHT
TZOFFSETFROM:-0500
TZOFFSETTO:-0400
TZNAME:EDT
DTSTART:20250309T070000
END:DAYLIGHT
BEGIN:STANDARD
TZOFFSETFROM:-0400
TZOFFSETTO:-0500
TZNAME:EST
DTSTART:20251102T060000
END:STANDARD
END:VTIMEZONE
BEGIN:VEVENT
DTSTART;TZID=America/New_York:20240920T190000
DTEND;TZID=America/New_York:20240920T211500
DTSTAMP:20260422T091739
CREATED:20240827T034210Z
LAST-MODIFIED:20240827T042617Z
UID:10000471-1726858800-1726866900@bostoncoffeehouses.org
SUMMARY:Roots Run Wild Coffeehouse Feature - with Open Mic September 20\, 2024
DESCRIPTION:KT Lee and Kelly Ann Fernandes of ‘Roots Run Wild’ strike the perfect balance between sweetness and ferocity with their blend of unique instrumentation\, robust styling\, and powerful vocals\, creating a distinct flavor seasoned by Americana\, bluegrass\, reggae\, and folk music while frequently sneaking into pop territory with their catchy melodies and hooks. \nKnown for their vocal teamwork\, singer-songwriters KT and Kelly use music to explore the challenges of finding your own way\, healing from trauma\, personal growth\, relationships\, and developing a rich inner life and sense of self\, always expressing a love of music itself and its incredible restorative power. \nRoots Run Wild’s debut album will be released this fall and you can find previously released singles everywhere you stream music.  Check out their website – https://www.rootsrunwild.com/
URL:https://bostoncoffeehouses.org/event/roots-run-wild-coffeehouse-feature-with-open-mic-september-20-2024/
LOCATION:South Shore Folk Music Club\, Duxbury MA\, 842 Tremont St\, Duxbury\, MA\, 02332\, United States
CATEGORIES:Coffeehouse,Singer-songwriter
ATTACH;FMTTYPE=image/jpeg:https://bostoncoffeehouses.org/wp-content/uploads/2024/08/RootsRunWild-percentage-8-8-24.jpg
END:VEVENT
BEGIN:VEVENT
DTSTART;TZID=America/New_York:20240921T193000
DTEND;TZID=America/New_York:20240921T213000
DTSTAMP:20260422T091739
CREATED:20240911T124954Z
LAST-MODIFIED:20240911T124954Z
UID:10000499-1726947000-1726954200@bostoncoffeehouses.org
SUMMARY:Caroline Cotter to play Open Book Coffeehouse
DESCRIPTION:The Open Book Coffeehouse kicks off its 2024-2025 season on Saturday evening\, September 21\, with singer/songwriter Caroline Cotter.  The coffeehouse is located at the Canton Public Library\, 786 Washington Street\, Canton.  Doors open at 6:45 PM; music starts at 7:30 PM.  Admission is $12 for the general public and $6 for students of any age. Tickets are available that evening on a first come\, first serve basis. (cash or checks). \nCaroline’s Cotter’s sunlit songs honor the countless ways of being human. With her honeyed voice and disarmingly honest lyrics\, Cotter sings about connection\, nostalgia\, gratitude\, loss and wanderlust. Lyrics like\, “Find me somewhere out on the road / Take me into your heart and into your home\,” make perfect sense from a touring artist who has played over 1000 shows in 45 states and 16 countries. Cotter has released three records\, Dreaming as I Do (2015)\, Home on the River (2018) and Gently as I Go (2023). Under the Radar magazine says her music\, “brings forth an abiding sense of warmth and welcome\, offering an uplifting reminder to make the most of every moment.” Everywhere she goes\, her songs elicit emotion and spark insight—medicine for our collective longing. \nEnjoy the relaxing\, warm atmosphere of friendly people\, good music\, coffee\, tea\, and home baked goodies.  The Open Book Coffeehouse is located in the community room of the Canton Public Library at 786 Washington Street\, Canton\, and is made possible by the Friends of the Library. Parking is to the left when facing the library from Washington Street. Enter by the “Special Events” door to the left of the columns\, midway into the parking area. \nDonations may be made to the Friends of the Canton Public Library via the library website\, by clicking the yellow “donate” button at https://library.canton.ma.us/187/Friends-of-the-Library. \nFor more information\, visit the Open Book Coffeehouse website at  http://library.canton.ma.us\, send an email to openbookcoffeehouse@verizon.net\, find the coffeehouse on Facebook\, or call 617-922-2551
URL:https://bostoncoffeehouses.org/event/caroline-cotter-to-play-open-book-coffeehouse/
LOCATION:Open Book Coffeehouse\, Canton MA\, 786 Washington St\, Canton\, MA\, 02021\, United States
CATEGORIES:Coffeehouse
ATTACH;FMTTYPE=image/jpeg:https://bostoncoffeehouses.org/wp-content/uploads/2024/09/Caroline-Cotter-image.jpg
END:VEVENT
END:VCALENDAR