BEGIN:VCALENDAR
VERSION:2.0
PRODID:-//BACHA - ECPv6.15.19//NONSGML v1.0//EN
CALSCALE:GREGORIAN
METHOD:PUBLISH
X-WR-CALNAME:BACHA
X-ORIGINAL-URL:https://bostoncoffeehouses.org
X-WR-CALDESC:Events for BACHA
REFRESH-INTERVAL;VALUE=DURATION:PT1H
X-Robots-Tag:noindex
X-PUBLISHED-TTL:PT1H
BEGIN:VTIMEZONE
TZID:America/New_York
BEGIN:DAYLIGHT
TZOFFSETFROM:-0500
TZOFFSETTO:-0400
TZNAME:EDT
DTSTART:20210314T070000
END:DAYLIGHT
BEGIN:STANDARD
TZOFFSETFROM:-0400
TZOFFSETTO:-0500
TZNAME:EST
DTSTART:20211107T060000
END:STANDARD
BEGIN:DAYLIGHT
TZOFFSETFROM:-0500
TZOFFSETTO:-0400
TZNAME:EDT
DTSTART:20220313T070000
END:DAYLIGHT
BEGIN:STANDARD
TZOFFSETFROM:-0400
TZOFFSETTO:-0500
TZNAME:EST
DTSTART:20221106T060000
END:STANDARD
BEGIN:DAYLIGHT
TZOFFSETFROM:-0500
TZOFFSETTO:-0400
TZNAME:EDT
DTSTART:20230312T070000
END:DAYLIGHT
BEGIN:STANDARD
TZOFFSETFROM:-0400
TZOFFSETTO:-0500
TZNAME:EST
DTSTART:20231105T060000
END:STANDARD
END:VTIMEZONE
BEGIN:VEVENT
DTSTART;TZID=America/New_York:20221104T200000
DTEND;TZID=America/New_York:20221104T230000
DTSTAMP:20260424T103934
CREATED:20220928T140014Z
LAST-MODIFIED:20220928T140014Z
UID:10000070-1667592000-1667602800@bostoncoffeehouses.org
SUMMARY:Mark Femino & Marnie Hall
DESCRIPTION:Mark Femino is a seasoned\, realized musician. He’s at the peak of his musicianship\, and is poised to get all his material out into the world. To that end\, he is currently releasing a hard rock album called Ferilus – “Fearless\, feral\, and slightly perilous\, this is the album known as Ferilus.” This album goes all the way back to Mark’s days of hammering it out with garage rock bands. It was incredibly fun for him to make\, a little dirty\, and very powerful. If you have been in need of a solid\, throw down the gauntlet\, and rock your socks off album\, this one might just do the trick.\n \nNot interested in resting on this release\, another more acoustic album entitled\, These Are The Moments is already finished and set to release in the late fall. \nMarnie Hall is a classically-trained electric violinist\, string arranger and solo artist who has performed\, taught and recorded in the Boston area since 1995.Marnie has played in the backing and touring orchestras for The Moody Blues\, Joni Mitchell\, Brian Wilson\, The Irish Tenors and Johnny Mathis. Most recently\, she has opened for Cyndi Lauper\, Andy Grammer and Kelly Clarkson\, and was nominated for Session Musician of the Year by the 2019 Boston Music Awards. She is currently releasing the next single from her upcoming debut album\, Talk To You Soon.
URL:https://bostoncoffeehouses.org/event/mark-femino-marnie-hall/
LOCATION:Niagara Coffee Haus\, Mills MA\, 8 Exchange St\, Millis\, MA\, United States
END:VEVENT
END:VCALENDAR