BEGIN:VCALENDAR
VERSION:2.0
PRODID:-//BACHA - ECPv6.15.19//NONSGML v1.0//EN
CALSCALE:GREGORIAN
METHOD:PUBLISH
X-WR-CALNAME:BACHA
X-ORIGINAL-URL:https://bostoncoffeehouses.org
X-WR-CALDESC:Events for BACHA
REFRESH-INTERVAL;VALUE=DURATION:PT1H
X-Robots-Tag:noindex
X-PUBLISHED-TTL:PT1H
BEGIN:VTIMEZONE
TZID:America/New_York
BEGIN:DAYLIGHT
TZOFFSETFROM:-0500
TZOFFSETTO:-0400
TZNAME:EDT
DTSTART:20240310T070000
END:DAYLIGHT
BEGIN:STANDARD
TZOFFSETFROM:-0400
TZOFFSETTO:-0500
TZNAME:EST
DTSTART:20241103T060000
END:STANDARD
BEGIN:DAYLIGHT
TZOFFSETFROM:-0500
TZOFFSETTO:-0400
TZNAME:EDT
DTSTART:20250309T070000
END:DAYLIGHT
BEGIN:STANDARD
TZOFFSETFROM:-0400
TZOFFSETTO:-0500
TZNAME:EST
DTSTART:20251102T060000
END:STANDARD
BEGIN:DAYLIGHT
TZOFFSETFROM:-0500
TZOFFSETTO:-0400
TZNAME:EDT
DTSTART:20260308T070000
END:DAYLIGHT
BEGIN:STANDARD
TZOFFSETFROM:-0400
TZOFFSETTO:-0500
TZNAME:EST
DTSTART:20261101T060000
END:STANDARD
END:VTIMEZONE
BEGIN:VEVENT
DTSTART;TZID=America/New_York:20250621T160000
DTEND;TZID=America/New_York:20250621T190000
DTSTAMP:20260421T135827
CREATED:20250510T161750Z
LAST-MODIFIED:20250510T161750Z
UID:10000803-1750521600-1750532400@bostoncoffeehouses.org
SUMMARY:North Reading Community Coffeehouse June\, 2025 Showcase
DESCRIPTION:The North Reading Community Coffeehouse is proud to present the first of three Summer Showcases on Saturday\, June 21 at 4 PM in the Gazebo at Ipswich River Park\, located at 15 Central Street in North Reading.  The performers are Cynthia Keefe and Kevin Kelley\, Colorado Bob Kramer\, Sal Liberto and Alan Foucault.  We have a group of very talented musicians this month with a nice variety of music which will make for a very entertaining show.  Each performer will do about a 30 minute set.\n\n\nThe event is free but donations will be gratefully accepted.  All the proceeds go to the Friends of the Flint Memorial Library in North Reading with whom we will be doing these concerts in conjunction with\, to help support the library.\n\nThe event will also be livestreamed on the North Reading Community Coffeehouse Facebook page and on the YouTube channel the following day!  The links to the Facebook page and YouTube channel are:\n\n\n\n  \nhttps://www.facebook.com/nrcoffeehouse\n\nhttps://www.youtube.com/@NRCoffeehouse\n\n\n\n\nThere is plenty of free parking.  Again\, we start at 4 PM.  Please come\, bring a blanket\, a chair\, maybe something to eat or drink and sit back\, relax and listen to some terrific music!  In the event of inclement weather\, we hope to be able to move the show indoors in the Activity Room of the Flint Memorial Library located at 147 Park Street in North Reading.  We will do our best to make that announcement should we need to\, as early as possible.  If you have any questions\, please contact Art Grossman at NRCoffeehouse@gmail.com. \n\n\n\n\n\n\n\n 
URL:https://bostoncoffeehouses.org/event/north-reading-community-coffeehouse-june-2025-showcase/
LOCATION:North Reading Community Coffeehouse\, North Reading MA\, 147 Park St\, North Reading\, MA\, 01864\, United States
CATEGORIES:Coffeehouse,Concert,Music,Singer-songwriter
ATTACH;FMTTYPE=image/png:https://bostoncoffeehouses.org/wp-content/uploads/2024/02/NRCC-FB-Page-Logo.png
END:VEVENT
END:VCALENDAR