BEGIN:VCALENDAR
VERSION:2.0
PRODID:-//BACHA - ECPv6.15.19//NONSGML v1.0//EN
CALSCALE:GREGORIAN
METHOD:PUBLISH
X-WR-CALNAME:BACHA
X-ORIGINAL-URL:https://bostoncoffeehouses.org
X-WR-CALDESC:Events for BACHA
REFRESH-INTERVAL;VALUE=DURATION:PT1H
X-Robots-Tag:noindex
X-PUBLISHED-TTL:PT1H
BEGIN:VTIMEZONE
TZID:America/New_York
BEGIN:DAYLIGHT
TZOFFSETFROM:-0500
TZOFFSETTO:-0400
TZNAME:EDT
DTSTART:20240310T070000
END:DAYLIGHT
BEGIN:STANDARD
TZOFFSETFROM:-0400
TZOFFSETTO:-0500
TZNAME:EST
DTSTART:20241103T060000
END:STANDARD
BEGIN:DAYLIGHT
TZOFFSETFROM:-0500
TZOFFSETTO:-0400
TZNAME:EDT
DTSTART:20250309T070000
END:DAYLIGHT
BEGIN:STANDARD
TZOFFSETFROM:-0400
TZOFFSETTO:-0500
TZNAME:EST
DTSTART:20251102T060000
END:STANDARD
BEGIN:DAYLIGHT
TZOFFSETFROM:-0500
TZOFFSETTO:-0400
TZNAME:EDT
DTSTART:20260308T070000
END:DAYLIGHT
BEGIN:STANDARD
TZOFFSETFROM:-0400
TZOFFSETTO:-0500
TZNAME:EST
DTSTART:20261101T060000
END:STANDARD
END:VTIMEZONE
BEGIN:VEVENT
DTSTART;TZID=America/New_York:20250215T183000
DTEND;TZID=America/New_York:20250215T213000
DTSTAMP:20260421T213736
CREATED:20250206T130538Z
LAST-MODIFIED:20250206T132303Z
UID:10000726-1739644200-1739655000@bostoncoffeehouses.org
SUMMARY:North Reading Community Coffeehouse February\, 2025 Showcase
DESCRIPTION:The North Reading Community Coffeehouse is proud to present its February\, 2025 Showcase. The performers are Sal Liberto\, Bob Kramer with David Medvitz\, Alan Foucault and Cynthia Keefe and Kevin Kelley\, who are performing as a duo.  We have a group of very talented musicians this month which will make for a very entertaining show.  Each performer will do about a 30 minute set.The event is free but donations will be gratefully accepted and we will be offering refreshments with all the proceeds going to the Friends of the Flint Memorial Library in North Reading with whom we will be doing these concerts in conjunction with\, to help support the library.\n\nThe event will also be livestreamed on the North Reading Community Coffeehouse Facebook page and on the YouTube channel the following day! \nWe are located in the Activity Room of the Flint Memorial Library at 147 Park Street in North Reading.  There is plenty of free parking.  We start at 6:30.  Please come\, sit back\, relax and listen to some terrific music!  If you have any questions\, please contact Art Grossman at NRCoffeehouse@gmail.com.\n\n\n\n 
URL:https://bostoncoffeehouses.org/event/north-reading-community-coffeehouse-february-2025-showcase/
LOCATION:North Reading Community Coffeehouse\, North Reading MA\, 147 Park St\, North Reading\, MA\, 01864\, United States
CATEGORIES:Coffeehouse,Concert,Music,Singer-songwriter
ATTACH;FMTTYPE=image/png:https://bostoncoffeehouses.org/wp-content/uploads/2024/02/NRCC-FB-Page-Logo.png
END:VEVENT
END:VCALENDAR