BEGIN:VCALENDAR
VERSION:2.0
PRODID:-//BACHA - ECPv6.15.19//NONSGML v1.0//EN
CALSCALE:GREGORIAN
METHOD:PUBLISH
X-WR-CALNAME:BACHA
X-ORIGINAL-URL:https://bostoncoffeehouses.org
X-WR-CALDESC:Events for BACHA
REFRESH-INTERVAL;VALUE=DURATION:PT1H
X-Robots-Tag:noindex
X-PUBLISHED-TTL:PT1H
BEGIN:VTIMEZONE
TZID:America/New_York
BEGIN:DAYLIGHT
TZOFFSETFROM:-0500
TZOFFSETTO:-0400
TZNAME:EDT
DTSTART:20230312T070000
END:DAYLIGHT
BEGIN:STANDARD
TZOFFSETFROM:-0400
TZOFFSETTO:-0500
TZNAME:EST
DTSTART:20231105T060000
END:STANDARD
BEGIN:DAYLIGHT
TZOFFSETFROM:-0500
TZOFFSETTO:-0400
TZNAME:EDT
DTSTART:20240310T070000
END:DAYLIGHT
BEGIN:STANDARD
TZOFFSETFROM:-0400
TZOFFSETTO:-0500
TZNAME:EST
DTSTART:20241103T060000
END:STANDARD
BEGIN:DAYLIGHT
TZOFFSETFROM:-0500
TZOFFSETTO:-0400
TZNAME:EDT
DTSTART:20250309T070000
END:DAYLIGHT
BEGIN:STANDARD
TZOFFSETFROM:-0400
TZOFFSETTO:-0500
TZNAME:EST
DTSTART:20251102T060000
END:STANDARD
END:VTIMEZONE
BEGIN:VEVENT
DTSTART;TZID=America/New_York:20240323T183000
DTEND;TZID=America/New_York:20240323T213000
DTSTAMP:20260422T220834
CREATED:20240301T045757Z
LAST-MODIFIED:20240301T050800Z
UID:10000372-1711218600-1711229400@bostoncoffeehouses.org
SUMMARY:North Reading Community Coffeehouse March Showcase
DESCRIPTION:The North Reading Community Coffeehouse is proud to present its March Showcase.  The performers are: Dolores Bourque with Ric Page\, Tom Sullivan and Uri Bourque\, David Buckman\, The Lakeside Boys – Gene Doughty and Phil Leavitt\, Mark Gaudet and Joanna Katzen .  Each performer will do about a 30 minute set. The event is free but donations will be gratefully accepted and we will be offering refreshments with all the proceeds going to the Friends of the Flint Memorial Library in North Reading with whom we will be doing these concerts in conjunction with\, to help support the library.  We are located in the Activity Room of the Flint Memorial Library at 147 Park Street in North Reading.  There is plenty of free parking.  Please come\, sit back\, relax and listen to some terrific music!  If you have any questions\, please contact Art Grossman at NRCoffeehouse@gmail.com.    
URL:https://bostoncoffeehouses.org/event/north-reading-community-coffeehouse-march-showcase-2/
LOCATION:North Reading Community Coffeehouse\, North Reading MA\, 147 Park St\, North Reading\, MA\, 01864\, United States
CATEGORIES:Coffeehouse,Music
ATTACH;FMTTYPE=image/png:https://bostoncoffeehouses.org/wp-content/uploads/2024/02/NRCC-FB-Page-Logo.png
END:VEVENT
END:VCALENDAR