BEGIN:VCALENDAR
VERSION:2.0
PRODID:-//BACHA - ECPv6.15.19//NONSGML v1.0//EN
CALSCALE:GREGORIAN
METHOD:PUBLISH
X-WR-CALNAME:BACHA
X-ORIGINAL-URL:https://bostoncoffeehouses.org
X-WR-CALDESC:Events for BACHA
REFRESH-INTERVAL;VALUE=DURATION:PT1H
X-Robots-Tag:noindex
X-PUBLISHED-TTL:PT1H
BEGIN:VTIMEZONE
TZID:America/New_York
BEGIN:DAYLIGHT
TZOFFSETFROM:-0500
TZOFFSETTO:-0400
TZNAME:EDT
DTSTART:20240310T070000
END:DAYLIGHT
BEGIN:STANDARD
TZOFFSETFROM:-0400
TZOFFSETTO:-0500
TZNAME:EST
DTSTART:20241103T060000
END:STANDARD
BEGIN:DAYLIGHT
TZOFFSETFROM:-0500
TZOFFSETTO:-0400
TZNAME:EDT
DTSTART:20250309T070000
END:DAYLIGHT
BEGIN:STANDARD
TZOFFSETFROM:-0400
TZOFFSETTO:-0500
TZNAME:EST
DTSTART:20251102T060000
END:STANDARD
BEGIN:DAYLIGHT
TZOFFSETFROM:-0500
TZOFFSETTO:-0400
TZNAME:EDT
DTSTART:20260308T070000
END:DAYLIGHT
BEGIN:STANDARD
TZOFFSETFROM:-0400
TZOFFSETTO:-0500
TZNAME:EST
DTSTART:20261101T060000
END:STANDARD
END:VTIMEZONE
BEGIN:VEVENT
DTSTART;TZID=America/New_York:20251121T193000
DTEND;TZID=America/New_York:20251121T213000
DTSTAMP:20260421T064154
CREATED:20251020T155157Z
LAST-MODIFIED:20251020T163903Z
UID:10000939-1763753400-1763760600@bostoncoffeehouses.org
SUMMARY:Susan Werner
DESCRIPTION:Over the course of her twenty five year career\, Susan Werner has earned a reputation as “one of the most innovative songwriters working today” (Chicago Tribune). With formidable chops on guitar (she began playing at age 5) and piano (she was a guest on Marian McPartland’s Piano Jazz)\, along with a graduate degree in voice performance\, her shows are a one-woman master class in musicianship. Although best known as an acoustic songwriter that came up through coffeehouses and folk festivals\, the Chicago-based artist has written songs in the style of Gershwin and Cole Porter\, gospel music\, traditional Cuban “son”\, and New Orleans junk piano. \nLexi Ugelow will open
URL:https://bostoncoffeehouses.org/event/susan-werner-3/
LOCATION:Follen Folk Nights\, Lexington MA\, 755 Massachusetts Ave\, Lexington\, MA\, 02420\, United States
CATEGORIES:Coffeehouse,Concert,Folksinger,Multi-instrumentalist,Music,Singer-songwriter
END:VEVENT
END:VCALENDAR