BEGIN:VCALENDAR
VERSION:2.0
PRODID:-//BACHA - ECPv6.15.19//NONSGML v1.0//EN
CALSCALE:GREGORIAN
METHOD:PUBLISH
X-ORIGINAL-URL:https://bostoncoffeehouses.org
X-WR-CALDESC:Events for BACHA
REFRESH-INTERVAL;VALUE=DURATION:PT1H
X-Robots-Tag:noindex
X-PUBLISHED-TTL:PT1H
BEGIN:VTIMEZONE
TZID:America/New_York
BEGIN:DAYLIGHT
TZOFFSETFROM:-0500
TZOFFSETTO:-0400
TZNAME:EDT
DTSTART:20240310T070000
END:DAYLIGHT
BEGIN:STANDARD
TZOFFSETFROM:-0400
TZOFFSETTO:-0500
TZNAME:EST
DTSTART:20241103T060000
END:STANDARD
BEGIN:DAYLIGHT
TZOFFSETFROM:-0500
TZOFFSETTO:-0400
TZNAME:EDT
DTSTART:20250309T070000
END:DAYLIGHT
BEGIN:STANDARD
TZOFFSETFROM:-0400
TZOFFSETTO:-0500
TZNAME:EST
DTSTART:20251102T060000
END:STANDARD
BEGIN:DAYLIGHT
TZOFFSETFROM:-0500
TZOFFSETTO:-0400
TZNAME:EDT
DTSTART:20260308T070000
END:DAYLIGHT
BEGIN:STANDARD
TZOFFSETFROM:-0400
TZOFFSETTO:-0500
TZNAME:EST
DTSTART:20261101T060000
END:STANDARD
BEGIN:DAYLIGHT
TZOFFSETFROM:-0500
TZOFFSETTO:-0400
TZNAME:EDT
DTSTART:20270314T070000
END:DAYLIGHT
BEGIN:STANDARD
TZOFFSETFROM:-0400
TZOFFSETTO:-0500
TZNAME:EST
DTSTART:20271107T060000
END:STANDARD
END:VTIMEZONE
BEGIN:VEVENT
DTSTART;TZID=America/New_York:20251212T183000
DTEND;TZID=America/New_York:20251212T213000
DTSTAMP:20260421T064431
CREATED:20251105T212005Z
LAST-MODIFIED:20251105T212005Z
UID:10000958-1765564200-1765575000@bostoncoffeehouses.org
SUMMARY:John Henry's Hammer Open Mic
DESCRIPTION:Here are the usual IMPORTANT details for JHH Open Mic:\n2nd and 4th Fridays (except when noted)\nFirst Unitarian Church\, 90 Main St\, Worcester\, MA\nDoors open and performer sign-up at 6:30 p.m.\nPerformances begin @ 7 p.m.\n10 minutes in the limelight- spoken word or music (usually two songs unless you choose to sing American Pie or some sea shanty with fifty verses). Duos or groups are considered one act and CANNOT sign up as single performers too. Stick on moustaches will NOT fool us. $3.00 admission for everybody. Performer or spectator. Payable to the lovely lady at the folding card table (please bring $1 bills). Refreshments & snacks (donation appreciated).\nPLEASE enter State Street upper parking lot door.  Handicap parking and accessibility at the other side of the church on Court Street by the Courthouse apartments.  If you DO park on Court Street only park on the church side of the street or you could get towed. The parking meters on Main Street and State Street require money until 8:00 pm. The meter maids and dudes love to hand out tickets. \nWe are recording the performances. We intend on starting a NEW YouTube site in the future and would like to post selective performances. If you DO NOT want your video online please inform the JHH volunteer (Bob) recording with the smart phone at the center table. \nExcellent alcohol-free venue for people from their teens and upward to perform in a friendly\, welcoming atmosphere.\nCome to perform or just listen.  The JHH crew is looking forward to seeing you! John Henry’s Hammer – It’s that traditional coffee house feel without the (cough!) cigarette smoke.
URL:https://bostoncoffeehouses.org/event/john-henrys-hammer-open-mic-3/
LOCATION:John Henry’s Hammer Coffeehouse\, Worcester MA\, 90 Main St\, Worcester\, MA\, 01608\, United States
CATEGORIES:Coffeehouse,Open Mic
END:VEVENT
BEGIN:VEVENT
DTSTART;TZID=America/New_York:20251218T180000
DTEND;TZID=America/New_York:20251218T213000
DTSTAMP:20260421T064431
CREATED:20250911T154834Z
LAST-MODIFIED:20250911T154834Z
UID:10000917-1766080800-1766093400@bostoncoffeehouses.org
SUMMARY:Open Mic Night at The Music Mansion
DESCRIPTION:Over the last couple years we have tried a lot of things on our open mic stage. In Season 42\, we held workshops for developing musicians. in Season 43\, we invited hosts of other open mics around the state to feature on our stage. We trained new sound engineers only to forgo all the tech. It’s now musicians and audiences in a room together – a room designed for music to flow and flourish. \nEd Dean returns as our open mic host\, opening the doors to The Music Mansion. It’s a welcoming environment for beginners\, new artists\, and veteran local musicians. The Open Mic Series is one of the ways we practice what we preach and Ed is an  incredible minister for this community. Hope to see you there.
URL:https://bostoncoffeehouses.org/event/open-mic-night-at-the-music-mansion/2025-12-18/
LOCATION:Stone Soup Coffeehouse\, 88 Meeting Street\, Providence\, RI\, 02906\, United States
CATEGORIES:Coffeehouse,Open Mic
ATTACH;FMTTYPE=image/png:https://bostoncoffeehouses.org/wp-content/uploads/2025/09/OpenMicImageForFacebook.png
ORGANIZER;CN="Stone Soup Coffeehouse":MAILTO:stonesoup.coffeehouse@gmail.com
END:VEVENT
BEGIN:VEVENT
DTSTART;TZID=America/New_York:20251226T183000
DTEND;TZID=America/New_York:20251226T213000
DTSTAMP:20260421T064431
CREATED:20251105T212445Z
LAST-MODIFIED:20251105T212445Z
UID:10000959-1766773800-1766784600@bostoncoffeehouses.org
SUMMARY:NO-John Henry's Hammer Open Mic
DESCRIPTION:Sorry\, but JHH Open Mic is taking the day after Christmas off so we can stay home to play with our new toys that Santa brought. See you in the new year.
URL:https://bostoncoffeehouses.org/event/no-john-henrys-hammer-open-mic/
LOCATION:John Henry’s Hammer Coffeehouse\, Worcester MA\, 90 Main St\, Worcester\, MA\, 01608\, United States
CATEGORIES:Coffeehouse,Open Mic
END:VEVENT
BEGIN:VEVENT
DTSTART;TZID=America/New_York:20260109T183000
DTEND;TZID=America/New_York:20260109T213000
DTSTAMP:20260421T064431
CREATED:20251105T212646Z
LAST-MODIFIED:20251105T212646Z
UID:10000960-1767983400-1767994200@bostoncoffeehouses.org
SUMMARY:John Henry's Hammer Open Mic
DESCRIPTION:Here are the usual IMPORTANT details for JHH Open Mic:\n2nd and 4th Fridays (except when noted)\nFirst Unitarian Church\, 90 Main St\, Worcester\, MA\nDoors open and performer sign-up at 6:30 p.m.\nPerformances begin @ 7 p.m.\n10 minutes in the limelight- spoken word or music (usually two songs unless you choose to sing American Pie or some sea shanty with fifty verses). Duos or groups are considered one act and CANNOT sign up as single performers too. Stick on moustaches will NOT fool us. $3.00 admission for everybody. Performer or spectator. Payable to the lovely lady at the folding card table (please bring $1 bills). Refreshments & snacks (donation appreciated).\nPLEASE enter State Street upper parking lot door.  Handicap parking and accessibility at the other side of the church on Court Street by the Courthouse apartments.  If you DO park on Court Street only park on the church side of the street or you could get towed. The parking meters on Main Street and State Street require money until 8:00 pm. The meter maids and dudes love to hand out tickets. \nWe are recording the performances. We intend on starting a NEW YouTube site in the future and would like to post selective performances. If you DO NOT want your video online please inform the JHH volunteer (Bob) recording with the smart phone at the center table. \nExcellent alcohol-free venue for people from their teens and upward to perform in a friendly\, welcoming atmosphere.\nCome to perform or just listen.  The JHH crew is looking forward to seeing you! John Henry’s Hammer – It’s that traditional coffee house feel without the (cough!) cigarette smoke.
URL:https://bostoncoffeehouses.org/event/john-henrys-hammer-open-mic-4/
LOCATION:John Henry’s Hammer Coffeehouse\, Worcester MA\, 90 Main St\, Worcester\, MA\, 01608\, United States
CATEGORIES:Coffeehouse,Open Mic
END:VEVENT
BEGIN:VEVENT
DTSTART;TZID=America/New_York:20260123T183000
DTEND;TZID=America/New_York:20260123T213000
DTSTAMP:20260421T064431
CREATED:20251105T213134Z
LAST-MODIFIED:20251105T213134Z
UID:10000961-1769193000-1769203800@bostoncoffeehouses.org
SUMMARY:John Henry's Hammer Open Mic
DESCRIPTION:Here are the usual IMPORTANT details for JHH Open Mic:\n2nd and 4th Fridays (except when noted)\nFirst Unitarian Church\, 90 Main St\, Worcester\, MA\nDoors open and performer sign-up at 6:30 p.m.\nPerformances begin @ 7 p.m.\n10 minutes in the limelight- spoken word or music (usually two songs unless you choose to sing American Pie or some sea shanty with fifty verses). Duos or groups are considered one act and CANNOT sign up as single performers too. Stick on moustaches will NOT fool us. $3.00 admission for everybody. Performer or spectator. Payable to the lovely lady at the folding card table (please bring $1 bills). Refreshments & snacks (donation appreciated).\nPLEASE enter State Street upper parking lot door.  Handicap parking and accessibility at the other side of the church on Court Street by the Courthouse apartments.  If you DO park on Court Street only park on the church side of the street or you could get towed. The parking meters on Main Street and State Street require money until 8:00 pm. The meter maids and dudes love to hand out tickets. \nWe are recording the performances. We intend on starting a NEW YouTube site in the future and would like to post selective performances. If you DO NOT want your video online please inform the JHH volunteer (Bob) recording with the smart phone at the center table. \nExcellent alcohol-free venue for people from their teens and upward to perform in a friendly\, welcoming atmosphere.\nCome to perform or just listen.  The JHH crew is looking forward to seeing you! John Henry’s Hammer – It’s that traditional coffee house feel without the (cough!) cigarette smoke.
URL:https://bostoncoffeehouses.org/event/john-henrys-hammer-open-mic-5/
LOCATION:John Henry’s Hammer Coffeehouse\, Worcester MA\, 90 Main St\, Worcester\, MA\, 01608\, United States
CATEGORIES:Coffeehouse,Open Mic
END:VEVENT
BEGIN:VEVENT
DTSTART;TZID=America/New_York:20260213T063000
DTEND;TZID=America/New_York:20260213T213000
DTSTAMP:20260421T064431
CREATED:20260119T165518Z
LAST-MODIFIED:20260119T165518Z
UID:10001013-1770964200-1771018200@bostoncoffeehouses.org
SUMMARY:John Henry’s Hammer Coffeehouse – Open Mic Friday 2/13/2026
DESCRIPTION:2nd and 4th Fridays (except when noted)\nFirst Unitarian Church\, 90 Main St\, Worcester\, MA\nDoors open and performer sign-up at 6:30 p.m.\nPerformances begin @ 7 p.m.\n10 minutes in the limelight- spoken word or music (two songs). Duos or groups are considered one act and CANNOT sign up as single performers too.                                                                                                     $3 admission for everybody. Performer or spectator.\nRefreshments & snacks (donation appreciated).\nPLEASE enter State Street upper parking lot door.  Handicap parking and accessibility at the side entrance on Court Street by the Courthouse apartments.  If you do park on Court Street only park on the church side of the street or you could get towed. The parking meters on Main Street and State Street require money until 8:00 pm. The meter maids and dudes love to hand out tickets.
URL:https://bostoncoffeehouses.org/event/john-henrys-hammer-coffeehouse-open-mic-friday-2-13-2026/
LOCATION:John Henry’s Hammer Coffeehouse\, Worcester MA\, 90 Main St\, Worcester\, MA\, 01608\, United States
CATEGORIES:Coffeehouse,Open Mic
END:VEVENT
BEGIN:VEVENT
DTSTART;TZID=America/New_York:20260227T183000
DTEND;TZID=America/New_York:20260227T213000
DTSTAMP:20260421T064431
CREATED:20260119T165845Z
LAST-MODIFIED:20260119T165845Z
UID:10001014-1772217000-1772227800@bostoncoffeehouses.org
SUMMARY:John Henry’s Hammer Coffeehouse – Open Mic Friday 2/27/2026
DESCRIPTION:2nd and 4th Fridays (except when noted)\nFirst Unitarian Church\, 90 Main St\, Worcester\, MA\nDoors open and performer sign-up at 6:30 p.m.\nPerformances begin @ 7 p.m.\n10 minutes in the limelight- spoken word or music (two songs). Duos or groups are considered one act and CANNOT sign up as single performers too.                                                                                                     $3 admission for everybody. Performer or spectator.\nRefreshments & snacks (donation appreciated).\nPLEASE enter State Street upper parking lot door.  Handicap parking and accessibility at the side entrance on Court Street by the Courthouse apartments.  If you do park on Court Street only park on the church side of the street or you could get towed. The parking meters on Main Street and State Street require money until 8:00 pm. The meter maids and dudes love to hand out tickets.
URL:https://bostoncoffeehouses.org/event/john-henrys-hammer-coffeehouse-open-mic-friday-2-27-2026/
LOCATION:John Henry’s Hammer Coffeehouse\, Worcester MA\, 90 Main St\, Worcester\, MA\, 01608\, United States
CATEGORIES:Coffeehouse,Open Mic
END:VEVENT
BEGIN:VEVENT
DTSTART;TZID=America/New_York:20260313T183000
DTEND;TZID=America/New_York:20260313T213000
DTSTAMP:20260421T064431
CREATED:20260304T192047Z
LAST-MODIFIED:20260304T192047Z
UID:10001031-1773426600-1773437400@bostoncoffeehouses.org
SUMMARY:John Henry’s Hammer Coffeehouse – Open Mic Friday 3/13/2026
DESCRIPTION:Here are the usual IMPORTANT details for JHH Open Mic:\n2nd and 4th Fridays (except when noted)\nFirst Unitarian Church\, 90 Main St\, Worcester\, MA\nDoors open and performer sign-up at 6:30 p.m.\nPerformances begin @ 7 p.m.\n10 minutes in the limelight- spoken word or music (usually two songs unless you choose to sing American Pie or some sea shanty with fifty verses). Duos or groups are considered one act and CANNOT sign up as single performers too. Putting on a clown wig will NOT fool us. $3.00 admission for everybody. Performer or spectator. Payable to the lovely lady at the folding card table (please bring $1 bills). Refreshments & snacks (donation appreciated).\nPLEASE enter State Street upper parking lot door.  Handicap parking and accessibility at the other side of the church on Court Street by the Courthouse apartments.  If you DO park on Court Street only park on the church side of the street or you could get towed. The parking meters on Main Street and State Street require money until 8:00 pm. The meter maids (and dudes) love to hand out tickets. \nWeather Cancellations: ANY weather cancellations of the Worcester Public Schools on the day of Open Mic WILL cancel Open Mic.
URL:https://bostoncoffeehouses.org/event/john-henrys-hammer-coffeehouse-open-mic-friday-3-13-2026/
LOCATION:John Henry’s Hammer Coffeehouse\, Worcester MA\, 90 Main St\, Worcester\, MA\, 01608\, United States
CATEGORIES:Coffeehouse,Open Mic
END:VEVENT
BEGIN:VEVENT
DTSTART;TZID=America/New_York:20260327T183000
DTEND;TZID=America/New_York:20260327T213000
DTSTAMP:20260421T064431
CREATED:20260304T192357Z
LAST-MODIFIED:20260304T192357Z
UID:10001032-1774636200-1774647000@bostoncoffeehouses.org
SUMMARY:John Henry’s Hammer Coffeehouse – Open Mic Friday 3/27/2026
DESCRIPTION:Here are the usual IMPORTANT details for JHH Open Mic:\n2nd and 4th Fridays (except when noted)\nFirst Unitarian Church\, 90 Main St\, Worcester\, MA\nDoors open and performer sign-up at 6:30 p.m.\nPerformances begin @ 7 p.m.\n10 minutes in the limelight- spoken word or music (usually two songs unless you choose to sing American Pie or some sea shanty with fifty verses). Duos or groups are considered one act and CANNOT sign up as single performers too. Putting on a clown wig will NOT fool us. $3.00 admission for everybody. Performer or spectator. Payable to the lovely lady at the folding card table (please bring $1 bills). Refreshments & snacks (donation appreciated).\nPLEASE enter State Street upper parking lot door.  Handicap parking and accessibility at the other side of the church on Court Street by the Courthouse apartments.  If you DO park on Court Street only park on the church side of the street or you could get towed. The parking meters on Main Street and State Street require money until 8:00 pm. The meter maids (and dudes) love to hand out tickets. \nWeather Cancellations: ANY weather cancellations of the Worcester Public Schools on the day of Open Mic WILL cancel Open Mic.
URL:https://bostoncoffeehouses.org/event/john-henrys-hammer-coffeehouse-open-mic-friday-3-27-2026/
LOCATION:John Henry’s Hammer Coffeehouse\, Worcester MA\, 90 Main St\, Worcester\, MA\, 01608\, United States
CATEGORIES:Coffeehouse,Open Mic
END:VEVENT
BEGIN:VEVENT
DTSTART;TZID=America/New_York:20260410T183000
DTEND;TZID=America/New_York:20260410T213000
DTSTAMP:20260421T064431
CREATED:20260304T192627Z
LAST-MODIFIED:20260304T192627Z
UID:10001033-1775845800-1775856600@bostoncoffeehouses.org
SUMMARY:John Henry’s Hammer Coffeehouse – Open Mic Friday 4/10/2026
DESCRIPTION:Here are the usual IMPORTANT details for JHH Open Mic:\n2nd and 4th Fridays (except when noted)\nFirst Unitarian Church\, 90 Main St\, Worcester\, MA\nDoors open and performer sign-up at 6:30 p.m.\nPerformances begin @ 7 p.m.\n10 minutes in the limelight- spoken word or music (usually two songs unless you choose to sing American Pie or some sea shanty with fifty verses). Duos or groups are considered one act and CANNOT sign up as single performers too. Putting on a clown wig will NOT fool us. $3.00 admission for everybody. Performer or spectator. Payable to the lovely lady at the folding card table (please bring $1 bills). Refreshments & snacks (donation appreciated).\nPLEASE enter State Street upper parking lot door.  Handicap parking and accessibility at the other side of the church on Court Street by the Courthouse apartments.  If you DO park on Court Street only park on the church side of the street or you could get towed. The parking meters on Main Street and State Street require money until 8:00 pm. The meter maids (and dudes) love to hand out tickets. \nWeather Cancellations: ANY weather cancellations of the Worcester Public Schools on the day of Open Mic WILL cancel Open Mic.
URL:https://bostoncoffeehouses.org/event/john-henrys-hammer-coffeehouse-open-mic-friday-4-10-2026/
LOCATION:John Henry’s Hammer Coffeehouse\, Worcester MA\, 90 Main St\, Worcester\, MA\, 01608\, United States
CATEGORIES:Coffeehouse,Open Mic
END:VEVENT
BEGIN:VEVENT
DTSTART;TZID=America/New_York:20260424T183000
DTEND;TZID=America/New_York:20260424T213000
DTSTAMP:20260421T064431
CREATED:20260304T192859Z
LAST-MODIFIED:20260304T192859Z
UID:10001034-1777055400-1777066200@bostoncoffeehouses.org
SUMMARY:John Henry’s Hammer Coffeehouse – Open Mic Friday 4/24/2026
DESCRIPTION:Here are the usual IMPORTANT details for JHH Open Mic:\n2nd and 4th Fridays (except when noted)\nFirst Unitarian Church\, 90 Main St\, Worcester\, MA\nDoors open and performer sign-up at 6:30 p.m.\nPerformances begin @ 7 p.m.\n10 minutes in the limelight- spoken word or music (usually two songs unless you choose to sing American Pie or some sea shanty with fifty verses). Duos or groups are considered one act and CANNOT sign up as single performers too. Putting on a clown wig will NOT fool us. $3.00 admission for everybody. Performer or spectator. Payable to the lovely lady at the folding card table (please bring $1 bills). Refreshments & snacks (donation appreciated).\nPLEASE enter State Street upper parking lot door.  Handicap parking and accessibility at the other side of the church on Court Street by the Courthouse apartments.  If you DO park on Court Street only park on the church side of the street or you could get towed. The parking meters on Main Street and State Street require money until 8:00 pm. The meter maids (and dudes) love to hand out tickets. \nWeather Cancellations: ANY weather cancellations of the Worcester Public Schools on the day of Open Mic WILL cancel Open Mic.
URL:https://bostoncoffeehouses.org/event/john-henrys-hammer-coffeehouse-open-mic-friday-4-24-2026/
LOCATION:John Henry’s Hammer Coffeehouse\, Worcester MA\, 90 Main St\, Worcester\, MA\, 01608\, United States
CATEGORIES:Coffeehouse,Open Mic
END:VEVENT
BEGIN:VEVENT
DTSTART;TZID=America/New_York:20260508T183000
DTEND;TZID=America/New_York:20260508T213000
DTSTAMP:20260421T064431
CREATED:20260417T204520Z
LAST-MODIFIED:20260417T204520Z
UID:10001072-1778265000-1778275800@bostoncoffeehouses.org
SUMMARY:John Henry’s Hammer Coffeehouse – Open Mic Friday
DESCRIPTION:Here are the usual IMPORTANT details for JHH Open Mic:\n2nd and 4th Fridays (except when noted)\nFirst Unitarian Church\, 90 Main St\, Worcester\, MA\nDoors open and performer sign-up at 6:30 p.m.\nPerformances begin @ 7 p.m.\n10 minutes in the limelight- spoken word or music (usually two songs unless you choose to sing American Pie or some sea shanty with fifty verses). Duos or groups are considered one act and CANNOT sign up as single performers too. Putting on a clown wig will NOT fool us. $3.00 admission for everybody. Performer or spectator. Payable to the lovely lady at the folding card table (please bring $1 bills). Refreshments & snacks (donation appreciated).\nPLEASE enter State Street upper parking lot door.  Handicap parking and accessibility at the other side of the church on Court Street by the Courthouse apartments.  If you DO park on Court Street only park on the church side of the street or you could get towed. The parking meters on Main Street and State Street require money until 8:00 pm. The meter maids (and dudes) love to hand out tickets.
URL:https://bostoncoffeehouses.org/event/john-henrys-hammer-coffeehouse-open-mic-friday/
LOCATION:John Henry’s Hammer Coffeehouse\, Worcester MA\, 90 Main St\, Worcester\, MA\, 01608\, United States
CATEGORIES:Coffeehouse,Open Mic
END:VEVENT
BEGIN:VEVENT
DTSTART;TZID=America/New_York:20260522T183000
DTEND;TZID=America/New_York:20260522T213000
DTSTAMP:20260421T064431
CREATED:20260417T204734Z
LAST-MODIFIED:20260417T204734Z
UID:10001073-1779474600-1779485400@bostoncoffeehouses.org
SUMMARY:John Henry’s Hammer Coffeehouse – Open Mic Friday
DESCRIPTION:Here are the usual IMPORTANT details for JHH Open Mic:\n2nd and 4th Fridays (except when noted)\nFirst Unitarian Church\, 90 Main St\, Worcester\, MA\nDoors open and performer sign-up at 6:30 p.m.\nPerformances begin @ 7 p.m.\n10 minutes in the limelight- spoken word or music (usually two songs unless you choose to sing American Pie or some sea shanty with fifty verses). Duos or groups are considered one act and CANNOT sign up as single performers too. Putting on a clown wig will NOT fool us. $3.00 admission for everybody. Performer or spectator. Payable to the lovely lady at the folding card table (please bring $1 bills). Refreshments & snacks (donation appreciated).\nPLEASE enter State Street upper parking lot door.  Handicap parking and accessibility at the other side of the church on Court Street by the Courthouse apartments.  If you DO park on Court Street only park on the church side of the street or you could get towed. The parking meters on Main Street and State Street require money until 8:00 pm. The meter maids (and dudes) love to hand out tickets.
URL:https://bostoncoffeehouses.org/event/john-henrys-hammer-coffeehouse-open-mic-friday-2/
LOCATION:John Henry’s Hammer Coffeehouse\, Worcester MA\, 90 Main St\, Worcester\, MA\, 01608\, United States
CATEGORIES:Coffeehouse,Open Mic
END:VEVENT
END:VCALENDAR