BEGIN:VCALENDAR
VERSION:2.0
PRODID:-//BACHA - ECPv6.15.19//NONSGML v1.0//EN
CALSCALE:GREGORIAN
METHOD:PUBLISH
X-WR-CALNAME:BACHA
X-ORIGINAL-URL:https://bostoncoffeehouses.org
X-WR-CALDESC:Events for BACHA
REFRESH-INTERVAL;VALUE=DURATION:PT1H
X-Robots-Tag:noindex
X-PUBLISHED-TTL:PT1H
BEGIN:VTIMEZONE
TZID:America/New_York
BEGIN:DAYLIGHT
TZOFFSETFROM:-0500
TZOFFSETTO:-0400
TZNAME:EDT
DTSTART:20240310T070000
END:DAYLIGHT
BEGIN:STANDARD
TZOFFSETFROM:-0400
TZOFFSETTO:-0500
TZNAME:EST
DTSTART:20241103T060000
END:STANDARD
BEGIN:DAYLIGHT
TZOFFSETFROM:-0500
TZOFFSETTO:-0400
TZNAME:EDT
DTSTART:20250309T070000
END:DAYLIGHT
BEGIN:STANDARD
TZOFFSETFROM:-0400
TZOFFSETTO:-0500
TZNAME:EST
DTSTART:20251102T060000
END:STANDARD
BEGIN:DAYLIGHT
TZOFFSETFROM:-0500
TZOFFSETTO:-0400
TZNAME:EDT
DTSTART:20260308T070000
END:DAYLIGHT
BEGIN:STANDARD
TZOFFSETFROM:-0400
TZOFFSETTO:-0500
TZNAME:EST
DTSTART:20261101T060000
END:STANDARD
END:VTIMEZONE
BEGIN:VEVENT
DTSTART;TZID=America/New_York:20251010T183000
DTEND;TZID=America/New_York:20251010T213000
DTSTAMP:20260423T081039
CREATED:20250925T120751Z
LAST-MODIFIED:20250925T120751Z
UID:10000923-1760121000-1760131800@bostoncoffeehouses.org
SUMMARY:John Henry's Hammer Coffeehouse- Open Mic
DESCRIPTION:2nd and 4th Fridays (except when noted)\nFirst Unitarian Church\, 90 Main St\, Worcester\, MA\nDoors open and performer sign-up at 6:30 p.m.\nPerformances begin @ 7 p.m.\n10 minutes in the limelight- spoken word or music (usually two songs unless you choose to sing American Pie or some sea shanty with fifty verses). Duos or groups are considered one act and CANNOT sign up as single performers too. Wearing a Richard Nixon mask will NOT fool us. $3.00 admission for everybody. Performer or spectator. Payable to the lovely lady at the folding card table (please bring $1 bills). Refreshments & snacks (donation appreciated).\nPLEASE enter State Street upper parking lot door.  Handicap parking and accessibility at the other side of the church on Court Street by the Courthouse apartments.  If you DO park on Court Street only park on the church side of the street or you could get towed. The parking meters on Main Street and State Street require money until 8:00 pm. The meter maids and dudes love to hand out tickets.
URL:https://bostoncoffeehouses.org/event/john-henrys-hammer-coffeehouse-open-mic-6/
LOCATION:John Henry’s Hammer Coffeehouse\, Worcester MA\, 90 Main St\, Worcester\, MA\, 01608\, United States
CATEGORIES:Coffeehouse,Open Mic
END:VEVENT
BEGIN:VEVENT
DTSTART;TZID=America/New_York:20251016T180000
DTEND;TZID=America/New_York:20251016T213000
DTSTAMP:20260423T081039
CREATED:20250911T154834Z
LAST-MODIFIED:20250911T154834Z
UID:10000915-1760637600-1760650200@bostoncoffeehouses.org
SUMMARY:Open Mic Night at The Music Mansion
DESCRIPTION:Over the last couple years we have tried a lot of things on our open mic stage. In Season 42\, we held workshops for developing musicians. in Season 43\, we invited hosts of other open mics around the state to feature on our stage. We trained new sound engineers only to forgo all the tech. It’s now musicians and audiences in a room together – a room designed for music to flow and flourish. \nEd Dean returns as our open mic host\, opening the doors to The Music Mansion. It’s a welcoming environment for beginners\, new artists\, and veteran local musicians. The Open Mic Series is one of the ways we practice what we preach and Ed is an  incredible minister for this community. Hope to see you there.
URL:https://bostoncoffeehouses.org/event/open-mic-night-at-the-music-mansion/2025-10-16/
LOCATION:Stone Soup Coffeehouse\, 88 Meeting Street\, Providence\, RI\, 02906\, United States
CATEGORIES:Coffeehouse,Open Mic
ATTACH;FMTTYPE=image/png:https://bostoncoffeehouses.org/wp-content/uploads/2025/09/OpenMicImageForFacebook.png
ORGANIZER;CN="Stone Soup Coffeehouse":MAILTO:stonesoup.coffeehouse@gmail.com
END:VEVENT
BEGIN:VEVENT
DTSTART;TZID=America/New_York:20251024T183000
DTEND;TZID=America/New_York:20251024T213000
DTSTAMP:20260423T081039
CREATED:20250925T121143Z
LAST-MODIFIED:20250925T121143Z
UID:10000924-1761330600-1761341400@bostoncoffeehouses.org
SUMMARY:John Henry's Hammer Coffeehouse - Open Mic
DESCRIPTION:2nd and 4th Fridays (except when noted)\nFirst Unitarian Church\, 90 Main St\, Worcester\, MA\nDoors open and performer sign-up at 6:30 p.m.\nPerformances begin @ 7 p.m.\n10 minutes in the limelight- spoken word or music (usually two songs unless you choose to sing American Pie or some sea shanty with fifty verses). Duos or groups are considered one act and CANNOT sign up as single performers too. Wearing a Richard Nixon mask will NOT fool us. $3.00 admission for everybody. Performer or spectator. Payable to the lovely lady at the folding card table (please bring $1 bills). Refreshments & snacks (donation appreciated).\nPLEASE enter State Street upper parking lot door.  Handicap parking and accessibility at the other side of the church on Court Street by the Courthouse apartments.  If you DO park on Court Street only park on the church side of the street or you could get towed. The parking meters on Main Street and State Street require money until 8:00 pm. The meter maids and dudes love to hand out tickets.
URL:https://bostoncoffeehouses.org/event/john-henrys-hammer-coffeehouse-open-mic-7/
LOCATION:John Henry’s Hammer Coffeehouse\, Worcester MA\, 90 Main St\, Worcester\, MA\, 01608\, United States
CATEGORIES:Coffeehouse,Open Mic
END:VEVENT
BEGIN:VEVENT
DTSTART;TZID=America/New_York:20251024T190000
DTEND;TZID=America/New_York:20251024T211500
DTSTAMP:20260423T081039
CREATED:20251003T030024Z
LAST-MODIFIED:20251003T030519Z
UID:10000931-1761332400-1761340500@bostoncoffeehouses.org
SUMMARY:The Lindsays - Coffeehouse with Mini Open Mic
DESCRIPTION:With influences from all across the board\, The Lindsays have been described as an eclectic mix of music Irish\, Folk and beyond!  The band has had different line-ups with Stephen Lindsay being the constant on vocals and guitar\, having grown up in Dublin with ballads and tunes\, taking influences from Christy Moore\, Wally Page\, The Dubliners\, The Furey Brothers\, Wolfe Tones\, Jim McCann\, The Pogues\, Bob Dylan\, John Prine and others.  Playing with a strong rhythm driving style\, Stephen sings with emotion and heartfelt delivery.  From Bristol RI\, with a bluegrass background\, Ted Mello plays upright bass and backing vocals\, bringing much ambiance to the trio.  Katy Boc Nickerson plays exquisite fiddle\, adding her unique style to the songs and ballads while also paying attention to the Irish tradition with sets of jigs\, reels\, horn pipe and an occasional slow air.  Together The Lindsays make up a powerful pulse of music that will move you\, letting the lyrics linger a little longer or breaking out to dance a few steps!
URL:https://bostoncoffeehouses.org/event/the-lindsays-coffeehouse-with-mini-open-mic/
LOCATION:South Shore Folk Music Club\, Duxbury MA\, 842 Tremont St\, Duxbury\, MA\, 02332\, United States
CATEGORIES:Coffeehouse,Irish Band,Irish Music,Open Mic
ATTACH;FMTTYPE=image/jpeg:https://bostoncoffeehouses.org/wp-content/uploads/2025/10/The-Lindsays-6Sep25.jpg
END:VEVENT
END:VCALENDAR