BEGIN:VCALENDAR
VERSION:2.0
PRODID:-//BACHA - ECPv6.15.19//NONSGML v1.0//EN
CALSCALE:GREGORIAN
METHOD:PUBLISH
X-WR-CALNAME:BACHA
X-ORIGINAL-URL:https://bostoncoffeehouses.org
X-WR-CALDESC:Events for BACHA
REFRESH-INTERVAL;VALUE=DURATION:PT1H
X-Robots-Tag:noindex
X-PUBLISHED-TTL:PT1H
BEGIN:VTIMEZONE
TZID:America/New_York
BEGIN:DAYLIGHT
TZOFFSETFROM:-0500
TZOFFSETTO:-0400
TZNAME:EDT
DTSTART:20240310T070000
END:DAYLIGHT
BEGIN:STANDARD
TZOFFSETFROM:-0400
TZOFFSETTO:-0500
TZNAME:EST
DTSTART:20241103T060000
END:STANDARD
BEGIN:DAYLIGHT
TZOFFSETFROM:-0500
TZOFFSETTO:-0400
TZNAME:EDT
DTSTART:20250309T070000
END:DAYLIGHT
BEGIN:STANDARD
TZOFFSETFROM:-0400
TZOFFSETTO:-0500
TZNAME:EST
DTSTART:20251102T060000
END:STANDARD
BEGIN:DAYLIGHT
TZOFFSETFROM:-0500
TZOFFSETTO:-0400
TZNAME:EDT
DTSTART:20260308T070000
END:DAYLIGHT
BEGIN:STANDARD
TZOFFSETFROM:-0400
TZOFFSETTO:-0500
TZNAME:EST
DTSTART:20261101T060000
END:STANDARD
END:VTIMEZONE
BEGIN:VEVENT
DTSTART;VALUE=DATE:20250711
DTEND;VALUE=DATE:20250713
DTSTAMP:20260423T125724
CREATED:20250509T152201Z
LAST-MODIFIED:20250525T191824Z
UID:10000798-1752202800-1752289199@bostoncoffeehouses.org
SUMMARY:John Henry’s Hammer Coffeehouse – Open Mic Friday 7/11/2025 - Summer Vacation
DESCRIPTION:JHH Summer Vacation – See you on September 12th
URL:https://bostoncoffeehouses.org/event/john-henrys-hammer-coffeehouse-open-mic-friday-7-11-2025/
LOCATION:John Henry’s Hammer Coffeehouse\, Worcester MA\, 90 Main St\, Worcester\, MA\, 01608\, United States
CATEGORIES:Coffeehouse,Open Mic
END:VEVENT
BEGIN:VEVENT
DTSTART;VALUE=DATE:20250725
DTEND;VALUE=DATE:20250727
DTSTAMP:20260423T125724
CREATED:20250509T153014Z
LAST-MODIFIED:20250525T191753Z
UID:10000800-1753412400-1753498799@bostoncoffeehouses.org
SUMMARY:John Henry’s Hammer Coffeehouse – Open Mic Friday 7/25/2025 - Summer Vacation
DESCRIPTION:JHH Summer Vacation – See you on September 12th
URL:https://bostoncoffeehouses.org/event/john-henrys-hammer-coffeehouse-open-mic-friday-7-25-2025-summer-vacation/
LOCATION:John Henry’s Hammer Coffeehouse\, Worcester MA\, 90 Main St\, Worcester\, MA\, 01608\, United States
CATEGORIES:Coffeehouse,Open Mic
END:VEVENT
END:VCALENDAR