BEGIN:VCALENDAR
VERSION:2.0
PRODID:-//BACHA - ECPv6.15.19//NONSGML v1.0//EN
CALSCALE:GREGORIAN
METHOD:PUBLISH
X-WR-CALNAME:BACHA
X-ORIGINAL-URL:https://bostoncoffeehouses.org
X-WR-CALDESC:Events for BACHA
REFRESH-INTERVAL;VALUE=DURATION:PT1H
X-Robots-Tag:noindex
X-PUBLISHED-TTL:PT1H
BEGIN:VTIMEZONE
TZID:America/New_York
BEGIN:DAYLIGHT
TZOFFSETFROM:-0500
TZOFFSETTO:-0400
TZNAME:EDT
DTSTART:20240310T070000
END:DAYLIGHT
BEGIN:STANDARD
TZOFFSETFROM:-0400
TZOFFSETTO:-0500
TZNAME:EST
DTSTART:20241103T060000
END:STANDARD
BEGIN:DAYLIGHT
TZOFFSETFROM:-0500
TZOFFSETTO:-0400
TZNAME:EDT
DTSTART:20250309T070000
END:DAYLIGHT
BEGIN:STANDARD
TZOFFSETFROM:-0400
TZOFFSETTO:-0500
TZNAME:EST
DTSTART:20251102T060000
END:STANDARD
BEGIN:DAYLIGHT
TZOFFSETFROM:-0500
TZOFFSETTO:-0400
TZNAME:EDT
DTSTART:20260308T070000
END:DAYLIGHT
BEGIN:STANDARD
TZOFFSETFROM:-0400
TZOFFSETTO:-0500
TZNAME:EST
DTSTART:20261101T060000
END:STANDARD
BEGIN:DAYLIGHT
TZOFFSETFROM:-0500
TZOFFSETTO:-0400
TZNAME:EDT
DTSTART:20270314T070000
END:DAYLIGHT
BEGIN:STANDARD
TZOFFSETFROM:-0400
TZOFFSETTO:-0500
TZNAME:EST
DTSTART:20271107T060000
END:STANDARD
END:VTIMEZONE
BEGIN:VEVENT
DTSTART;TZID=America/New_York:20251129T190000
DTEND;TZID=America/New_York:20251129T211500
DTSTAMP:20260421T102212
CREATED:20251106T231836Z
LAST-MODIFIED:20251106T231836Z
UID:10000963-1764442800-1764450900@bostoncoffeehouses.org
SUMMARY:Third Annual Post-Thanksgiving Hootenanny - Steve Folino and the Folk Ensemble
DESCRIPTION:The South Shore Folk Music Club will present the ‘Third Annual Thanksgiving Hootenanny’ at 7 p.m. Saturday November 29\, 2025.  Steve Folino and the Folk Ensemble\, in the round\, will feature Old Time Country and some sing-alongs.  Special guest musicians Leif Lomeman\, will be on pedal steel and singer\, Hal Marshman will do some Country Classics justice!  Mark your calendars for this post-Thanksgiving extravaganza – a night of acoustic folk from some of the finest local musicians in the area!  Enjoy home-made goodies\, folk friends and folk ambiance!
URL:https://bostoncoffeehouses.org/event/third-annual-post-thanksgiving-hootenanny-steve-folino-and-the-folk-ensemble/
LOCATION:South Shore Folk Music Club\, Duxbury MA\, 842 Tremont St\, Duxbury\, MA\, 02332\, United States
CATEGORIES:Americana,Concert,Country Classics,Old-Time,Sing-Alongs
ATTACH;FMTTYPE=image/jpeg:https://bostoncoffeehouses.org/wp-content/uploads/2025/11/IMG_3560.jpeg
END:VEVENT
BEGIN:VEVENT
DTSTART;TZID=America/New_York:20260131T193000
DTEND;TZID=America/New_York:20260131T210000
DTSTAMP:20260421T102212
CREATED:20250918T190456Z
LAST-MODIFIED:20250918T194605Z
UID:10000921-1769887800-1769893200@bostoncoffeehouses.org
SUMMARY:Fiddler\, singer and songwriter Kathleen Parks
DESCRIPTION:Kathleen Parks is a fiddler\, singer\, and songwriter who brings joyful and creative energy to the stage and studio. \nHer writing leans toward Pop\, Folk\, and classic Jazz\, while her virtuosic fiddle blends and reimagines traditional and modern musical styles with boundless groove\, and a playful improvisational spirit. \nHer deep grounding in Celtic and American roots music blends with her love for pop songwriting\, funk rhythms\, soulful vocals\, and groove-based improvisation\, making every performance unexpected yet familiar: a musical journey from beginning to end. \nFor Kathleen\, music is not about perfection\, but feeling.   This is what has always driven her to write\, sing\, and play. Without feeling\, why play music? Music is a means to express and release our emotions. Understand the feeling\, move the energy\, and bring joy and healing in. Connection to yourself is key to playing\, to playing with others\, and moving an audience. Kathleen strives to always bring this musical value to her teaching and performances alike. \nKathleen is also a founding member of Twisted Pine and the duo Kat and Brad. \n“Goosebump-inducing vocal performances from Kathleen Parks…”– Glide Magazine – \nSee kathleenparksmusic.com for more info. \nTickets are $20 in advance at Eventbrite.com and $25 on the day of the concert.  Doors open at 7:00 and the show begins at 7:30. \nClick to buy tickets now.
URL:https://bostoncoffeehouses.org/event/fiddler-singer-and-songwriter-kathleen-parks/
LOCATION:New Revival Coffeehouse\, Stow MA\, 353 Great Rd\, Stow\, MA\, 01775\, United States
CATEGORIES:Americana,Bluegrass,Coffeehouse,Concert,Folksinger,Music,Old-Time,Singer-songwriter
ATTACH;FMTTYPE=image/jpeg:https://bostoncoffeehouses.org/wp-content/uploads/2025/09/293190574_445548877579033_4847678359523763572_n.jpg
ORGANIZER;CN="New Revival Coffeehouse":MAILTO:coffeehouse@fpc-stow-acton.org
END:VEVENT
BEGIN:VEVENT
DTSTART;TZID=America/New_York:20260329T160000
DTEND;TZID=America/New_York:20260329T180000
DTSTAMP:20260421T102212
CREATED:20251231T190344Z
LAST-MODIFIED:20251231T190344Z
UID:10000996-1774800000-1774807200@bostoncoffeehouses.org
SUMMARY:Andy Cohen\, Eleanor Ellis and William Lee Ellis House Concert
DESCRIPTION:$20 at the door\nReservations required: HouseConcerts@fssgb.org \nAcclaimed acoustic performers Andy Cohen\, Eleanor Ellis and William Lee Ellis return as a trio with this new album\, WHISTLIN’ PAST THE GRAVEYARD. Released on Cohen’s Riverlark label\, the ambitious project is a 21-track tour-de-force of old-time blues\, gospel\, ballads\, ragtime\, and country song that surpasses their previous high bar\, the 1993 Marimac outing\, Preachin’ in That Wilderness. \nAll three musicians have established themselves as noted artists in the folk and blues worlds\, both on stage and in the studio: Eleanor records for the Patuxent label\, Andy for Earwig Music\, and William for Yellow Dog\, where his latest solo album\, Ghost Hymns\, earned a Blues Music Awards nomination for Acoustic Blues Album of the Year. \nProduced by William Lee Ellis and River Hartley (Ghost Hymns)\, Whistlin’ is a truly unique listen\, one that fits no single musical category; rather\, it explores with finger-picked verve and joy the expansive palette of America’s musical past\, still relevant and very much alive in the sound of this remarkable trio. \nANDY COHEN: “A singularly unique figure\, Andy Cohen deserves some long overdue accolades.” – ALL MUSIC GUIDE \nELEANOR ELLIS: “A celebrated master of the country and Piedmont blues\, one of the most significant women in the acoustic genre… a torchbearer.” – LIVING BLUES \nWILLIAM LEE ELLIS: “A masterful genre-bender who sounds completely at home and thoroughly invested in whatever style he tackles.” – ACOUSTIC GUITAR
URL:https://bostoncoffeehouses.org/event/andy-cohen-eleanor-ellis-and-william-lee-ellis-house-concert/
LOCATION:Private home\, given when you reserve a seat\, TBD\, United States
CATEGORIES:Americana,Blues,Concert,Folksinger,House Concert,Music,Old-Time
ATTACH;FMTTYPE=image/png:https://bostoncoffeehouses.org/wp-content/uploads/2025/12/CohenEllisEllis.png
END:VEVENT
END:VCALENDAR