BEGIN:VCALENDAR
VERSION:2.0
PRODID:-//BACHA - ECPv6.15.19//NONSGML v1.0//EN
CALSCALE:GREGORIAN
METHOD:PUBLISH
X-WR-CALNAME:BACHA
X-ORIGINAL-URL:https://bostoncoffeehouses.org
X-WR-CALDESC:Events for BACHA
REFRESH-INTERVAL;VALUE=DURATION:PT1H
X-Robots-Tag:noindex
X-PUBLISHED-TTL:PT1H
BEGIN:VTIMEZONE
TZID:America/New_York
BEGIN:DAYLIGHT
TZOFFSETFROM:-0500
TZOFFSETTO:-0400
TZNAME:EDT
DTSTART:20250309T070000
END:DAYLIGHT
BEGIN:STANDARD
TZOFFSETFROM:-0400
TZOFFSETTO:-0500
TZNAME:EST
DTSTART:20251102T060000
END:STANDARD
BEGIN:DAYLIGHT
TZOFFSETFROM:-0500
TZOFFSETTO:-0400
TZNAME:EDT
DTSTART:20260308T070000
END:DAYLIGHT
BEGIN:STANDARD
TZOFFSETFROM:-0400
TZOFFSETTO:-0500
TZNAME:EST
DTSTART:20261101T060000
END:STANDARD
BEGIN:DAYLIGHT
TZOFFSETFROM:-0500
TZOFFSETTO:-0400
TZNAME:EDT
DTSTART:20270314T070000
END:DAYLIGHT
BEGIN:STANDARD
TZOFFSETFROM:-0400
TZOFFSETTO:-0500
TZNAME:EST
DTSTART:20271107T060000
END:STANDARD
END:VTIMEZONE
BEGIN:VEVENT
DTSTART;TZID=America/New_York:20260116T193000
DTEND;TZID=America/New_York:20260116T213000
DTSTAMP:20260421T090912
CREATED:20251020T155531Z
LAST-MODIFIED:20251020T163721Z
UID:10000940-1768591800-1768599000@bostoncoffeehouses.org
SUMMARY:Rachel Sumner and Traveling Light
DESCRIPTION:Rachel Sumner & Traveling Light are a Boston-based string band making music that blends folk tradition with feminist storytelling\, poetic detail\, and just enough grit. At the center is Sumner’s songwriting—rooted in history\, myth\, and personal reckoning—carried by close harmonies\, upright bass\, acoustic guitar\, and fiddle. The trio features Kat Wallace on fiddle and vocals and Mike Siegel on upright bass and vocals\, whose playing brings both tension and tenderness to the sound. \nThey are the winners of the 2025 Telluride Bluegrass Band Contest.
URL:https://bostoncoffeehouses.org/event/rachel-sumner-and-traveling-light-2/
LOCATION:Follen Folk Nights\, Lexington MA\, 755 Massachusetts Ave\, Lexington\, MA\, 02420\, United States
CATEGORIES:Americana,Bluegrass,Concert,Music
END:VEVENT
BEGIN:VEVENT
DTSTART;TZID=America/New_York:20260117T160000
DTEND;TZID=America/New_York:20260117T180000
DTSTAMP:20260421T090912
CREATED:20251231T184638Z
LAST-MODIFIED:20251231T184811Z
UID:10000993-1768665600-1768672800@bostoncoffeehouses.org
SUMMARY:Annual FSSGB Members' Concert
DESCRIPTION:$10 for all\, cash at the door (age 17 and under free)\nNote: parking is tricky – see this handy parking guide! \nIf you’re a FSSGB member and you’d like to perform\, contact Lori Fassman at lori.fassman@gmail.com to sign up by January 10. \nThe annual FSSGB members’ concert is always a popular event. Our members perform songs which range from traditional ballads to original compositions\, and from instrumental to a cappella pieces. Some of the instruments that have been played at this concert in the past include violin\, cello\, banjo\, mandolin\, guitar\, bass\, keyboard and concertina. Some FSSGB members who have performed at this event have gone on to have successful performing careers\, such as Elijah Wald\, Mark Ryer\, Fool’s Errand and Merle Roesler. \nOur hosts will be Lori Fassman and Paul Beck. They are long-time FSSGB members who are both past Presidents of FSSGB. \nFSSGB members (including new members!) are invited to sign up to perform – one song or a spoken word piece. You may perform alone or with others. Some performers have been participating for years; others will do so for the first time. Children are most welcome. The program will feature professional musicians as well as living room folk enthusiasts. All are welcome. The Midweek Singers are an important part of the program as are the many members who show up especially for this event. The audience is always supportive and lively. \nProceeds from this show help keep the Society strong – we thank the performers and the audience for making this event possible.\nSee you there!
URL:https://bostoncoffeehouses.org/event/annual-fssgb-members-concert-2/
LOCATION:First Parish in Waltham\, 50 Church Street\, Waltham\, MA\, 02452
CATEGORIES:Concert,Music
ATTACH;FMTTYPE=image/webp:https://bostoncoffeehouses.org/wp-content/uploads/2025/12/membconc.webp
END:VEVENT
BEGIN:VEVENT
DTSTART;TZID=America/New_York:20260117T183000
DTEND;TZID=America/New_York:20260117T213000
DTSTAMP:20260421T090912
CREATED:20251221T225709Z
LAST-MODIFIED:20251221T231244Z
UID:10000979-1768674600-1768685400@bostoncoffeehouses.org
SUMMARY:North Reading Community Coffeehouse January\, 2026 Showcase - Special Event
DESCRIPTION:The North Reading Community Coffeehouse is proud to present its January\, 2026 Showcase. Unlike our usual Showcase events\, we have only two performers – Ric Page and The Fretbenders (Dee and Bob Kordas)  These are three exceptionally talented musicians and performers and they will each be doing extended sets of an hour\, each.  They will provide a nice variety of music which will make for a very entertaining show.  .The event is free but donations will be gratefully accepted and we will be offering refreshments with all the proceeds going to the Friends of the Flint Memorial Library in North Reading with whom we will be doing these concerts in conjunction with\, to help support the library.\n\nThe event will also be livestreamed on the North Reading Community Coffeehouse Facebook page and on the YouTube channel the following day! \nWe are located in the Activity Room of the Flint Memorial Library at 147 Park Street in North Reading.  There is plenty of free parking.  We start at 6:30.  Please come\, sit back\, relax and listen to some terrific music!  If you have any questions\, please contact Art Grossman at NRCoffeehouse@gmail.com.\n\n\n\n 
URL:https://bostoncoffeehouses.org/event/north-reading-community-coffeehouse-january-2026-showcase-special-event/
LOCATION:North Reading Community Coffeehouse\, North Reading MA\, 147 Park St\, North Reading\, MA\, 01864\, United States
CATEGORIES:Coffeehouse,Concert,Music,Singer-songwriter
ATTACH;FMTTYPE=image/png:https://bostoncoffeehouses.org/wp-content/uploads/2024/02/NRCC-FB-Page-Logo.png
END:VEVENT
BEGIN:VEVENT
DTSTART;TZID=America/New_York:20260124T193000
DTEND;TZID=America/New_York:20260124T213000
DTSTAMP:20260421T090912
CREATED:20251221T232908Z
LAST-MODIFIED:20251223T170242Z
UID:10000980-1769283000-1769290200@bostoncoffeehouses.org
SUMMARY:North Reading Community Coffeehouse - Performing Artist Series Featuring "The Loose Change Trio"
DESCRIPTION:The North Reading Community Coffeehouse (NRCC) is proud to welcome again The Loose Change Trio” featuring Gary Dolinsky\, Dominic Priolo and Larry Plitt. \nWhile they are each outstanding musicians in their own right\, they complement each other beautifully. \nThe Loose Change Trio performs songs that spans several generations creating a unique and pleasing mix of old and new! \nTheir songbook includes classic country\, blues\, Motown\, pop music\, folk\, bluegrass\, and even a few “standards”. They are three distinct voices accompanied on acoustic and electric guitar\, harmonica and ukulele bass.  Dominic Priolo\, Larry Plitt and Gary Dolinsky are three seasoned performers who have played on stages large and small throughout the Northeast since the 1970’s.\nA Loose Change performance is always fun! \nThe concert is free\, but there will be a “Suggested Donation” of $10\, if you are in a position to do so.  The important thing is join us if you can and do what we can to help keep live music alive! \nFor more about The Loose Change Trio\, you can go to their Facebook page at: \nwww.facebook.com/loose.change.trio \nA portion of the proceeds will go to the Friends of the Flint Memorial Library in North Reading with whom we will be doing these concerts in conjunction with\, to help support the library.  We are located in the Activity Room of the Flint Memorial Library at 147 Park Street in North Reading.  There is plenty of free parking.  Please come\, sit back\, relax and listen to some terrific music!  This event is partially sponsored by the North Reading chapter of the Massachusetts Cultural Council.  If you have any questions\, please contact Art Grossman at NRCoffeehouse@gmail.com.“
URL:https://bostoncoffeehouses.org/event/north-reading-community-coffeehouse-performing-artist-series-featuring-the-loose-change-trio/
LOCATION:North Reading Community Coffeehouse\, North Reading MA\, 147 Park St\, North Reading\, MA\, 01864\, United States
CATEGORIES:Blues,Coffeehouse,Multi-instrumentalist,Music
ATTACH;FMTTYPE=image/jpeg:https://bostoncoffeehouses.org/wp-content/uploads/2025/12/Loose-Change-3-scaled.jpg
ORGANIZER;CN="Art Grossman":MAILTO:NRCoffeehouse@gmail.com
END:VEVENT
BEGIN:VEVENT
DTSTART;TZID=America/New_York:20260131T193000
DTEND;TZID=America/New_York:20260131T210000
DTSTAMP:20260421T090912
CREATED:20250918T190456Z
LAST-MODIFIED:20250918T194605Z
UID:10000921-1769887800-1769893200@bostoncoffeehouses.org
SUMMARY:Fiddler\, singer and songwriter Kathleen Parks
DESCRIPTION:Kathleen Parks is a fiddler\, singer\, and songwriter who brings joyful and creative energy to the stage and studio. \nHer writing leans toward Pop\, Folk\, and classic Jazz\, while her virtuosic fiddle blends and reimagines traditional and modern musical styles with boundless groove\, and a playful improvisational spirit. \nHer deep grounding in Celtic and American roots music blends with her love for pop songwriting\, funk rhythms\, soulful vocals\, and groove-based improvisation\, making every performance unexpected yet familiar: a musical journey from beginning to end. \nFor Kathleen\, music is not about perfection\, but feeling.   This is what has always driven her to write\, sing\, and play. Without feeling\, why play music? Music is a means to express and release our emotions. Understand the feeling\, move the energy\, and bring joy and healing in. Connection to yourself is key to playing\, to playing with others\, and moving an audience. Kathleen strives to always bring this musical value to her teaching and performances alike. \nKathleen is also a founding member of Twisted Pine and the duo Kat and Brad. \n“Goosebump-inducing vocal performances from Kathleen Parks…”– Glide Magazine – \nSee kathleenparksmusic.com for more info. \nTickets are $20 in advance at Eventbrite.com and $25 on the day of the concert.  Doors open at 7:00 and the show begins at 7:30. \nClick to buy tickets now.
URL:https://bostoncoffeehouses.org/event/fiddler-singer-and-songwriter-kathleen-parks/
LOCATION:New Revival Coffeehouse\, Stow MA\, 353 Great Rd\, Stow\, MA\, 01775\, United States
CATEGORIES:Americana,Bluegrass,Coffeehouse,Concert,Folksinger,Music,Old-Time,Singer-songwriter
ATTACH;FMTTYPE=image/jpeg:https://bostoncoffeehouses.org/wp-content/uploads/2025/09/293190574_445548877579033_4847678359523763572_n.jpg
ORGANIZER;CN="New Revival Coffeehouse":MAILTO:coffeehouse@fpc-stow-acton.org
END:VEVENT
END:VCALENDAR