BEGIN:VCALENDAR
VERSION:2.0
PRODID:-//BACHA - ECPv6.15.19//NONSGML v1.0//EN
CALSCALE:GREGORIAN
METHOD:PUBLISH
X-ORIGINAL-URL:https://bostoncoffeehouses.org
X-WR-CALDESC:Events for BACHA
REFRESH-INTERVAL;VALUE=DURATION:PT1H
X-Robots-Tag:noindex
X-PUBLISHED-TTL:PT1H
BEGIN:VTIMEZONE
TZID:America/New_York
BEGIN:DAYLIGHT
TZOFFSETFROM:-0500
TZOFFSETTO:-0400
TZNAME:EDT
DTSTART:20250309T070000
END:DAYLIGHT
BEGIN:STANDARD
TZOFFSETFROM:-0400
TZOFFSETTO:-0500
TZNAME:EST
DTSTART:20251102T060000
END:STANDARD
BEGIN:DAYLIGHT
TZOFFSETFROM:-0500
TZOFFSETTO:-0400
TZNAME:EDT
DTSTART:20260308T070000
END:DAYLIGHT
BEGIN:STANDARD
TZOFFSETFROM:-0400
TZOFFSETTO:-0500
TZNAME:EST
DTSTART:20261101T060000
END:STANDARD
BEGIN:DAYLIGHT
TZOFFSETFROM:-0500
TZOFFSETTO:-0400
TZNAME:EDT
DTSTART:20270314T070000
END:DAYLIGHT
BEGIN:STANDARD
TZOFFSETFROM:-0400
TZOFFSETTO:-0500
TZNAME:EST
DTSTART:20271107T060000
END:STANDARD
END:VTIMEZONE
BEGIN:VEVENT
DTSTART;TZID=America/New_York:20260321T190000
DTEND;TZID=America/New_York:20260321T210000
DTSTAMP:20260421T140311
CREATED:20260312T040250Z
LAST-MODIFIED:20260313T042254Z
UID:10001061-1774119600-1774126800@bostoncoffeehouses.org
SUMMARY:Torrin and Amy Irish Music
DESCRIPTION:Saint Patricks Day Special\nTorrin Ryan is an Uilleann piper\, flute player\, and whistle player with over 20 years of experience touring\, teaching\, performing\, and playing Irish traditional music.\nAmy Law is an Irish fiddler and Sean-nós dancer from Southern California who has been playing music and dancing for over 20 years. She has experience playing for ceili\, set\, and contra dances throughout the Westcoast\, and hosts sessions every week in the Boston area.
URL:https://bostoncoffeehouses.org/event/turin-and-amy-irish-music/
LOCATION:Not Just Another Coffeehouse\, Sharon MA\, 4 North Main St.\, Sharon\, MA\, 02067\, United States
CATEGORIES:Irish Music
ATTACH;FMTTYPE=image/jpeg:https://bostoncoffeehouses.org/wp-content/uploads/2026/03/ryan-law.jpeg
END:VEVENT
END:VCALENDAR