BEGIN:VCALENDAR
VERSION:2.0
PRODID:-//BACHA - ECPv6.15.19//NONSGML v1.0//EN
CALSCALE:GREGORIAN
METHOD:PUBLISH
X-ORIGINAL-URL:https://bostoncoffeehouses.org
X-WR-CALDESC:Events for BACHA
REFRESH-INTERVAL;VALUE=DURATION:PT1H
X-Robots-Tag:noindex
X-PUBLISHED-TTL:PT1H
BEGIN:VTIMEZONE
TZID:America/New_York
BEGIN:DAYLIGHT
TZOFFSETFROM:-0500
TZOFFSETTO:-0400
TZNAME:EDT
DTSTART:20250309T070000
END:DAYLIGHT
BEGIN:STANDARD
TZOFFSETFROM:-0400
TZOFFSETTO:-0500
TZNAME:EST
DTSTART:20251102T060000
END:STANDARD
BEGIN:DAYLIGHT
TZOFFSETFROM:-0500
TZOFFSETTO:-0400
TZNAME:EDT
DTSTART:20260308T070000
END:DAYLIGHT
BEGIN:STANDARD
TZOFFSETFROM:-0400
TZOFFSETTO:-0500
TZNAME:EST
DTSTART:20261101T060000
END:STANDARD
BEGIN:DAYLIGHT
TZOFFSETFROM:-0500
TZOFFSETTO:-0400
TZNAME:EDT
DTSTART:20270314T070000
END:DAYLIGHT
BEGIN:STANDARD
TZOFFSETFROM:-0400
TZOFFSETTO:-0500
TZNAME:EST
DTSTART:20271107T060000
END:STANDARD
END:VTIMEZONE
BEGIN:VEVENT
DTSTART;TZID=America/New_York:20260605T193000
DTEND;TZID=America/New_York:20260605T210000
DTSTAMP:20260421T084841
CREATED:20260417T225533Z
LAST-MODIFIED:20260417T225533Z
UID:10001074-1780687800-1780693200@bostoncoffeehouses.org
SUMMARY:An Evening with Vance Gilbert
DESCRIPTION:Considered by many to be an integral part of the national folk scene – and one of the originators of the finally recognized R&B/Folk/Jazz crossover-sub-genre – this Boston-based stalwart was born and raised in the Philadelphia area. Gilbert has recorded 14 albums to date\, including 5 for Philo/Rounder Records. He’s been the opener of choice for artists as varied as Arlo Guthrie\, Anita Baker\, The Milk Carton Kids\, and Southside Johnny\, and the mid 2000s found Gilbert opening 150+ shows for comic legend George Carlin! He’s currently the regular opener for Mad About You/Stranger Things star Paul Reiser’s stand-up shows\, and he maintains his own busy acoustic music touring schedule.Learn more at vancegilbert.com
URL:https://bostoncoffeehouses.org/event/an-evening-with-vance-gilbert/
LOCATION:Live from the Living Room\, Melrose MA\, 647 Main St\, Melrose\, MA\, 02176\, United States
CATEGORIES:Coffeehouse,Folksinger
END:VEVENT
BEGIN:VEVENT
DTSTART;TZID=America/New_York:20260612T193000
DTEND;TZID=America/New_York:20260612T220000
DTSTAMP:20260421T084841
CREATED:20250629T175815Z
LAST-MODIFIED:20250629T175815Z
UID:10000839-1781292600-1781301600@bostoncoffeehouses.org
SUMMARY:James Keelaghan
DESCRIPTION:
URL:https://bostoncoffeehouses.org/event/james-keelaghan-3/
LOCATION:Second Friday Concerts at First Church Belmont MA\, 404 Concord Avenue\, Belmont\, 02478
CATEGORIES:Concert,Folksinger,Singer-songwriter
END:VEVENT
BEGIN:VEVENT
DTSTART;TZID=America/New_York:20260620T193000
DTEND;TZID=America/New_York:20260620T213000
DTSTAMP:20260421T084841
CREATED:20250402T174818Z
LAST-MODIFIED:20250402T174818Z
UID:10000774-1781983800-1781991000@bostoncoffeehouses.org
SUMMARY:Peter Mulvey
DESCRIPTION:Peter Mulvey has been a songwriter\, road-dog\, raconteur and almost-poet since before he can remember. Raised working-class Catholic on the Northwest side of Milwaukee\, he took a semester in Ireland and immediately began cutting classes to busk on Grafton Street in Dublin and hitchhike through the country\, finding whatever gigs he could. Back stateside\, he spent a couple years gigging in the Midwest before lighting out for Boston\, where he returned to busking (this time in the subway) and coffeehouses. Small shows led to larger shows\, which eventually led to regional and then national and international touring. The wheels have not stopped since. \nNineteen records\, an illustrated book\, thousands of live performances\, a TEDx talk\, a decades-long association with the National Youth Science Camp\, opening for luminaries such as Ani DiFranco\, Emmylou Harris and Chuck Prophet\, appearances on NPR\, an annual autumn tour by bicycle\, emceeing festivals\, hosting his own boutique festival (the Lamplighter Sessions\, in Boston and Wisconsin… Mulvey never stops. He has built his life’s work on collaboration and an instinct for the eclectic and the vital. He folds everything he encounters into his work: poetry\, social justice\, scientific literacy and a deeply abiding humanism are all on plain display in his art.
URL:https://bostoncoffeehouses.org/event/peter-mulvey-3/
LOCATION:New Song\, Bedford MA\, 10 Mudge Way\, Bedford\, MA\, 01730\, United States
CATEGORIES:Coffeehouse,Concert,Folksinger,Singer-songwriter
END:VEVENT
END:VCALENDAR