BEGIN:VCALENDAR
VERSION:2.0
PRODID:-//BACHA - ECPv6.15.19//NONSGML v1.0//EN
CALSCALE:GREGORIAN
METHOD:PUBLISH
X-WR-CALNAME:BACHA
X-ORIGINAL-URL:https://bostoncoffeehouses.org
X-WR-CALDESC:Events for BACHA
REFRESH-INTERVAL;VALUE=DURATION:PT1H
X-Robots-Tag:noindex
X-PUBLISHED-TTL:PT1H
BEGIN:VTIMEZONE
TZID:America/New_York
BEGIN:DAYLIGHT
TZOFFSETFROM:-0500
TZOFFSETTO:-0400
TZNAME:EDT
DTSTART:20240310T070000
END:DAYLIGHT
BEGIN:STANDARD
TZOFFSETFROM:-0400
TZOFFSETTO:-0500
TZNAME:EST
DTSTART:20241103T060000
END:STANDARD
BEGIN:DAYLIGHT
TZOFFSETFROM:-0500
TZOFFSETTO:-0400
TZNAME:EDT
DTSTART:20250309T070000
END:DAYLIGHT
BEGIN:STANDARD
TZOFFSETFROM:-0400
TZOFFSETTO:-0500
TZNAME:EST
DTSTART:20251102T060000
END:STANDARD
BEGIN:DAYLIGHT
TZOFFSETFROM:-0500
TZOFFSETTO:-0400
TZNAME:EDT
DTSTART:20260308T070000
END:DAYLIGHT
BEGIN:STANDARD
TZOFFSETFROM:-0400
TZOFFSETTO:-0500
TZNAME:EST
DTSTART:20261101T060000
END:STANDARD
END:VTIMEZONE
BEGIN:VEVENT
DTSTART;TZID=America/New_York:20250924T190000
DTEND;TZID=America/New_York:20250924T203000
DTSTAMP:20260421T063212
CREATED:20250810T153618Z
LAST-MODIFIED:20250827T134422Z
UID:10000891-1758740400-1758745800@bostoncoffeehouses.org
SUMMARY:Steve Turner House Concert
DESCRIPTION:Cambridge\, MA\n$20 at the door ($5 for students)\nReservations required: HouseConcerts@fssgb.org \nSteve Turner is known as a pioneer of highly sophisticated English concertina song accompaniments\, stretching the boundaries of traditional forms\, with one of the best voices in the business. He is a multi-instrumentalist\, who also accompanies himself on the cittern\, and also plays mandolin and tenor banjo. \nSteve began his career on the Manchester\, UK folk scene at the end of the ‘60s\, with the Geordie band “Canny Fettle”\, touring with them for eight years and making two albums with them. \nIn 1979 he won the UK Melody Maker’s national “Stars of the 80s” competition\, which persuaded him to turn professional\, and for the next 12 years he toured solo\, nationally and internationally\, releasing four albums with Fellside Records during this period (Out Stack\, Jigging One Now\, Eclogue and Braiding). \nAfter 13 years away from the folk scene he made a welcome return in 2004 performing in folk clubs and festivals\, and in 2008 producing his 5th album\, the highly acclaimed “Whirligig of Time” which featured UK luminaries Martin Carthy\, Nancy Kerr and Miranda Sykes. \nSince then he has released further albums\, “Rim of the Wheel” \, “Spirit of the Game” and “Late Cut”\, and his latest much anticipated 9th album “Curious Times” featuring Martin Carthy was be released in Spring 2023.
URL:https://bostoncoffeehouses.org/event/steve-turner-house-concert-2/
LOCATION:Cambridge\, MA\, Given when reservation is made\, Cambridge\, 02138\, United States
CATEGORIES:Folksinger,House Concert
ATTACH;FMTTYPE=image/jpeg:https://bostoncoffeehouses.org/wp-content/uploads/2025/08/turner.jpg
END:VEVENT
BEGIN:VEVENT
DTSTART;TZID=America/New_York:20250920T193000
DTEND;TZID=America/New_York:20250920T220000
DTSTAMP:20260421T063212
CREATED:20250702T011202Z
LAST-MODIFIED:20250702T012322Z
UID:10000846-1758396600-1758405600@bostoncoffeehouses.org
SUMMARY:Eric Andersen - Sept. 20\, 2025
DESCRIPTION:In addition to general admission\, we’re offering a limited number of meet-and-greet tickets. Meet-and-greet guests are invited to arrive at 6:30 pm to chat with Eric before the show — and we’ll reserve premium front-row seating just for you! \nERIC ANDERSEN’S voice\, songs\, guitar and piano playing created a career that has spanned over 45 years. He has recorded 25 albums of original songs\, and made numerous tours of North America\, Europe\, and Japan. \nHis songs have been recorded and performed by world renown artists such as Ricky Nelson\, Judy Collins\, Sandy Denny\, Fairport Convention\, The Kingston Trio\, Peter Paul and Mary\, Linda Ronstadt\, Johnny Cash\, The Grateful Dead\, Linda Thompson\, Mary Chapin Carpenter\, and Francoise Hardy\, plus many others in Europe\, Australia\, England\, and Japan.
URL:https://bostoncoffeehouses.org/event/eric-andersen-sept-20-2025/
LOCATION:Rose Garden Coffeehouse\, Mansfield MA\, 17 West St\, Mansfield\, MA\, 02048\, United States
CATEGORIES:Coffeehouse,Folksinger,Singer-songwriter
ATTACH;FMTTYPE=image/jpeg:https://bostoncoffeehouses.org/wp-content/uploads/2025/07/EricAndersen_7464_cPaoloBrillo-Large.jpeg
END:VEVENT
BEGIN:VEVENT
DTSTART;TZID=America/New_York:20250919T193000
DTEND;TZID=America/New_York:20250919T220000
DTSTAMP:20260421T063212
CREATED:20250629T175817Z
LAST-MODIFIED:20250629T175817Z
UID:10000830-1758310200-1758319200@bostoncoffeehouses.org
SUMMARY:Mary Gauthier w/special guest Jaimee Harris
DESCRIPTION:
URL:https://bostoncoffeehouses.org/event/mary-gauthier-w-special-guest-jaimee-harris/
LOCATION:Second Friday Concerts at First Church Belmont MA\, 404 Concord Avenue\, Belmont\, 02478
CATEGORIES:Americana,Folksinger,Singer-songwriter
END:VEVENT
BEGIN:VEVENT
DTSTART;TZID=America/New_York:20250913T193000
DTEND;TZID=America/New_York:20250913T210000
DTSTAMP:20260421T063212
CREATED:20250727T173710Z
LAST-MODIFIED:20250727T175208Z
UID:10000866-1757791800-1757797200@bostoncoffeehouses.org
SUMMARY:Pamela Means
DESCRIPTION:
URL:https://bostoncoffeehouses.org/event/an-evening-with-pamela-means/
LOCATION:Live from the Living Room\, Melrose MA\, 647 Main St\, Melrose\, MA\, 02176\, United States
CATEGORIES:Coffeehouse,Folksinger,Music,Singer-songwriter
END:VEVENT
BEGIN:VEVENT
DTSTART;TZID=America/New_York:20250619T190000
DTEND;TZID=America/New_York:20250619T210000
DTSTAMP:20260421T063212
CREATED:20250522T011006Z
LAST-MODIFIED:20250607T001819Z
UID:10000810-1750359600-1750366800@bostoncoffeehouses.org
SUMMARY:Janie Meneely and Rob van Sante House Concert
DESCRIPTION:Reservations required: send email to HouseConcerts@fssgb.org.  $20 cash at the door (students $5\, 17 and under free) \nMeneely & van Sante present an evening of music as lively as it is eclectic\, with songs culled from maritime traditions old and new mixed with contemporary ballads about the ways of today’s world. \nJanie Meneely and Rob van Sante began coalescing as a duo in 2015\, with Rob offering support on Janie’s solo gigs whenever he was in the Washington\, D.C. area\, where she was living at the time. As a prolific songwriter of all things Chesapeake\, Janie was a well-known figure around the mid-Atlantic waterfront\, but it was Rob’s brilliant guitar work and harmony singing that really pushed her work into the greater realm of the traditional folk world where Rob had already made his mark. \nWhile Janie had stayed “local” throughout her musical career\, Rob had traveled the world\, first as a touring artist in his own right\, and then as back-up musician/sideman for\, primarily\, Alan Reid (co-founder and chief songwriter of the Battlefield Band from Scotland) and John Conolly (beloved raconteur of songs and stories pertaining to Grimsby\, among them the now-classic Fiddler’s Green). He played for festivals\, concert halls\, private living rooms and pubs in Britain\, Ireland\, China\, Australia\, New Zealand\, Canada\, the United States\, Germany\, Russia\, Japan . . . . this list goes on. Known for his trademark guitar style—primarily using alternate tunings—Rob remains a sought-after accompanist and session musician. \nProbably the most exciting element of the duo is the collaborative aspect of their latest compositions. Janie’s lyrics buoyed by Rob’s arrangements reflect a sensitive and compelling grasp of contemporary concerns\, whether it be anti-immigration policies (Lady Liberty) or the simple reminder that we set an example for future generations (For the Love of It All). But just as often\, their songs—and their on-stage banter\, for that matter—are laced with humor (sometimes bawdy!) and spill out with galvanizing energy (Whitby Ale). \nWhether they sing of long-ago tragedy\, retell a campfire ghost story or offer up a song of social justice\, their music invites audience participation\, and that\, to their mind\, remains the most gratifying aspect of any given performance.
URL:https://bostoncoffeehouses.org/event/janie-meneely-and-rob-van-sante-house-concert/
LOCATION:Waltham\, MA\, Private home\, Waltham\, 02453\, United States
CATEGORIES:Folksinger,House Concert,Music
ATTACH;FMTTYPE=image/jpeg:https://bostoncoffeehouses.org/wp-content/uploads/2025/05/vansantemeneely.jpg
END:VEVENT
BEGIN:VEVENT
DTSTART;TZID=America/New_York:20250601T120000
DTEND;TZID=America/New_York:20250601T150000
DTSTAMP:20260421T063212
CREATED:20250525T153752Z
LAST-MODIFIED:20250525T154002Z
UID:10000813-1748779200-1748790000@bostoncoffeehouses.org
SUMMARY:Annual Stone Soup Coffeehouse Fundraiser - Food & Music $25
DESCRIPTION:Featuring Roots Run Wild and High Planes Trio. Playing our garden stage\, we have Albert Del Rio\, Meera Raphael\, Lainey Dionne\, Andrew Potter\, Margaret Ferri\, Lucy Greenman\, and Ed Dean. Red Bandana Award Ceremony at 1:30pm. \n 
URL:https://bostoncoffeehouses.org/event/annual-stone-soup-coffeehouse-fundraiser-food-music-25/
LOCATION:Stone Soup Coffeehouse\, 88 Meeting Street\, Providence\, RI\, 02906\, United States
CATEGORIES:Folksinger,House Concert,Singer-songwriter
ATTACH;FMTTYPE=image/png:https://bostoncoffeehouses.org/wp-content/uploads/2025/05/FacebookTemplate_Spring25cropped.png
END:VEVENT
BEGIN:VEVENT
DTSTART;TZID=America/New_York:20250517T193000
DTEND;TZID=America/New_York:20250517T213000
DTSTAMP:20260421T063212
CREATED:20250516T205313Z
LAST-MODIFIED:20250516T205423Z
UID:10000809-1747510200-1747517400@bostoncoffeehouses.org
SUMMARY:Les Sampou featured performer
DESCRIPTION:The Open Book Coffeehouse in Canton is proud to announce its next live concert on Saturday evening\, May 17\, with singer/songwriter Les Sampou. The coffeehouse is located at the Canton Public Library\, 786 Washington Street\, Canton.  Doors open at 6:45 PM; music starts at 7:30 PM.  Admission is $14 for the general public and $7 for students of any age. Tickets are available that evening on a first come\, first serve basis. (cash or checks). \n\n\nLes Sampou got her start in the Boston folk scene in the 90s and moved on to national prominence and acclaim. On the road for 15 years\, Sampou has performed at Montreal Jazz Festival\, SXSW\, Toronto Blues Festival\, Kerrville Folk Festival (where she won the New Folk Songwriting Award)\, Philadelphia Folk Festival\, Winnipeg\, and Falcon Ridge to name a few. Sampou has conducted workshops at Berklee School of Music and appeared on top syndicated radio programs such as Acoustic Cafe\, World Cafe\, and NPR. Sampou has released seven albums\, five on her own label and two on Rounder Records. Her album\, “Fall from Grace”\, topped the Gavin Americana Charts nationwide. Her release “Lonesomeville” charted number 2 on the US/European Americana F.A.R. charts.\n\n\nEnjoy the relaxing\, warm atmosphere of friendly people\, good music\, coffee\, tea\, and home baked goodies.  The Open Book Coffeehouse is located in the community room of the Canton Public Library at 786 Washington Street\, Canton\, and is made possible by the Friends of the Library. Parking is to the left when facing the library from Washington Street. Enter by the “Special Events” door to the left of the columns\, midway into the parking area. \nFor more information\, visit the Open Book Coffeehouse website at  http://library.canton.ma.us\, send an email to openbookcoffeehouse@verizon.net\, find the coffeehouse on Facebook\, or call 617-922-2551.
URL:https://bostoncoffeehouses.org/event/les-sampou-to-play-open-book-coffeehouse/
LOCATION:Open Book Coffeehouse\, Canton MA\, 786 Washington St\, Canton\, MA\, 02021\, United States
CATEGORIES:Coffeehouse,Folksinger
ATTACH;FMTTYPE=image/jpeg:https://bostoncoffeehouses.org/wp-content/uploads/2025/05/Les-Sampou.jpeg
ORGANIZER;CN="Open Book Coffeehouse":MAILTO:openbookcoffeehouse@verizon.net
END:VEVENT
BEGIN:VEVENT
DTSTART;TZID=America/New_York:20250517T193000
DTEND;TZID=America/New_York:20250517T210000
DTSTAMP:20260421T063212
CREATED:20250304T020439Z
LAST-MODIFIED:20250304T021030Z
UID:10000747-1747510200-1747515600@bostoncoffeehouses.org
SUMMARY:Anju
DESCRIPTION:Join us for the second show in our 2025 Spring Concert Series with Anju! Anju is a songwriter\, producer\, and performer shaped by the people and places in Massachusetts and Minnesota. Their music conjures imaginary lovers\, scents of citrus\, and visions of hairy brown skin under the sun. \nAnju’s work has been highlighted by NPR’s All Songs Considered\, Rolling Stone India\, WGBH\, and Minnesota Public Radio’s The Current. They were recently an inaugural member of Club Passim’s Folk Collective\, an artist-fellow at Antenna Cloud Farm’s Experimental Institute\, and a member of New Amsterdam Records’ Composer’s Lab.
URL:https://bostoncoffeehouses.org/event/anju-at-live-from-the-living-room/
LOCATION:Live from the Living Room\, Melrose MA\, 647 Main St\, Melrose\, MA\, 02176\, United States
CATEGORIES:Coffeehouse,Concert,Folksinger,Singer-songwriter
ATTACH;FMTTYPE=image/webp:https://bostoncoffeehouses.org/wp-content/uploads/2025/03/Anju-Headshot.webp
END:VEVENT
BEGIN:VEVENT
DTSTART;TZID=America/New_York:20250426T193000
DTEND;TZID=America/New_York:20250426T213000
DTSTAMP:20260421T063212
CREATED:20250214T225424Z
LAST-MODIFIED:20250214T225424Z
UID:10000733-1745695800-1745703000@bostoncoffeehouses.org
SUMMARY:Christine Lavin
DESCRIPTION:Called “wildly entertaining” by The New Yorker\, “the unsung heroine of the latter-day folk movement” by Janis Ian and “a fresh kick in the pants!” by the late Paul Newman\, Christine Lavin performs throughout the US\, Canada and beyond. She is known for her sense of humor and her songs range from poignant observations about love\, history and science to gentle mocking of cultural trends. She has won five ASCAP Composer Awards\, The Kate Wolf Memorial Award\, and Album of The Year from the National Association of Independent Record Distributors. Her 26th solo album\, Drum School Droput\, will be released later this year. 
URL:https://bostoncoffeehouses.org/event/christine-lavin/
LOCATION:New Song\, Bedford MA\, 10 Mudge Way\, Bedford\, MA\, 01730\, United States
CATEGORIES:Coffeehouse,Concert,Folksinger
END:VEVENT
BEGIN:VEVENT
DTSTART;TZID=America/New_York:20250404T190000
DTEND;TZID=America/New_York:20250404T211500
DTSTAMP:20260421T063212
CREATED:20250206T220701Z
LAST-MODIFIED:20250206T220701Z
UID:10000730-1743793200-1743801300@bostoncoffeehouses.org
SUMMARY:Margaret Ferri Coffeehouse Feature with Mini Open Mic
DESCRIPTION:A musician whose inspiration to play guitar was Buffy St. Marie’s ‘Until It’s Time for You to Go’ Margaret Ferri’s roots are in folk music and lyrics are her passion!  She covers Bob Dylan\, Paul Simon\, James Taylor\, Joni Mitchell and many others.  She says\, “I play songs that speak to me and my life’s experiences. The emotions you hear in the songs are deep and real.”  Margaret has dedicated her ‘life in music’ to ensure that excellent songwriting from the past is not forgotten and her audience reacts with smiles and positive energy when they hear a song they love. Margaret Ferri considers this to be her gift and offers up these songs up to those who want to listen.  
URL:https://bostoncoffeehouses.org/event/margaret-ferri-coffeehouse-feature-with-mini-open-mic/
LOCATION:South Shore Folk Music Club\, Duxbury MA\, 842 Tremont St\, Duxbury\, MA\, 02332\, United States
CATEGORIES:Coffeehouse,Folksinger,Open Mic
ATTACH;FMTTYPE=image/jpeg:https://bostoncoffeehouses.org/wp-content/uploads/2025/02/margaret-by-table.jpg
END:VEVENT
END:VCALENDAR