BEGIN:VCALENDAR
VERSION:2.0
PRODID:-//BACHA - ECPv6.15.19//NONSGML v1.0//EN
CALSCALE:GREGORIAN
METHOD:PUBLISH
X-WR-CALNAME:BACHA
X-ORIGINAL-URL:https://bostoncoffeehouses.org
X-WR-CALDESC:Events for BACHA
REFRESH-INTERVAL;VALUE=DURATION:PT1H
X-Robots-Tag:noindex
X-PUBLISHED-TTL:PT1H
BEGIN:VTIMEZONE
TZID:America/New_York
BEGIN:DAYLIGHT
TZOFFSETFROM:-0500
TZOFFSETTO:-0400
TZNAME:EDT
DTSTART:20240310T070000
END:DAYLIGHT
BEGIN:STANDARD
TZOFFSETFROM:-0400
TZOFFSETTO:-0500
TZNAME:EST
DTSTART:20241103T060000
END:STANDARD
BEGIN:DAYLIGHT
TZOFFSETFROM:-0500
TZOFFSETTO:-0400
TZNAME:EDT
DTSTART:20250309T070000
END:DAYLIGHT
BEGIN:STANDARD
TZOFFSETFROM:-0400
TZOFFSETTO:-0500
TZNAME:EST
DTSTART:20251102T060000
END:STANDARD
BEGIN:DAYLIGHT
TZOFFSETFROM:-0500
TZOFFSETTO:-0400
TZNAME:EDT
DTSTART:20260308T070000
END:DAYLIGHT
BEGIN:STANDARD
TZOFFSETFROM:-0400
TZOFFSETTO:-0500
TZNAME:EST
DTSTART:20261101T060000
END:STANDARD
END:VTIMEZONE
BEGIN:VEVENT
DTSTART;TZID=America/New_York:20251109T130000
DTEND;TZID=America/New_York:20251109T150000
DTSTAMP:20260421T064429
CREATED:20251025T020520Z
LAST-MODIFIED:20251102T222545Z
UID:10000949-1762693200-1762700400@bostoncoffeehouses.org
SUMMARY:BROOKS WILLIAMS up close and personal!
DESCRIPTION:EVENT IS FULL!\nSAILING INTO SONG PRESENTS THE AMAZING BROOKS WILLIAMS!\nSunday\, November 9\, 2025 1:00 PM(Note earlier time)\nJohn Maclean opening\nBROOKS WILLIAMS – Brooks Williams website Statesboro\, Georgia-born\, Cambridge\, England-based guitarist singer and songwriter Brooks Williams\, a leading light on the roots acoustic music scene\, has over 33 recordings and has appeared at countless venues and festivals for over three decades. RnR writes\, Williams is a “guitarist in possession of rich vocal powers and a talent for lyrical imagery\, his songs are imbued with uplifting generosity” He moves effortlessly between country\, blues and folk.Statesboro Blues  If not for you\nJohn Maclean – “John MacLean sings with a voice that is honest and heartfelt\, and his songs reflect on where the family meets the heart. He has performed as far away as the Texas Rally For Gun Sense in Austin and to Black-Eyed Susan Acoustic Café in Angelica\, New York. Locally he is the host for the Ellen Schmidt Open Mike in Boxborough. Pancho and Lefty\n\nSUGGESTED DONATION = $25 – All donations go to the performer.\nTO RECEIVE AN INVITATION\, SEND NAME TO: \nSAILINGINTOSONG@GMAIL.COM\nLooking forward to seeing you on November 9th!
URL:https://bostoncoffeehouses.org/event/brooks-williams-up-close-and-personal/
LOCATION:Sailing Into Song House Concerts\, Newton MA\, Newton\, MA\, United States
CATEGORIES:House Concert
END:VEVENT
END:VCALENDAR