BEGIN:VCALENDAR
VERSION:2.0
PRODID:-//BACHA - ECPv6.15.19//NONSGML v1.0//EN
CALSCALE:GREGORIAN
METHOD:PUBLISH
X-ORIGINAL-URL:https://bostoncoffeehouses.org
X-WR-CALDESC:Events for BACHA
REFRESH-INTERVAL;VALUE=DURATION:PT1H
X-Robots-Tag:noindex
X-PUBLISHED-TTL:PT1H
BEGIN:VTIMEZONE
TZID:America/New_York
BEGIN:DAYLIGHT
TZOFFSETFROM:-0500
TZOFFSETTO:-0400
TZNAME:EDT
DTSTART:20240310T070000
END:DAYLIGHT
BEGIN:STANDARD
TZOFFSETFROM:-0400
TZOFFSETTO:-0500
TZNAME:EST
DTSTART:20241103T060000
END:STANDARD
BEGIN:DAYLIGHT
TZOFFSETFROM:-0500
TZOFFSETTO:-0400
TZNAME:EDT
DTSTART:20250309T070000
END:DAYLIGHT
BEGIN:STANDARD
TZOFFSETFROM:-0400
TZOFFSETTO:-0500
TZNAME:EST
DTSTART:20251102T060000
END:STANDARD
BEGIN:DAYLIGHT
TZOFFSETFROM:-0500
TZOFFSETTO:-0400
TZNAME:EDT
DTSTART:20260308T070000
END:DAYLIGHT
BEGIN:STANDARD
TZOFFSETFROM:-0400
TZOFFSETTO:-0500
TZNAME:EST
DTSTART:20261101T060000
END:STANDARD
END:VTIMEZONE
BEGIN:VEVENT
DTSTART;TZID=America/New_York:20250907T140000
DTEND;TZID=America/New_York:20250907T160000
DTSTAMP:20260421T101242
CREATED:20250810T153259Z
LAST-MODIFIED:20250810T153344Z
UID:10000890-1757253600-1757260800@bostoncoffeehouses.org
SUMMARY:Josée Vachon House Concert
DESCRIPTION:Cambridge\, MA\n$20 at the door ($5 for students)\nReservations required: HouseConcerts@fssgb.org \nBorn in Québec and raised in Maine\, Josée Vachon shares her Franco-American upbringing through traditional and contemporary folksongs from Québec and Acadia and through her own compositions. \nShe began singing publicly with the support of the Franco-American Center at the University of Maine\, where she discovered others who shared her rich heritage. She quickly gained recognition as a new Franco-American voice through early performances at state festivals in Maine and at schools and parish soirées. \nIn July 1993\, she co-founded the folk group Chanterelle with award-winning fiddler Donna Hébert and singer/guitarist Liza Constable.  Ms Vachon has 12 solo recordings to her credit\, and continues to perform and record the music that best represents her love of Franco-American culture.
URL:https://bostoncoffeehouses.org/event/josee-vachon-house-concert/
LOCATION:Cambridge\, MA\, Given when reservation is made\, Cambridge\, 02138\, United States
CATEGORIES:House Concert
ATTACH;FMTTYPE=image/jpeg:https://bostoncoffeehouses.org/wp-content/uploads/2025/08/vachon.jpg
END:VEVENT
BEGIN:VEVENT
DTSTART;TZID=America/New_York:20250912T193000
DTEND;TZID=America/New_York:20250912T220000
DTSTAMP:20260421T101242
CREATED:20250829T143634Z
LAST-MODIFIED:20250829T143634Z
UID:10000910-1757705400-1757714400@bostoncoffeehouses.org
SUMMARY:The North Reading Community Coffeehouse Performing Artist Series Presents The Cataldo and Clark Quartet
DESCRIPTION:The North Reading Community Coffeehouse is proud to present an evening with the Cataldo and Clark Quartet on Saturday\, September 12 at 7:30 PM (doors open at 7 PM).  The North Reading Community Coffeehouse is located in the Activity Room at the Flint Memorial Library\, 147 Park St\, North Reading\, MA. There is a suggested donation of $10 and seats can be reserved by emailing Nrcoffeehouse@gmail.com.  A portion of the money raised will go to the Friends of the Flint Memorial Library to help support the many programs and activities offered by the Library. \nThe Cataldo & Clark Quartet was formed in 2020 as an acoustic duo of Michael Cataldo and Scotty Ray Clark\, performing original songs written by lead singer Michael Cataldo. Their repertoire also includes soulful interpretations by artists ranging from Ray Charles\, Marvin Gaye\, Leon Russell\, Bonnie Raitt\, and Bob Dylan. Bassist Jim Larkin came aboard in 2022\, and keyboardist Ben Parsons joined the group in early 2025.  This is a return engagement for the group.  Here is a a tune they did when they were here last:  https://www.youtube.com/watch?v=6BSPkmoKXhw&list=RD6BSPkmoKXhw&start_radio=1 \nThe show is sponsored by the Massachusetts Cultural Council.  Please come and join us for what will surely be an entertaining evening of music.  If you have any questions\, please contact Art Grossman at NRCoffeehouse@gmail.com \n  \n 
URL:https://bostoncoffeehouses.org/event/the-north-reading-community-coffeehouse-performing-artist-series-presents-the-cataldo-and-clark-quartet/
LOCATION:North Reading Community Coffeehouse\, North Reading MA\, 147 Park St\, North Reading\, MA\, 01864\, United States
CATEGORIES:Coffeehouse,Concert,Music,Singer-songwriter
ATTACH;FMTTYPE=image/jpeg:https://bostoncoffeehouses.org/wp-content/uploads/2025/08/CCx4-wood.jpg
ORGANIZER;CN="Art Grossman":MAILTO:NRCoffeehouse@gmail.com
END:VEVENT
BEGIN:VEVENT
DTSTART;TZID=America/New_York:20250913T190000
DTEND;TZID=America/New_York:20250913T211500
DTSTAMP:20260421T101242
CREATED:20250815T031645Z
LAST-MODIFIED:20250815T031645Z
UID:10000903-1757790000-1757798100@bostoncoffeehouses.org
SUMMARY:Les Sampou in Concert - SSFMC
DESCRIPTION:“Les Sampou is tough. She’s also tender and smart. And funny. And she plays some very tasty guitar. And damn\, can she write a song.” – Elijah Wald\, Author of Dylan Goes Electric: The Story Behind the Major Motion Picture “A Complete Unknown.”  Les will lead off our Fall season (47th year) of the SSFMC …  A show not to be missed … I went to see her recently and was “blown away ” by her professionalism\, charming wit and great … superb really\, vocals and guitar playing.  I stand by my statement\, Les Sampou is phenomenal! – Tall Richard (SSFMC President)
URL:https://bostoncoffeehouses.org/event/les-sampou-in-concert-ssfmc/
LOCATION:South Shore Folk Music Club\, Duxbury MA\, 842 Tremont St\, Duxbury\, MA\, 02332\, United States
CATEGORIES:Americana,Blues,Concert
ATTACH;FMTTYPE=image/webp:https://bostoncoffeehouses.org/wp-content/uploads/2025/08/Les-Sampou-SSFMC-13Sep25.webp
END:VEVENT
BEGIN:VEVENT
DTSTART;TZID=America/New_York:20250913T193000
DTEND;TZID=America/New_York:20250913T220000
DTSTAMP:20260421T101242
CREATED:20250731T022712Z
LAST-MODIFIED:20250731T022712Z
UID:10000874-1757791800-1757800800@bostoncoffeehouses.org
SUMMARY:CANCELED **Cheryl Wheeler with special guest Kenny White
DESCRIPTION:Reserve early for this very special show with not only the inimitable Cheryl Wheeler but also Kenny White’s  piano accompaniment and his own  superb songwriting. This concert will take place in the larger space and if you reserve at musiconcentre@gmail.com the price is $35.  It will be $40 at the door\, which opens at 6:30. There are no advance sales on line. \nBuilding is wheelchair accessible and there is plenty of free parking nearby. Non-alcohol beverages and desserts on sale during intermission. For more details\, call 617-327-0542. Do not call the church. \n 
URL:https://bostoncoffeehouses.org/event/canceled-cheryl-wheeler-with-special-guest-kenny-white/
LOCATION:Music on Centre\, West Roxbury MA\, 1859 Centre St\, West Roxbury\, MA\, 02132\, United States
CATEGORIES:Concert,Singer-songwriter
END:VEVENT
BEGIN:VEVENT
DTSTART;TZID=America/New_York:20250920T173000
DTEND;TZID=America/New_York:20250920T213000
DTSTAMP:20260421T101242
CREATED:20250826T144411Z
LAST-MODIFIED:20250826T144411Z
UID:10000909-1758389400-1758403800@bostoncoffeehouses.org
SUMMARY:North Reading Community Coffeehouse September\, 2025 Showcase
DESCRIPTION:The North Reading Community Coffeehouse is proud to present its September\, 2025 Showcase. This is going to be a special show with a special start time of 5:30.  We are very excited to be welcoming all of the performers\, but especially our very good friend\, Iain Macdonald who has been a “virtual friend” of the North Reading Community Coffeehouse for a long time and is now coming from Scotland to perform live!  The other performers are The Fretbenders – Bob and Dee Kordas\, Mary Ann McAllister\, Ronnee Stolzberg and Art Grossman.  There might also be a surprise performer or two.  We have a group of very talented musicians this month with a nice variety of music which will make for a very entertaining show.  Each performer will do about a 30 minute set.The event is free but donations will be gratefully accepted and we will be offering refreshments with all the proceeds going to the Friends of the Flint Memorial Library in North Reading with whom we will be doing these concerts in conjunction with\, to help support the library.\n\nThe event will also be livestreamed on the North Reading Community Coffeehouse Facebook page and on the YouTube channel the following day! \nWe are located in the Activity Room of the Flint Memorial Library at 147 Park Street in North Reading.  There is plenty of free parking.  And as mentioned\, we will start at 5:30.  Please come\, sit back\, relax and listen to some terrific music!  If you have any questions\, please contact Art Grossman at NRCoffeehouse@gmail.com.\n\n\n\n 
URL:https://bostoncoffeehouses.org/event/north-reading-community-coffeehouse-september-2025-showcase/
LOCATION:North Reading Community Coffeehouse\, North Reading MA\, 147 Park St\, North Reading\, MA\, 01864\, United States
CATEGORIES:Coffeehouse,Concert,Music,Singer-songwriter
ATTACH;FMTTYPE=image/png:https://bostoncoffeehouses.org/wp-content/uploads/2024/02/NRCC-FB-Page-Logo.png
END:VEVENT
BEGIN:VEVENT
DTSTART;TZID=America/New_York:20250924T190000
DTEND;TZID=America/New_York:20250924T203000
DTSTAMP:20260421T101242
CREATED:20250810T153618Z
LAST-MODIFIED:20250827T134422Z
UID:10000891-1758740400-1758745800@bostoncoffeehouses.org
SUMMARY:Steve Turner House Concert
DESCRIPTION:Cambridge\, MA\n$20 at the door ($5 for students)\nReservations required: HouseConcerts@fssgb.org \nSteve Turner is known as a pioneer of highly sophisticated English concertina song accompaniments\, stretching the boundaries of traditional forms\, with one of the best voices in the business. He is a multi-instrumentalist\, who also accompanies himself on the cittern\, and also plays mandolin and tenor banjo. \nSteve began his career on the Manchester\, UK folk scene at the end of the ‘60s\, with the Geordie band “Canny Fettle”\, touring with them for eight years and making two albums with them. \nIn 1979 he won the UK Melody Maker’s national “Stars of the 80s” competition\, which persuaded him to turn professional\, and for the next 12 years he toured solo\, nationally and internationally\, releasing four albums with Fellside Records during this period (Out Stack\, Jigging One Now\, Eclogue and Braiding). \nAfter 13 years away from the folk scene he made a welcome return in 2004 performing in folk clubs and festivals\, and in 2008 producing his 5th album\, the highly acclaimed “Whirligig of Time” which featured UK luminaries Martin Carthy\, Nancy Kerr and Miranda Sykes. \nSince then he has released further albums\, “Rim of the Wheel” \, “Spirit of the Game” and “Late Cut”\, and his latest much anticipated 9th album “Curious Times” featuring Martin Carthy was be released in Spring 2023.
URL:https://bostoncoffeehouses.org/event/steve-turner-house-concert-2/
LOCATION:Cambridge\, MA\, Given when reservation is made\, Cambridge\, 02138\, United States
CATEGORIES:Folksinger,House Concert
ATTACH;FMTTYPE=image/jpeg:https://bostoncoffeehouses.org/wp-content/uploads/2025/08/turner.jpg
END:VEVENT
BEGIN:VEVENT
DTSTART;TZID=America/New_York:20250927T193000
DTEND;TZID=America/New_York:20250927T220000
DTSTAMP:20260421T101242
CREATED:20250903T231044Z
LAST-MODIFIED:20250903T231044Z
UID:10000912-1759001400-1759010400@bostoncoffeehouses.org
SUMMARY:The North Reading Community Coffeehouse Performing Artist Series Presents Anderson-Gram
DESCRIPTION:The North Reading Community Coffeehouse is proud to present an evening with Anderson-Gram.\nGayle Anderson and Bob Gram love being together and that dynamic shines through in the music they create and perform!Their easy-going command of stage and polished performance style make them a perfect fit for the North Reading Community Coffeehouse. They both started out on different paths but destiny brought them together\, one night in 1990\, at an open mic.\n“Singer/songwriters Gayle Anderson Gram and Bob Gram are a well-seasoned\, artistically-polished folk duo. Their voices blend perfectly\, and their sensitive guitar accompaniments are thoughtful\, interesting\, and balanced. Anderson-Gram achieves a style of communication with the audience that is completely natural\, and their clever lyrics and wit add to a very satisfying entertainment experience.”Brad SlocumProgram DirectorMusic At NoonWestminster ChurchSacramento\, CAThe doors open at 7 PM and the show starts at 7:30 PM. The show is free but there is a Suggested Donation of $10. A portion of the money raised will go to the Friends of the Flint Memorial Library to help support the many programs and activities offered by the Library. The show is sponsored by the Massachusetts Cultural Council.Please come and join us for what will surely be an entertaining evening of music.If you have any questions\, please contact Art Grossman at NRCoffeehouse@gmail.com\n  \n 
URL:https://bostoncoffeehouses.org/event/the-north-reading-community-coffeehouse-performing-artist-series-presents-anderson-gram/
LOCATION:North Reading Community Coffeehouse\, North Reading MA\, 147 Park St\, North Reading\, MA\, 01864\, United States
CATEGORIES:Coffeehouse,Concert,Music,Singer-songwriter
ATTACH;FMTTYPE=image/jpeg:https://bostoncoffeehouses.org/wp-content/uploads/2025/09/andersongram-promo-pic-2.jpg
ORGANIZER;CN="Art Grossman":MAILTO:NRCoffeehouse@gmail.com
END:VEVENT
BEGIN:VEVENT
DTSTART;TZID=America/New_York:20250928T140000
DTEND;TZID=America/New_York:20250928T163000
DTSTAMP:20260421T101242
CREATED:20250917T174329Z
LAST-MODIFIED:20250925T181035Z
UID:10000918-1759068000-1759077000@bostoncoffeehouses.org
SUMMARY:SAILING INTO SONG PRESENTS  VANCE GILBERT!
DESCRIPTION:Vance Gilbert \nTHIS EVENT IS SOLD OUT!\nSunday\, September 28\, 2025 2:00 PM\nCarl Beverly Opening\nVANCE GILBERT-If Joni Mitchell and Richie Havens had a love child\, with Rodney Dangerfield as the midwife\, the results might be something close to the great Vance Gilbert”\, says Richmond Magazine.One of the originators of the finally recognized R&B/Folk/Jazz crossover-sub-genre\, Vance was born and raised in the Philadelphia area.“Vance Gilbert is a remarkably versatile performer\, given an ability to easily slide between genres and actually excel at each.”– American Songwriter Listen-Old White Men\, Black Rochelle\nCarl Beverly-Carl found his voice and a passion for songwriting over a decade ago and since then has been perfecting his writing and his unique\, unmistakable finger picking style. His guitar style is rhythmic\, and mellow\, and the songs pull you into real life stories. Listen to River Song\nSUGGESTED DONATION = $25 – All donations go to the performer.\nFOR AN INVITATION\, Email: sailingintosong@gmail.com
URL:https://bostoncoffeehouses.org/event/sailing-into-song-presents-vance-gilbert/
LOCATION:Sailing Into Song House Concerts\, Newton MA\, Newton\, MA\, United States
CATEGORIES:House Concert
END:VEVENT
END:VCALENDAR