BEGIN:VCALENDAR
VERSION:2.0
PRODID:-//BACHA - ECPv6.15.19//NONSGML v1.0//EN
CALSCALE:GREGORIAN
METHOD:PUBLISH
X-ORIGINAL-URL:https://bostoncoffeehouses.org
X-WR-CALDESC:Events for BACHA
REFRESH-INTERVAL;VALUE=DURATION:PT1H
X-Robots-Tag:noindex
X-PUBLISHED-TTL:PT1H
BEGIN:VTIMEZONE
TZID:America/New_York
BEGIN:DAYLIGHT
TZOFFSETFROM:-0500
TZOFFSETTO:-0400
TZNAME:EDT
DTSTART:20240310T070000
END:DAYLIGHT
BEGIN:STANDARD
TZOFFSETFROM:-0400
TZOFFSETTO:-0500
TZNAME:EST
DTSTART:20241103T060000
END:STANDARD
BEGIN:DAYLIGHT
TZOFFSETFROM:-0500
TZOFFSETTO:-0400
TZNAME:EDT
DTSTART:20250309T070000
END:DAYLIGHT
BEGIN:STANDARD
TZOFFSETFROM:-0400
TZOFFSETTO:-0500
TZNAME:EST
DTSTART:20251102T060000
END:STANDARD
BEGIN:DAYLIGHT
TZOFFSETFROM:-0500
TZOFFSETTO:-0400
TZNAME:EDT
DTSTART:20260308T070000
END:DAYLIGHT
BEGIN:STANDARD
TZOFFSETFROM:-0400
TZOFFSETTO:-0500
TZNAME:EST
DTSTART:20261101T060000
END:STANDARD
END:VTIMEZONE
BEGIN:VEVENT
DTSTART;TZID=America/New_York:20250110T193000
DTEND;TZID=America/New_York:20250110T213000
DTSTAMP:20260422T013705
CREATED:20241129T192948Z
LAST-MODIFIED:20241209T212948Z
UID:10000663-1736537400-1736544600@bostoncoffeehouses.org
SUMMARY:High Horse
DESCRIPTION:          \nHigh Horse is a progressive-acoustic string band based in Boston\, known for their unique blend of Bluegrass\, Old-time\, and Celtic music infused with the energy of alternative rock. Comprised of four friends\, three bows\, and one pick\, High Horse delivers a rollicking romp of great vibes\, virtuosic chops\, and tight vocals. \nFollen Folk Nights is located within the historic Follen Church in Lexington\, Massachusetts. Our venue offers a unique and intimate setting for music lovers. Our octagonal sanctuary\, renowned for its excellent acoustics\, hosts a diverse range of performances from both emerging and established artists. We are committed to providing great experiences for both our audience and the musicians who grace our stage. Join us for a memorable musical experience in a special space. \nTickets and more info available at follenfolknights.org
URL:https://bostoncoffeehouses.org/event/high-horse/
LOCATION:Follen Folk Nights\, Lexington MA\, 755 Massachusetts Ave\, Lexington\, MA\, 02420\, United States
CATEGORIES:Americana,Bluegrass,Coffeehouse,Concert,Music
END:VEVENT
BEGIN:VEVENT
DTSTART;TZID=America/New_York:20250118T183000
DTEND;TZID=America/New_York:20250118T213000
DTSTAMP:20260422T013705
CREATED:20241227T120938Z
LAST-MODIFIED:20241227T120938Z
UID:10000694-1737225000-1737235800@bostoncoffeehouses.org
SUMMARY:North Reading Community Coffeehouse January\, 2025 Showcase
DESCRIPTION:The North Reading Community Coffeehouse is proud to present its January\, 2025 Showcase. The performers are Eddie Dee\, Art Grossman\, John Loretz\, Anne Sandstrom and Aaron Tornberg.  We have a wide variety of music this month which will make for a very entertaining show.  Each performer will do about a 30 minute set.The event is free but donations will be gratefully accepted and we will be offering refreshments with all the proceeds going to the Friends of the Flint Memorial Library in North Reading with whom we will be doing these concerts in conjunction with\, to help support the library.\n\nThe event will also be livestreamed on the North Reading Community Coffeehouse Facebook page and on the YouTube channel the following day! \nWe are located in the Activity Room of the Flint Memorial Library at 147 Park Street in North Reading.  There is plenty of free parking.  We start at 6:30.  Please come\, sit back\, relax and listen to some terrific music!  If you have any questions\, please contact Art Grossman at NRCoffeehouse@gmail.com.\n\n\n\n 
URL:https://bostoncoffeehouses.org/event/north-reading-community-coffeehouse-january-2025-showcase/
LOCATION:North Reading Community Coffeehouse\, North Reading MA\, 147 Park St\, North Reading\, MA\, 01864\, United States
CATEGORIES:Coffeehouse,Concert,Music,Singer-songwriter
ATTACH;FMTTYPE=image/png:https://bostoncoffeehouses.org/wp-content/uploads/2024/02/NRCC-FB-Page-Logo.png
END:VEVENT
BEGIN:VEVENT
DTSTART;TZID=America/New_York:20250125T130000
DTEND;TZID=America/New_York:20250125T150000
DTSTAMP:20260422T013705
CREATED:20250108T153711Z
LAST-MODIFIED:20250108T153711Z
UID:10000705-1737810000-1737817200@bostoncoffeehouses.org
SUMMARY:FSSGB Annual Members' Concert
DESCRIPTION:The annual FSSGB members’ concert is always a popular event. Our members perform songs which range from traditional ballads to original compositions\, and from instrumental to a cappella pieces. Some of the instruments that have been played at this concert in the past include violin\, cello\, banjo\, mandolin\, guitar\, bass\, keyboard and concertina. Some FSSGB members who have performed at this event have gone on to have successful performing careers\, such as Elijah Wald\, Mark Ryer\, Fool’s Errand and Merle Roesler. \nOur hosts will be Lori Fassman and Paul Beck. They are long-time FSSGB members who are both past Presidents of FSSGB. \n Some performers have been participating for years; others will do so for the first time. Children are most welcome. The program will feature professional musicians as well as living room folk enthusiasts. All are welcome. The audience is always supportive and lively. \nProceeds from this show help keep the Society strong – we thank the performers and the audience for making this event possible.
URL:https://bostoncoffeehouses.org/event/fssgb-annual-members-concert/
LOCATION:First Parish in Waltham\, 50 Church Street\, Waltham\, MA\, 02452
CATEGORIES:Concert,Music
END:VEVENT
BEGIN:VEVENT
DTSTART;TZID=America/New_York:20250125T193000
DTEND;TZID=America/New_York:20250125T220000
DTSTAMP:20260422T013705
CREATED:20241229T232812Z
LAST-MODIFIED:20241229T232812Z
UID:10000699-1737833400-1737842400@bostoncoffeehouses.org
SUMMARY:The North Reading Community Coffeehouse Performing Artist Series Presents Don White
DESCRIPTION:The North Reading Community Coffeehouse Performing Artist Series is proud to welcome back singer/songwriter\, humorist and author\, Don White on Saturday\, January 25 at 7:30 p.m. (doors open at 7 p.m.)  The North Reading Community Coffeehouse is located in the Activity Room at the Flint Memorial Library\, 147 Park St\, North Reading\, MA. There is a suggested donation of $20 and seats can be reserved by emailing Nrcoffeehouse@gmail.com. \nDon White is equal parts storyteller-comedian-author-troubadour-folk singer-songwriter\, and has been bringing audiences to laughter and tears for 30 years. White’s arc as an award-winning songwriter and performer has taken him from his industrial hometown of Lynn\, MA across the country as hitchhiker\, through Boston’s comedy clubs and coffeehouses\, and onto the stage with greats like Arlo Guthrie\, Taj Mahal\, Ritchie Havens\, Patty Larkin\, Bill Morrissey\, Tom Rush\, Louden Wainright III\, and Christine Lavin\, with whom he toured for 8 years all across North America in a co-bill called The Funny Side of the Street. At every point\, White has been the ultimate observer\, infusing his work with his experiences as a husband\, a father\, a seeker\, and a joker. \nWhite has released ten CDs\, three live DVDs\, and an two books: Memoirs of a C Student and the recently released The Hitchhiking Years and 4 Other Stories. His latest album is Live at the Guthrie Center\, available now. In 2011\, he won the Jerry Christen Memorial Award\, given out by Boston Area Coffeehouse Association\, for his work with the community\, and that same year was given a key to the city in his hometown of Lynn\, Massachusetts. \nPlease join Don White for what is sure to be a very entertaining evening!
URL:https://bostoncoffeehouses.org/event/the-north-reading-community-coffeehouse-performing-artist-series-presents-don-white/
LOCATION:North Reading Community Coffeehouse\, North Reading MA\, 147 Park St\, North Reading\, MA\, 01864\, United States
CATEGORIES:Coffeehouse,Concert,Music,Singer-songwriter
ATTACH;FMTTYPE=image/jpeg:https://bostoncoffeehouses.org/wp-content/uploads/2023/01/Don-White-Promo-Red-Shirt-Resized.jpg
ORGANIZER;CN="Art Grossman":MAILTO:NRCoffeehouse@gmail.com
END:VEVENT
END:VCALENDAR