BEGIN:VCALENDAR
VERSION:2.0
PRODID:-//BACHA - ECPv6.15.19//NONSGML v1.0//EN
CALSCALE:GREGORIAN
METHOD:PUBLISH
X-ORIGINAL-URL:https://bostoncoffeehouses.org
X-WR-CALDESC:Events for BACHA
REFRESH-INTERVAL;VALUE=DURATION:PT1H
X-Robots-Tag:noindex
X-PUBLISHED-TTL:PT1H
BEGIN:VTIMEZONE
TZID:America/New_York
BEGIN:DAYLIGHT
TZOFFSETFROM:-0500
TZOFFSETTO:-0400
TZNAME:EDT
DTSTART:20230312T070000
END:DAYLIGHT
BEGIN:STANDARD
TZOFFSETFROM:-0400
TZOFFSETTO:-0500
TZNAME:EST
DTSTART:20231105T060000
END:STANDARD
BEGIN:DAYLIGHT
TZOFFSETFROM:-0500
TZOFFSETTO:-0400
TZNAME:EDT
DTSTART:20240310T070000
END:DAYLIGHT
BEGIN:STANDARD
TZOFFSETFROM:-0400
TZOFFSETTO:-0500
TZNAME:EST
DTSTART:20241103T060000
END:STANDARD
BEGIN:DAYLIGHT
TZOFFSETFROM:-0500
TZOFFSETTO:-0400
TZNAME:EDT
DTSTART:20250309T070000
END:DAYLIGHT
BEGIN:STANDARD
TZOFFSETFROM:-0400
TZOFFSETTO:-0500
TZNAME:EST
DTSTART:20251102T060000
END:STANDARD
END:VTIMEZONE
BEGIN:VEVENT
DTSTART;TZID=America/New_York:20241214T190000
DTEND;TZID=America/New_York:20241214T211500
DTSTAMP:20260422T033837
CREATED:20241122T180309Z
LAST-MODIFIED:20241122T180342Z
UID:10000659-1734202800-1734210900@bostoncoffeehouses.org
SUMMARY:Patty Larkin - Second Annual Holiday Concert
DESCRIPTION:PATTY LARKIN is a visionary of sound and wonder\, a real deal version of artistry made of equal parts guitar wizardry\, vocals shot through with soul and inventive lyrics that ripple across the terrain of the heart. Described as “riveting” (Chicago Tribune)\, “hypnotic” (Entertainment Weekly)\, and a “drop-dead brilliant” performer (Performing Songwriter)\, Patty has captured audiences for over 30 years with an imagination\, enchantment\, and technical artistry that has redefined the boundaries of the guitar driven singer songwriter.  Patty is an imaginative\, hilarious\, enchanting performer.  Join us for Holiday Spirit and a Legend!\n\nThere will also be a prize for the best ‘ugly holiday sweater!’  We are always looking for folk-friendly volunteers\, especially in the kitchen\, helping with sound\, setting up and breaking down\, or a myriad of other tasks. \n\nPark in Rear of church and enter through the double doors.\nWe are ADA accessible. If someone is accompanying you\, please have them come into the building to alert us\, so we can readily assist.\nThe SSFMC Club is a 501(c)(3) non-profit.
URL:https://bostoncoffeehouses.org/event/patty-larkin-second-annual-holiday-concert/
LOCATION:South Shore Folk Music Club\, Duxbury MA\, 842 Tremont St\, Duxbury\, MA\, 02332\, United States
CATEGORIES:Concert,Singer-songwriter
ATTACH;FMTTYPE=image/jpeg:https://bostoncoffeehouses.org/wp-content/uploads/2024/11/PattyLarkin-HIRES-for-BACHA-1.9MB-14De24-scaled.jpg
END:VEVENT
END:VCALENDAR