BEGIN:VCALENDAR
VERSION:2.0
PRODID:-//BACHA - ECPv6.15.19//NONSGML v1.0//EN
CALSCALE:GREGORIAN
METHOD:PUBLISH
X-ORIGINAL-URL:https://bostoncoffeehouses.org
X-WR-CALDESC:Events for BACHA
REFRESH-INTERVAL;VALUE=DURATION:PT1H
X-Robots-Tag:noindex
X-PUBLISHED-TTL:PT1H
BEGIN:VTIMEZONE
TZID:America/New_York
BEGIN:DAYLIGHT
TZOFFSETFROM:-0500
TZOFFSETTO:-0400
TZNAME:EDT
DTSTART:20230312T070000
END:DAYLIGHT
BEGIN:STANDARD
TZOFFSETFROM:-0400
TZOFFSETTO:-0500
TZNAME:EST
DTSTART:20231105T060000
END:STANDARD
BEGIN:DAYLIGHT
TZOFFSETFROM:-0500
TZOFFSETTO:-0400
TZNAME:EDT
DTSTART:20240310T070000
END:DAYLIGHT
BEGIN:STANDARD
TZOFFSETFROM:-0400
TZOFFSETTO:-0500
TZNAME:EST
DTSTART:20241103T060000
END:STANDARD
BEGIN:DAYLIGHT
TZOFFSETFROM:-0500
TZOFFSETTO:-0400
TZNAME:EDT
DTSTART:20250309T070000
END:DAYLIGHT
BEGIN:STANDARD
TZOFFSETFROM:-0400
TZOFFSETTO:-0500
TZNAME:EST
DTSTART:20251102T060000
END:STANDARD
END:VTIMEZONE
BEGIN:VEVENT
DTSTART;TZID=America/New_York:20241019T190000
DTEND;TZID=America/New_York:20241019T211500
DTSTAMP:20260422T071712
CREATED:20240926T160535Z
LAST-MODIFIED:20241010T161853Z
UID:10000630-1729364400-1729372500@bostoncoffeehouses.org
SUMMARY:Alastair Moock - Duo Show with Maxfield Anderson
DESCRIPTION:Alastair Moock started performing in 1995\, moving from his home outside New York City to the folk haven of Boston\, Massachusetts. After working his way up through the local coffeehouse and club circuit\, he began touring the U.S. and Europe\, eventually graduating to renowned events like the Newport Folk Festival and Norway’s Bergen Music Fest and opening for national acts like Arlo Guthrie\, Taj Mahal\, Ramblin’ Jack Elliot\, Bill Morrissey\, and Greg Brown. Today\, he is an award-winning singer-songwriter; a Grammy-nominated family musician; a social justice and songwriting educator for all ages; and co-founder of The Opening Doors Project\, an anti-racist music organization. The Boston Globe calls him “one of the town’s best and most adventurous songwriters” and The Washington Post declares “every song a gem.”   Maxfield Anderson will be joining Alastair. They have been playing together and are part of Passim’s Folk Collective.  Maxfield plays mandolin\, banjo\, fiddle\, guitar and writes some really nice tunes of his own!
URL:https://bostoncoffeehouses.org/event/alastair-moock-in-concert/
LOCATION:South Shore Folk Music Club\, Duxbury MA\, 842 Tremont St\, Duxbury\, MA\, 02332\, United States
CATEGORIES:Concert,Singer-songwriter
ATTACH;FMTTYPE=image/jpeg:https://bostoncoffeehouses.org/wp-content/uploads/2024/09/Moock-Cropped-26Sep24-scaled.jpg
END:VEVENT
BEGIN:VEVENT
DTSTART;TZID=America/New_York:20241019T193000
DTEND;TZID=America/New_York:20241019T220000
DTSTAMP:20260422T071712
CREATED:20240909T000847Z
LAST-MODIFIED:20240909T001923Z
UID:10000496-1729366200-1729375200@bostoncoffeehouses.org
SUMMARY:Carolann Solebello - Oct. 19\, 2024
DESCRIPTION:Showtime: 7:30 p.m. Doors open at 7.\n\n\n\n\nCAROLANN SOLEBELLO is a performing songwriter born and bred in New York City. Best known to folk audiences as a founding member of Americana trio Red Molly\, she now tours as a solo troubadour and with modern folk foursome No Fuss and Feathers. Carolann’s smooth\, compelling voice and warm acoustic guitar style nod to rural folk traditions while her decidedly urban sense of rhythm and sophisticated vocal phrasing plant her firmly in the present. An award-winning songwriter and proud member of AFM Local 1000\, Carolann has five solo albums to her credit and is working on a sixth.
URL:https://bostoncoffeehouses.org/event/carolann-solebello-oct-19-2024-730-p-m/
LOCATION:Rose Garden Coffeehouse\, Mansfield MA\, 17 West St\, Mansfield\, MA\, 02048\, United States
CATEGORIES:Coffeehouse,Concert,Music,Singer-songwriter
ATTACH;FMTTYPE=image/jpeg:https://bostoncoffeehouses.org/wp-content/uploads/2024/09/cs-diner-by-joe-iadanza-16-9-1600px.jpg
END:VEVENT
BEGIN:VEVENT
DTSTART;TZID=America/New_York:20241026T193000
DTEND;TZID=America/New_York:20241026T210000
DTSTAMP:20260422T071712
CREATED:20240820T150700Z
LAST-MODIFIED:20240820T150700Z
UID:10000467-1729971000-1729976400@bostoncoffeehouses.org
SUMMARY:An Evening with Lisa Bastoni
DESCRIPTION:Please join us for the second of our fall series shows at Live from the Living Room with Lisa Bastoni! Don’t miss this intimate “house concert” with singer-songwriter Lisa.
URL:https://bostoncoffeehouses.org/event/an-evening-with-lisa-bastoni/
LOCATION:Live from the Living Room\, Melrose MA\, 647 Main St\, Melrose\, MA\, 02176\, United States
CATEGORIES:Coffeehouse,Concert,Music,Singer-songwriter
END:VEVENT
END:VCALENDAR