BEGIN:VCALENDAR
VERSION:2.0
PRODID:-//BACHA - ECPv6.15.19//NONSGML v1.0//EN
CALSCALE:GREGORIAN
METHOD:PUBLISH
X-WR-CALNAME:BACHA
X-ORIGINAL-URL:https://bostoncoffeehouses.org
X-WR-CALDESC:Events for BACHA
REFRESH-INTERVAL;VALUE=DURATION:PT1H
X-Robots-Tag:noindex
X-PUBLISHED-TTL:PT1H
BEGIN:VTIMEZONE
TZID:America/New_York
BEGIN:DAYLIGHT
TZOFFSETFROM:-0500
TZOFFSETTO:-0400
TZNAME:EDT
DTSTART:20230312T070000
END:DAYLIGHT
BEGIN:STANDARD
TZOFFSETFROM:-0400
TZOFFSETTO:-0500
TZNAME:EST
DTSTART:20231105T060000
END:STANDARD
BEGIN:DAYLIGHT
TZOFFSETFROM:-0500
TZOFFSETTO:-0400
TZNAME:EDT
DTSTART:20240310T070000
END:DAYLIGHT
BEGIN:STANDARD
TZOFFSETFROM:-0400
TZOFFSETTO:-0500
TZNAME:EST
DTSTART:20241103T060000
END:STANDARD
BEGIN:DAYLIGHT
TZOFFSETFROM:-0500
TZOFFSETTO:-0400
TZNAME:EDT
DTSTART:20250309T070000
END:DAYLIGHT
BEGIN:STANDARD
TZOFFSETFROM:-0400
TZOFFSETTO:-0500
TZNAME:EST
DTSTART:20251102T060000
END:STANDARD
END:VTIMEZONE
BEGIN:VEVENT
DTSTART;TZID=America/New_York:20240504T190000
DTEND;TZID=America/New_York:20240504T210000
DTSTAMP:20260422T160521
CREATED:20240404T204809Z
LAST-MODIFIED:20240420T193127Z
UID:10000392-1714849200-1714856400@bostoncoffeehouses.org
SUMMARY:Mark T. Small - Concert
DESCRIPTION:Mark T. Small is an internationally recognized musician and entertainer who has performed throughout the U.S. and Europe.  His recordings have reached the Top 20 on National Music Charts.  He was the winner of ‘Best Acoustic Blues Album 2014’ by Blues Blast Magazine and also won the Boston Blues Challenge in 2016.  He has opened and played on the bill with Johnny Winter\, James Cotton\, Emmylou Harris\, Robert Cray\, Shemekia Copeland and many others.  His shows include Honky-Tonk\, Old-Time\, acoustic roots as well as some of America’s greatest composers\, ranging from Josef Wagner to Scott Joplin.  He plays a mean banjo too!  All of the music is high-lighted by Mark’s blazing acoustic guitar work\, smooth vocals and classic American songs:  All in a one-man show!  Info and videos at http://www.marktsmall.com
URL:https://bostoncoffeehouses.org/event/mark-t-small-in-concert/
LOCATION:South Shore Folk Music Club\, Duxbury MA\, 842 Tremont St\, Duxbury\, MA\, 02332\, United States
CATEGORIES:Blues,Concert,Honky-Tonk,Multi-instrumentalist,Old-Time,Ragtime
ATTACH;FMTTYPE=image/jpeg:https://bostoncoffeehouses.org/wp-content/uploads/2024/04/Mark-T-Small-4May24.jpg
END:VEVENT
BEGIN:VEVENT
DTSTART;TZID=America/New_York:20240510T190000
DTEND;TZID=America/New_York:20240510T220000
DTSTAMP:20260422T160521
CREATED:20240425T181056Z
LAST-MODIFIED:20240425T181940Z
UID:10000401-1715367600-1715378400@bostoncoffeehouses.org
SUMMARY:The Honey Badgers at PCA
DESCRIPTION:The Honey Badgers’ folk/Americana sound has been likened to that of The Civil Wars and The Swell Season. They are known for their intense\, unique harmonies\, their sincere lyrics and melodies\, and their undeniable and captivating onstage charm. Weaving their voices together over driving guitar\, wistful violin\, and punchy harmonica\, The Honey Badgers spin stories and songs about finding yourself\, finding each other\, and finding your way in the world. They have been creating music together since the summer of 2011. \nPromo Video available by clicking here \nClick Here for tix
URL:https://bostoncoffeehouses.org/event/the-honey-badgers-at-pca/
LOCATION:Parish Center for the Arts\, Westford MA\, 10 Lincoln Street\, Westford\, MA\, 01886\, United States
CATEGORIES:Coffeehouse,Concert,Music,Singer-songwriter
ATTACH;FMTTYPE=image/jpeg:https://bostoncoffeehouses.org/wp-content/uploads/2024/04/051024_HoneyBadgers_square.jpg
ORGANIZER;CN="Parish Center for the Arts":MAILTO:admin@pcawestford.org
END:VEVENT
BEGIN:VEVENT
DTSTART;TZID=America/New_York:20240511T190000
DTEND;TZID=America/New_York:20240511T210000
DTSTAMP:20260422T160521
CREATED:20240311T191357Z
LAST-MODIFIED:20240311T191357Z
UID:10000377-1715454000-1715461200@bostoncoffeehouses.org
SUMMARY:The Honey Badgers and Cardboard Ox
DESCRIPTION:The Honey Badgers are Erin Magnin and Michael Natrin. \nThe Honey Badgers are known for their intense\, unique harmonies\, their sincere lyrics and melodies\, and their undeniable onstage chemistry. Weaving their voices together over driving guitar\, wistful violin\, and punchy harmonica\, The Honey Badgers create a sound that is all at once heartfelt\, reflective\, eager\, and full of laid-back fun. The Honey Badgers have been creating music together since the summer of 2011. In their first several years working together they released their debut EP\, “Booth Bay”\, a thoughtfully crafted second EP\, “Soul”\, as well as a collection of live recordings entitled “Mad Season”. In the years following the duo’s conception\, they played all over their home state of Delaware and the surrounding area\, from the Delmarva Folk Festival in Hartly to the World Cafe Live at the Queen in Wilmington. \nCardboard Ox is Tracie Potochnik & Steve Allain \nWell-established as solo performers in their home state of Rhode Island\, Tracie Potochnik and Steve Allain joined forces in 2014 to form Cardboard Ox. The duo is known for sweet and soulful harmonies\, thoughtful musicianship\, and delicately crafted storytelling.Cardboard Ox has performed at venues throughout New England including the main stage at The Providence Folk Festival\, the Spire Center for the Performing Arts\, and the legendary Club Passim\, and has opened for acts including Cheryl Wheeler and Marc Douglas Berardo. The duo has also been nominated for Limelight and Motif Magazine awards.Cardboard Ox’s eponymous debut EP\, a collection of six original songs\, was recorded at Rhode Island’s Lion Recording Studio with engineer Ross Lenzing. The album features simple arrangements and production that capture the duo’s live sound\, and place focus firmly on the songs themselves. They have also released the dowload-only Cardboard Ox Presents: A Cardboard Ox Christmas (featuring Cardboard Ox)\, a holiday EP featuring three original songs and one Dolly Parton and Kenny Rogers classic. They’re currently in the studio recording a full-length album.
URL:https://bostoncoffeehouses.org/event/the-honey-badgers-cardboard-ox/
LOCATION:Stone Soup Coffeehouse\, 88 Meeting Street\, Providence\, RI\, 02906\, United States
CATEGORIES:Coffeehouse,Concert
ATTACH;FMTTYPE=image/jpeg:https://bostoncoffeehouses.org/wp-content/uploads/2024/03/SS2324_BACHA_BadgersOx.jpg
END:VEVENT
BEGIN:VEVENT
DTSTART;TZID=America/New_York:20240518T193000
DTEND;TZID=America/New_York:20240518T220000
DTSTAMP:20260422T160521
CREATED:20231222T024435Z
LAST-MODIFIED:20240423T132855Z
UID:10000321-1716060600-1716069600@bostoncoffeehouses.org
SUMMARY:Vance Gilbert & finals of Performing Songwriter Competition featuring James Lee Baker\, Chris LaVancher & Allison Rose
DESCRIPTION:NOTE: NEW earlier showtime: 7:30 p.m. Doors open at 7.\n\n\nWe are so thrilled to have Vance Gilbert conclude our 35th season! \nWe are also pleased to announce that James Lee Baker (Colorado)\, Chris LaVancher (Massachusetts)\, and Allison Rose (Rhode Island) have been chosen as the finalists for the Rose Garden Coffeehouse’s 32nd Performing Songwriter Competition. Join us on May 18 to cheer them on as they perform their original songs before the evening’s featured act: Vance Gilbert. Best of luck to each the finalists! Tickets: https://tinyurl.com/rg24contest \nVance is a versatile and influential acoustic singer-songwriter\, performer\, and coach. He has released 14 albums and performed at prestigious festivals and venues\, and he’s performed at the Rose Garden probably a half-dozen times over the years. His latest album\, “The Mother Of Trouble”\, showcases his storytelling skills and diverse musical influences. Vance is the perfect musician to inspire our trio of songwriters participating that night in our 32nd Performing Songwriter Competition. \nAbout Vance\n“If Joni Mitchell and Richie Havens had a love child\, with Rodney Dangerfield as the midwife\, the results might be something close to the great Vance Gilbert”\, says Richmond Magazine. \nVance’s new album\, “The Mother Of Trouble”\, features Grammy winner Lori McKenna on background vocals\, Juno award recipient and Bonnie Raitt Grammy hit song co-writer Joey Landreth on guitars\, and Americana-Roots master mandolinist Joe K. Walsh. With 4 bullies\, 4 deaths (3 of them murders)\, 3 moms\, 2 accidents\, 2 Black people\, 2 dogs\, 1 dog ball\, 1 gay kid\, and 1 missed flight thanks to gas station sushi\, this album benefits from the gifts of time and experience honing songwriting skills that put this most vital of acoustic storytellers at the top of the game. \nOh\, and Management wants to make sure to tell you that this is the 14th release for this acoustic stalwart. \n30 years into his career\, the songwriter’s influence can be felt all over the contemporary Folk and Americana realm as he has helped pave the way for many of the BIPOC artists who have followed. \nVance was born and raised in the Philadelphia area. Starting out hoping to be an R&B and jazz singer once at college\, there he discovered his affinity for the storytelling sensibilities of the acoustic singer-songwriter thing. Word spread like wildfire about Gilbert’s stage-owning singing and playing\, and Shawn Colvin invited him to be special guest on her 1992 Fat City tour where he took much of America by storm and by surprise. “With the voice of an angel\, the wit of a devil\, and the guitar playing of a god..” wrote the Fort Worth Star-Telegram. \nNoted not only for being the ever consummate performer\, Gilbert has recorded 13 albums\, including 5 for Philo/Rounder Records. Along with being opener of choice for artists as varied as Arlo Guthrie\, Anita Baker\, The Milk Carton Kids\, and Southside Johnny\, the mid 2000’s found Gilbert opening 150+ shows for comedian George Carlin. \nGilbert has also been a prominent presence at some of the world’s most prestigious gatherings and halls\, among them the Newport\, Winnipeg\, Rocky Mountain\, Calgary\, Ottawa\, and Falcon Ridge Folk festivals\, the Kate Wolf Music Festival\, and Australia’s Woodford Folk and Mullum Music Festivals\, Mountain Stage\, Boston’s Symphony Hall\, Nashville’s Lyman Auditorium\, The Barns at Wolftrap\, and a private party for his veterinarian where there was terrific lo-mein. \nMost recently he’s been the opener of choice for Mad About You/Stranger Things star Paul Reiser’s stand-up shows (50 +) for the last 7 years\, along with his own busy acoustic music touring and coaching schedule. That current schedule includes Vance’s Monday Night Acoustic Pajama Party on YouTube. Having started the first week of the pandemic in 2020\, Vance has played a live\, themed\, weekly 90 minute mixed bag of originals and cover tunes to a rotating following of about 200 folks. 10 to 20% of his weekly tip jar is donated to a local 501(c)3 of his choice. At the time of this writing\, having done 155 of these shows has become newsworthy in itself. \nGilbert has been a songwriting\, performance\, and voice coach all around the world\, kinda\, from Australia to Winnipeg\, at all the festivals above plus The Kerrville and Rocky Mountain Song Schools\, he is currently on staff as Instructor/Professor at the University Of Colorado Denver and has a decade worth of summer programs at the Berklee College Of Music under his belt. What? Private coaching? Yes\, 6-10 students weekly too. \nConsidered by many to be an integral part of the national folk scene\, his previous record “Good Good Man” features an eclectic roster of musical types including rocker Mike Posner\, world renown Celtic harpist Aine Minough\, bluesman Chris Smither\, and Al Green’s organist Stacey Wade. \nGilbert runs 3 to 4 miles ever so slowly 5 days a week to stay sharp for the road and does historical aviation research and model building just for great nerdy fun. \nHe even has a tune on a Grammy Nominated children’s album. How rounded is that?
URL:https://bostoncoffeehouses.org/event/vance-gilbert-finals-of-performing-songwriter-competition/
LOCATION:Rose Garden Coffeehouse\, Mansfield MA\, 17 West St\, Mansfield\, MA\, 02048\, United States
CATEGORIES:Coffeehouse,Concert,Music,Singer-songwriter
ATTACH;FMTTYPE=image/jpeg:https://bostoncoffeehouses.org/wp-content/uploads/2023/12/Vance-no-words-1600x900-1.jpg
END:VEVENT
BEGIN:VEVENT
DTSTART;TZID=America/New_York:20240531T190000
DTEND;TZID=America/New_York:20240531T220000
DTSTAMP:20260422T160521
CREATED:20240522T211436Z
LAST-MODIFIED:20240522T211436Z
UID:10000422-1717182000-1717192800@bostoncoffeehouses.org
SUMMARY:North Reading Community Coffeehouse - Performing Artist Series Featuring Rupert Wates with Dave Mason to Open
DESCRIPTION:The North Reading Community Coffeehouse (NRCC) is thrilled to welcome back Rupert Wates. \nWith Covid hopefully in the read-view mirror\, touring is slowly returning to some level of normal and Rupert is back out on the road touring. Over the past couple of years\, Rupert has released several highly acclaimed CDs. – ‘Elegies’ (2023)\, ‘Instrumental’ (2023)\, ‘For The People’ (2022) and  ‘Lamentations’ (2020).  The NRCC is proud to be able to bring Rupert back to North Reading.  We hope you will join us in welcoming this world class musician. \nOpening for Rupert is one of the finest singer-songwriters we have met in our virtual world\, Dave Mason.  We are very much looking forward to meeting this wonderful performer in person for the first time as he comes to us from Scotland.   Dave writes about places he has seen\, people he has met as well as issues he feels need highlighting.  Dave has played in folk clubs across the whole of Scotland\, England\, Wales\, the US and South Africa.  He is also a plays and writes music for bagpipes! \nThe concert is free\, but there will be a “Suggested Donation” of $20 if you are in a position to do so.  The important thing is join us if you can and do what we can to help keep live music alive! \nFor more about Rupert and Dave\, please go to their websites: \nwww.rupertwatesmusic.com \nhttps://davemason.co.uk \nWe hope you will join us on Friday\, May 31 in the Activity Room of the Flint Memorial Library located at 147 Park Street in North Reading.  It will be a fun and entertaining evening.  Questions – contact Art Grossman at NRCoffeehouse@gmail.com \n  \n 
URL:https://bostoncoffeehouses.org/event/north-reading-community-coffeehouse-performing-artist-series-featuring-rupert-wates-with-dave-mason-to-open/
LOCATION:North Reading Community Coffeehouse\, North Reading MA\, 147 Park St\, North Reading\, MA\, 01864\, United States
CATEGORIES:Coffeehouse,Concert,Music,Singer-songwriter
ATTACH;FMTTYPE=image/png:https://bostoncoffeehouses.org/wp-content/uploads/2024/02/NRCC-FB-Page-Logo.png
ORGANIZER;CN="Art Grossman":MAILTO:NRCoffeehouse@gmail.com
END:VEVENT
END:VCALENDAR