BEGIN:VCALENDAR
VERSION:2.0
PRODID:-//BACHA - ECPv6.15.19//NONSGML v1.0//EN
CALSCALE:GREGORIAN
METHOD:PUBLISH
X-ORIGINAL-URL:https://bostoncoffeehouses.org
X-WR-CALDESC:Events for BACHA
REFRESH-INTERVAL;VALUE=DURATION:PT1H
X-Robots-Tag:noindex
X-PUBLISHED-TTL:PT1H
BEGIN:VTIMEZONE
TZID:America/New_York
BEGIN:DAYLIGHT
TZOFFSETFROM:-0500
TZOFFSETTO:-0400
TZNAME:EDT
DTSTART:20230312T070000
END:DAYLIGHT
BEGIN:STANDARD
TZOFFSETFROM:-0400
TZOFFSETTO:-0500
TZNAME:EST
DTSTART:20231105T060000
END:STANDARD
BEGIN:DAYLIGHT
TZOFFSETFROM:-0500
TZOFFSETTO:-0400
TZNAME:EDT
DTSTART:20240310T070000
END:DAYLIGHT
BEGIN:STANDARD
TZOFFSETFROM:-0400
TZOFFSETTO:-0500
TZNAME:EST
DTSTART:20241103T060000
END:STANDARD
BEGIN:DAYLIGHT
TZOFFSETFROM:-0500
TZOFFSETTO:-0400
TZNAME:EDT
DTSTART:20250309T070000
END:DAYLIGHT
BEGIN:STANDARD
TZOFFSETFROM:-0400
TZOFFSETTO:-0500
TZNAME:EST
DTSTART:20251102T060000
END:STANDARD
END:VTIMEZONE
BEGIN:VEVENT
DTSTART;TZID=America/New_York:20240203T190000
DTEND;TZID=America/New_York:20240203T210000
DTSTAMP:20260422T213413
CREATED:20240118T191105Z
LAST-MODIFIED:20240118T194323Z
UID:10000337-1706986800-1706994000@bostoncoffeehouses.org
SUMMARY:Greg Greenway SSFMC Sat Feb 3 2024 Doors Open 630p\, Show Starts 7p
DESCRIPTION:South Shore Folk Music Club (SSFMC) \nSaturday February 3 2024\nFirst Parish Church\n842 Tremont St. Duxbury MA.\nDoors open at 6:30 pm. Show starts at 7p.\n$22 Non-members\, $20 Members\nRefreshments available. ADA accessible.\n\nGreg Greenway has been described as “Confessional one moment and rambunctiously disarming the next.”  “He is one of the strongest and finest voices in folk music and a profoundly rich poet and musician.”  Back in the early days South Shore Folk Music Club (SSFMC) provided him a stepping stone to a long and prosperous\, professional career. He’s played festivals and concert halls throughout the U.S. and Canada\, played Carnegie Hall and been featured on NPR.  On Saturday February 3rd\, he will be leading off our 46th season!  SSFMC is thrilled to present Greg Greenway and hope to see everyone at 630 pm when our doors open!  This is a show you’ll be talking about for years.  Tell your friends and come on down.  It’s all a part of our new mission – “return to the roots.”
URL:https://bostoncoffeehouses.org/event/greg-greenway-ssfmc-sat-feb-3-2024-doors-open-630p-show-starts-7p/
LOCATION:South Shore Folk Music Club\, Duxbury MA\, 842 Tremont St\, Duxbury\, MA\, 02332\, United States
CATEGORIES:Concert,Multi-instrumentalist,Singer-songwriter
ATTACH;FMTTYPE=image/jpeg:https://bostoncoffeehouses.org/wp-content/uploads/2024/01/Greg-Greenway-BW.jpg
END:VEVENT
BEGIN:VEVENT
DTSTART;TZID=America/New_York:20240203T193000
DTEND;TZID=America/New_York:20240203T220000
DTSTAMP:20260422T213413
CREATED:20231220T140227Z
LAST-MODIFIED:20231220T140227Z
UID:10000320-1706988600-1706997600@bostoncoffeehouses.org
SUMMARY:The North Reading Community Coffeehouse Performing Artist Series Presents Don White
DESCRIPTION:The North Reading Community Coffeehouse is proud to present Don White.  Don is equal parts storyteller-comedian-author-troubadour-folk singer-songwriter\, and has been bringing audiences to laughter and tears for 30 years. White’s arc as an award-winning songwriter and performer has taken him from his industrial hometown of Lynn\, MA across the country as hitchhiker\, through Boston’s comedy clubs and coffeehouses\, and onto the stage with greats like Arlo Guthrie\, Taj Mahal\, Ritchie Havens\, Patty Larkin\, Bill Morrissey\, Tom Rush\, Louden Wainwright III\, and Christine Lavin\, with whom he toured for 8 years all across North America in a co-bill called The Funny Side of the Street. At every point\, White has been the ultimate observer\, infusing his work with his experiences as a husband\, a father\, a seeker\, and a joker. In 2011\, he won the Jerry Christen Memorial Award\, given out by Boston Area Coffeehouse Association\, for his work with the community. There is a $20 suggested donation.  Doors open at 6:30.  Please come and join us for a great evening of music and storytelling.  We are located in the Activity Room of the Flint Memorial Library at 147 Park Street in North Reading\, MA.  There is plenty of free parking.  If you would like to reserve a seat\, please contact Art Grossman at NRCoffeehouse@gmail.com.
URL:https://bostoncoffeehouses.org/event/the-north-reading-community-coffeehouse-performing-artist-series-presents-don-white-2/
LOCATION:North Reading Community Coffeehouse\, North Reading MA\, 147 Park St\, North Reading\, MA\, 01864\, United States
CATEGORIES:Coffeehouse,Concert,Music,Singer-songwriter
ATTACH;FMTTYPE=image/jpeg:https://bostoncoffeehouses.org/wp-content/uploads/2023/01/Don-White-Promo-Red-Shirt-Resized.jpg
ORGANIZER;CN="Art Grossman":MAILTO:NRCoffeehouse@gmail.com
END:VEVENT
BEGIN:VEVENT
DTSTART;TZID=America/New_York:20240217T193000
DTEND;TZID=America/New_York:20240217T220000
DTSTAMP:20260422T213414
CREATED:20231207T142055Z
LAST-MODIFIED:20231207T142246Z
UID:10000308-1708198200-1708207200@bostoncoffeehouses.org
SUMMARY:Erin Sullivan / Eric & Ash (a split bill)
DESCRIPTION:NOTE: NEW earlier showtime: 7:30 p.m. Doors open at 7.\nAsh & Eric\, a married duo from Worcester\, are known for their genuine storytelling through music. Their songs navigate the intricacies of love\, capturing both its triumphs and tribulations. Their album\, “Sure\,” touches on love’s dynamics\, offering both solace and reflection. Having been a team since 2012\, their knack for transforming life’s challenges into lyrical narratives stands out. Their beautiful harmonies\, acoustic guitar work\, and warm stage presence have led them to perform alongside folk stalwarts like Livingston Taylor and Mark Erelli. Their latest album\, “Sure\,” was entirely produced by Eric\, and they’re set to release a related film in 2023. \nErin Ash Sullivan\, also rooted in Massachusetts\, presents a nuanced take on folk music. Rose Garden attendees will remember her as the winner of our 2023 Performing Songwriter Competition. Originally one-half of the folk pair\, Edith O.\, with Amy Speace\, Erin took time away for personal commitments before making a resonant return. Her 2021 solo debut\, “We Can Hear Each Other\,” found success\, particularly her track “Fireflies.” Gaining attention within the folk community\, her accolades include the Mark Erelli Judge’s Choice Award. Erin’s artistry\, often described as both delicate and evocative\, evokes comparisons to established artists\, notably Dar Williams.
URL:https://bostoncoffeehouses.org/event/erin-sullivan-eric-ash-a-split-bill/
LOCATION:Rose Garden Coffeehouse\, Mansfield MA\, 17 West St\, Mansfield\, MA\, 02048\, United States
CATEGORIES:Coffeehouse,Concert,Music,Singer-songwriter
ATTACH;FMTTYPE=image/jpeg:https://bostoncoffeehouses.org/wp-content/uploads/2023/12/Erin-Sullivan-Ash-Eric-169.jpg
END:VEVENT
BEGIN:VEVENT
DTSTART;TZID=America/New_York:20240222T080000
DTEND;TZID=America/New_York:20240222T170000
DTSTAMP:20260422T213414
CREATED:20240324T180036Z
LAST-MODIFIED:20240223T181029Z
UID:10000365-1708588800-1708621200@bostoncoffeehouses.org
SUMMARY:Sailing into Song House concerts welcomes Claudia Schmidt!
DESCRIPTION:⛵️SAILING INTO SONG ANNOUNCES OUR SECOND CONCERT IN 2024! \nCLAUDIA SCHMIDT  MARCH 24\, 2024  2:00 PM\, Newton\, MA Claudia Schmidt web page\nIf it were the intention of the creator or creators of this universe to perfectly blend together the night sky with moon and stars\, it might have been their intention as well to deliver Claudia Schmidt as their messenger of reminder. To say that Schmidt is simply a performer with a talent to entertain would be a miscarriage of understatement. Schmidt takes her audiences into her world as easily as the child who discovers the endless universes that exist in a cardboard box.(Door County Advocate\, Wisconsin)\n\nWatch a recent performance – Enough Already\n     SUGGESTED DONATION IS $25.00. \n We will rely on your word that you have had a COVID vaccination. Masks optional. If you are not feeling well\, please refrain from attending.\nThis is an “INVITATION ONLY” EVENT.  To receive an invitation\, send name and email to: sailingintosong@gmail.com
URL:https://bostoncoffeehouses.org/event/sailing-into-song-house-concerts-welcomes-claudia-schmidt/
LOCATION:MA
CATEGORIES:Concert,Singer-songwriter
END:VEVENT
END:VCALENDAR