BEGIN:VCALENDAR
VERSION:2.0
PRODID:-//BACHA - ECPv6.15.19//NONSGML v1.0//EN
CALSCALE:GREGORIAN
METHOD:PUBLISH
X-WR-CALNAME:BACHA
X-ORIGINAL-URL:https://bostoncoffeehouses.org
X-WR-CALDESC:Events for BACHA
REFRESH-INTERVAL;VALUE=DURATION:PT1H
X-Robots-Tag:noindex
X-PUBLISHED-TTL:PT1H
BEGIN:VTIMEZONE
TZID:America/New_York
BEGIN:DAYLIGHT
TZOFFSETFROM:-0500
TZOFFSETTO:-0400
TZNAME:EDT
DTSTART:20230312T070000
END:DAYLIGHT
BEGIN:STANDARD
TZOFFSETFROM:-0400
TZOFFSETTO:-0500
TZNAME:EST
DTSTART:20231105T060000
END:STANDARD
BEGIN:DAYLIGHT
TZOFFSETFROM:-0500
TZOFFSETTO:-0400
TZNAME:EDT
DTSTART:20240310T070000
END:DAYLIGHT
BEGIN:STANDARD
TZOFFSETFROM:-0400
TZOFFSETTO:-0500
TZNAME:EST
DTSTART:20241103T060000
END:STANDARD
BEGIN:DAYLIGHT
TZOFFSETFROM:-0500
TZOFFSETTO:-0400
TZNAME:EDT
DTSTART:20250309T070000
END:DAYLIGHT
BEGIN:STANDARD
TZOFFSETFROM:-0400
TZOFFSETTO:-0500
TZNAME:EST
DTSTART:20251102T060000
END:STANDARD
END:VTIMEZONE
BEGIN:VEVENT
DTSTART;TZID=America/New_York:20240113T193000
DTEND;TZID=America/New_York:20240113T223000
DTSTAMP:20260422T230441
CREATED:20240105T153228Z
LAST-MODIFIED:20240105T153228Z
UID:10000327-1705174200-1705185000@bostoncoffeehouses.org
SUMMARY:Local Talent Showcase
DESCRIPTION:
URL:https://bostoncoffeehouses.org/event/local-talent-showcase/
LOCATION:Music on Centre\, West Roxbury MA\, 1859 Centre St\, West Roxbury\, MA\, 02132\, United States
CATEGORIES:Concert
END:VEVENT
BEGIN:VEVENT
DTSTART;TZID=America/New_York:20240113T193000
DTEND;TZID=America/New_York:20240113T223000
DTSTAMP:20260422T230441
CREATED:20240108T183934Z
LAST-MODIFIED:20240108T183934Z
UID:10000331-1705174200-1705185000@bostoncoffeehouses.org
SUMMARY:Local Talent Showcase
DESCRIPTION:Music on Centre is proud to present an evening of musical variety and talent with four Boston-based acts. The performers are Tom Smith\, playing classic folk in the style of Tom Paxton and Pete Seeger; Adam and Marcia  Feldman offering a musical mix of jazz and pop with piano\, guitar and vocals; Andrew Innes and the Reluctant Ramblers\, a favorite group around Boston regaling us with original songs in the Americana tradition accompanied by fiddle\, guitar\, bass and pedal steel; and the duo of Brian Cartwright and Karen Sauer whose repertoire covers many centuries of  the folk tradition. \nMake your reservations by emailing musiconcentre@gmail.com. Admission is $25 for adults and $15 for 21 and under. Cash preferred but cards okay. Doors open at 7:00. Refreshments available during intermission. Go to the parish hall which is behind the church at 70 Corey Street. Free parking nearby. Building is handicap accessible.
URL:https://bostoncoffeehouses.org/event/local-talent-showcase-2/
LOCATION:Music on Centre\, West Roxbury MA\, 1859 Centre St\, West Roxbury\, MA\, 02132\, United States
CATEGORIES:Concert
END:VEVENT
BEGIN:VEVENT
DTSTART;TZID=America/New_York:20240120T193000
DTEND;TZID=America/New_York:20240120T220000
DTSTAMP:20260422T230441
CREATED:20231113T015406Z
LAST-MODIFIED:20231206T032729Z
UID:10000295-1705779000-1705788000@bostoncoffeehouses.org
SUMMARY:Lisa Bastoni with Sean Staples
DESCRIPTION:NOTE: NEW earlier showtime: 7:30 p.m. Doors open at 7.\nThe Rose Garden is welcoming back Lisa Bastoni and Sean Staples.  \n \nLisa Bastoni. Photo by Thomas Lingner \n\nAward-winning singer-songwriter Lisa Bastoni and multi-instrumentalist and producer Sean Staples return to the Rose Garden Coffeehouse on Jan. 20\, 2024 at 7:30 p.m. to kick off the second half of its 2023-2024 season. \nLisa Bastoni is a Northampton\, Mass.-based singer-songwriter known for her “expressive\, well-crafted songs” (Glide Magazine). \nShe is a 2022 & 2023 New England Music Award nominee (Roots)\, 2020 & 2019 Boston Music Award Nominee (Folk) and winner of 2019 New Folk at the esteemed Kerrville Folk Festival. \nIn addition to her work in music\, Lisa Bastoni is a painter\, multimedia artist and teacher\, and mother of two young children. She performs regularly with her partner\, award-winning multi-instrumentalist/producer Sean Staples\, a fixture on the Boston/Cambridge roots/folk scene. \nLisa Bastoni has opened for/performed with Lori McKenna\, Dar Williams\, Regina Spektor\, The Secret Sisters\, Teddy Thompson\, Larry Campbell & Teresa Williams\, and many more. A new album\, “On The Water\,” is slated for release in March 2023. \n“Bright\, attractive and wonderfully poetic…” (Americana-UK) \n“A beautiful melancholia…real and human.” (Red Line Roots) \n“Americana of the highest order\, along the lines of Patty Griffin or Gretchen Peters” (Maverick UK) \n“Ever since we heard Lisa Bastoni’s poetic words\, clever turns of phrase\, and the way she takes over the stage\, we have fallen in love with her music\,” says Stephen Ide\, artistic director of the Rose Garden Coffeehouse. “With Sean Staples on mandolin and adding vocals\, a certain magic happens that has to be heard to be believed. We’re thrilled to have her back in the Garden.” \nThe Rose Garden shows will be starting at a new time this season\, 7:30 p.m.\, with doors opening at 7. For tickets and more information: https://bit.ly/rg24bastoni.
URL:https://bostoncoffeehouses.org/event/lisa-bastoni-with-sean-staples/
LOCATION:Rose Garden Coffeehouse\, Mansfield MA\, 17 West St\, Mansfield\, MA\, 02048\, United States
CATEGORIES:Coffeehouse,Concert,Music,Singer-songwriter
ATTACH;FMTTYPE=image/jpeg:https://bostoncoffeehouses.org/wp-content/uploads/2023/11/bacha-Bastoni-Staples.jpg
END:VEVENT
BEGIN:VEVENT
DTSTART;TZID=America/New_York:20240126T193000
DTEND;TZID=America/New_York:20240126T213000
DTSTAMP:20260422T230441
CREATED:20240103T190412Z
LAST-MODIFIED:20240103T190412Z
UID:10000324-1706297400-1706304600@bostoncoffeehouses.org
SUMMARY:First Church Friday Folk Coffeehouse Presents the Ruth and Ben String Band on 1/26!
DESCRIPTION:Friday Folk Coffeehouse at First Church Dedham\n670 High Street\, Dedham\, MA\n(781) 326-7463 \nContact: Geoff Tegnell \nFirst Church Friday Folk Coffeehouse presents its fourth concert of the 2023-2024 season featuring the Ruth and Ben String Band at First Church and Parish Dedham 670 High Street\, Dedham on Friday\, January 26\, 2024 at 7:30 pm in the Auditorium. There will be refreshments for purchase.  Tickets are $15 and are available online at Folk Coffeehouse | dedhamuu and at the door.  Doors open at 7:00 pm. \nThe Ruth and Ben String Band plays electrifying old-time Appalachian music. Led by guitarist Ruth Rappaport and her fiddler son\, Ben Wetherbee\, the band’s repertoire includes rousing fiddle tunes and traditional\, modern\, and original songs that feature tight harmony singing. They are joined by clawhammer banjo player Joel Wennerstrom and upright bass player Michael Siegel.As a multi-generational four-piece band\, their musical influences are far reaching and include many genres–from Irish fiddle tunes and early country to punk. Ruth brings years of experience as a principal member of the ‘80’s and ’90’s all-woman old-time band from Boston\, “The Poodles\,” touring Europe and the US.  Her son Ben is following in Ruth’s footsteps with his musically diverse fiddle playing\, which has garnered much attention through his many performances in the area. Joel’s rhythmic and melodic banjo playing can be heard on recordings alongside members of the Punch Brothers and various Appalachian fiddle contest winners. You can find Michael playing in numerous Americana\, Bluegrass\, and old-time groups\, including Rachel Sumner’s “Traveling Light” band.  Together they make a highly entertaining quartet.  Hold onto your hats! This will be a lively show! Ruth and Ben have recently released new album\, “Newfangled Folk” and look forward to playing selections from the album at the show. \nFirst Church and Parish Dedham Unitarian Universalist was first gathered in 1638 and is located in Dedham Center at 670 High Street. Its lively music program includes choir at Sunday services\, the Parish Players theater troupe\, and the Concerts at First Church Saturday classical concert series\, in addition to our Friday Folk Coffeehouse events.
URL:https://bostoncoffeehouses.org/event/first-church-friday-folk-coffeehouse-presents-the-ruth-and-ben-string-band-on-1-26/
LOCATION:Friday Folk Coffeehouse\, Dedham MA\, 670 High St\, Dedham\, MA\, 02026\, United States
CATEGORIES:Coffeehouse,Concert,Multi-instrumentalist,Music
ATTACH;FMTTYPE=image/jpeg:https://bostoncoffeehouses.org/wp-content/uploads/2024/01/Ruth-Ben-Joel-Mike.jpg
END:VEVENT
BEGIN:VEVENT
DTSTART;TZID=America/New_York:20240127T190000
DTEND;TZID=America/New_York:20240127T210000
DTSTAMP:20260422T230441
CREATED:20240104T144629Z
LAST-MODIFIED:20240104T144653Z
UID:10000325-1706382000-1706389200@bostoncoffeehouses.org
SUMMARY:Annual FSSGB Members' Concert
DESCRIPTION:Please join us for our annual Members’ Concert! We’ll continue the relatively new tradition of having this event on Zoom and livestreamed to Facebook Live. This is a favorite event of the year for many of us — an opportunity to delight in the rich and diverse talents of FSSGB members\, old and new. \nAll FSSGB members are invited to sign up to perform one song or tune. Email info@fssgb.org to reserve a spot. \nAll performers will be in the Zoom meeting (muted during others’ performances)\, and the show will be livestreamed to Facebook so everyone else can watch. (You don’t need to have a Facebook account to watch the livestream.) \nWe will accept donations during the performance which will benefit FSSGB. Much of that money will go to scholarships which enable young Boston-area musicians to attend folk music camps.
URL:https://bostoncoffeehouses.org/event/annual-fssgb-members-concert/
LOCATION:Zoom and Facebook Live
CATEGORIES:Concert
END:VEVENT
END:VCALENDAR