BEGIN:VCALENDAR
VERSION:2.0
PRODID:-//BACHA - ECPv6.15.19//NONSGML v1.0//EN
CALSCALE:GREGORIAN
METHOD:PUBLISH
X-WR-CALNAME:BACHA
X-ORIGINAL-URL:https://bostoncoffeehouses.org
X-WR-CALDESC:Events for BACHA
REFRESH-INTERVAL;VALUE=DURATION:PT1H
X-Robots-Tag:noindex
X-PUBLISHED-TTL:PT1H
BEGIN:VTIMEZONE
TZID:America/New_York
BEGIN:DAYLIGHT
TZOFFSETFROM:-0500
TZOFFSETTO:-0400
TZNAME:EDT
DTSTART:20220313T070000
END:DAYLIGHT
BEGIN:STANDARD
TZOFFSETFROM:-0400
TZOFFSETTO:-0500
TZNAME:EST
DTSTART:20221106T060000
END:STANDARD
BEGIN:DAYLIGHT
TZOFFSETFROM:-0500
TZOFFSETTO:-0400
TZNAME:EDT
DTSTART:20230312T070000
END:DAYLIGHT
BEGIN:STANDARD
TZOFFSETFROM:-0400
TZOFFSETTO:-0500
TZNAME:EST
DTSTART:20231105T060000
END:STANDARD
BEGIN:DAYLIGHT
TZOFFSETFROM:-0500
TZOFFSETTO:-0400
TZNAME:EDT
DTSTART:20240310T070000
END:DAYLIGHT
BEGIN:STANDARD
TZOFFSETFROM:-0400
TZOFFSETTO:-0500
TZNAME:EST
DTSTART:20241103T060000
END:STANDARD
END:VTIMEZONE
BEGIN:VEVENT
DTSTART;TZID=America/New_York:20231209T190000
DTEND;TZID=America/New_York:20231209T210000
DTSTAMP:20260423T004555
CREATED:20231127T004245Z
LAST-MODIFIED:20231127T004245Z
UID:10000302-1702148400-1702155600@bostoncoffeehouses.org
SUMMARY:Patty Larkin Holiday Concert
DESCRIPTION:The South Shore Folk Music Club (SSFMC) Presents Patty Larkin\, Saturday Dec 9 2023 for a Holiday Concert.\n7-9p\, doors open at 630p but not earlier as we’re still setting up the hall.\nTickets:  Club Member:  $25\, Non-Member:  $27\nYou may purchase in advance at https://www.southshorefolkmusicclub.org/\n\nLocation:\nFirst Parish Church Duxbury\n842 Tremont St (Rte 3A) Duxbury\nPark in Rear of church and enter the double doors.\nWe are handicapped accessible.  If someone is accompanying you\, please have them come into the building to alert us\, so we can readily assist.\nThe SSFMC Club is a 501(c)(3) non-profit.\n*We are always looking for volunteers\, especially in the kitchen\, helping with sound\, or a myriad of other tasks.\n\nPatty Larkin is a visionary of sound and wonder\, a real deal version of artistry made of equal parts guitar wizardry\, vocals shot through with soul and inventive lyrics that ripple across the terrain of the heart.  Patty is an imaginative\, hilarious\, enchanting performer who’s redefined the boundaries of the guitar driven singer-songwriter!  Join us for Holiday Spirit and a Legend!
URL:https://bostoncoffeehouses.org/event/patty-larkin-holiday-concert/
LOCATION:South Shore Folk Music Club\, Duxbury MA\, 842 Tremont St\, Duxbury\, MA\, 02332\, United States
CATEGORIES:Concert,Singer-songwriter
ATTACH;FMTTYPE=image/jpeg:https://bostoncoffeehouses.org/wp-content/uploads/2023/11/PattyPortrait-1.jpg
END:VEVENT
END:VCALENDAR