BEGIN:VCALENDAR
VERSION:2.0
PRODID:-//BACHA - ECPv6.15.19//NONSGML v1.0//EN
CALSCALE:GREGORIAN
METHOD:PUBLISH
X-ORIGINAL-URL:https://bostoncoffeehouses.org
X-WR-CALDESC:Events for BACHA
REFRESH-INTERVAL;VALUE=DURATION:PT1H
X-Robots-Tag:noindex
X-PUBLISHED-TTL:PT1H
BEGIN:VTIMEZONE
TZID:America/New_York
BEGIN:DAYLIGHT
TZOFFSETFROM:-0500
TZOFFSETTO:-0400
TZNAME:EDT
DTSTART:20220313T070000
END:DAYLIGHT
BEGIN:STANDARD
TZOFFSETFROM:-0400
TZOFFSETTO:-0500
TZNAME:EST
DTSTART:20221106T060000
END:STANDARD
BEGIN:DAYLIGHT
TZOFFSETFROM:-0500
TZOFFSETTO:-0400
TZNAME:EDT
DTSTART:20230312T070000
END:DAYLIGHT
BEGIN:STANDARD
TZOFFSETFROM:-0400
TZOFFSETTO:-0500
TZNAME:EST
DTSTART:20231105T060000
END:STANDARD
BEGIN:DAYLIGHT
TZOFFSETFROM:-0500
TZOFFSETTO:-0400
TZNAME:EDT
DTSTART:20240310T070000
END:DAYLIGHT
BEGIN:STANDARD
TZOFFSETFROM:-0400
TZOFFSETTO:-0500
TZNAME:EST
DTSTART:20241103T060000
END:STANDARD
END:VTIMEZONE
BEGIN:VEVENT
DTSTART;TZID=America/New_York:20231104T193000
DTEND;TZID=America/New_York:20231104T220000
DTSTAMP:20260423T023447
CREATED:20231010T023832Z
LAST-MODIFIED:20231010T023832Z
UID:10000280-1699126200-1699135200@bostoncoffeehouses.org
SUMMARY:Paul Rishell and Annie Raines
DESCRIPTION:
URL:https://bostoncoffeehouses.org/event/paul-rishell-and-annie-raines/
LOCATION:John Henry’s Hammer Coffeehouse\, Worcester MA\, 90 Main St\, Worcester\, MA\, 01608\, United States
CATEGORIES:Coffeehouse,Concert,Music
END:VEVENT
BEGIN:VEVENT
DTSTART;TZID=America/New_York:20231118T193000
DTEND;TZID=America/New_York:20231118T220000
DTSTAMP:20260423T023447
CREATED:20231113T002203Z
LAST-MODIFIED:20231113T002203Z
UID:10000294-1700335800-1700344800@bostoncoffeehouses.org
SUMMARY:The Kennedys
DESCRIPTION:NOTE: NEW earlier showtime: 7:30 p.m. Doors open at 7.\nTwo of our favorites return! At well over a million miles of roadwork\, including two stints as members of Nanci Griffith’s Blue Moon Orchestra\, Pete and Maura Kennedy show no signs of slowing down either on tour or in the creative realm. \nSongwriting duo Pete and Maura Kennedy make a strong return to the studio and stage after three years of weekly live-streamed lockdown-era concerts. They took the opportunity to explore classic songwriting in depth\, performing over a thousand songs during the pandemic. That vast overview strengthened and refined their own writing and laid the foundation for this new collection of original\, socially-conscious songs. \n“After such a deep dive into American roots music\, we felt like we had a new set of writing tools. We were ready to create this body of work\, and there’s just SO much to write about\,” says Maura. “During our five-year hiatus from writing and recording\, America changed in massive ways\, divisive ways that have shaken our whole foundation. That has to be addressed by creative artists\, those of us who have a voice to speak for others. Our love of the great things about this country\, things that are under threat\, is the reason we decided to make “Headwinds” the title track of the CD. Political and social headwinds are making it hard to get back “home’ to our greatness as a nation. We want to push back in a positive way against those winds.” \nIn addition to singing and writing\, Pete and Maura are multi-instrumentalists. The thirteen songs are cast in a soundscape that draws from the classic canon of American roots\, in keeping with the theme of getting back “home” as a nation. Acoustic and electric guitars\, a vintage steel guitar\, a gospel-inflected piano/organ mix\, and even a slide ukulele all add colors to a songbag of sounds that have drawn us together during hard times. Pete and Maura believe that those sounds still have the power to pull us through again. \nThe Kennedys began their writing and touring life three decades ago as members of Nanci Griffith’s Blue Moon Orchestra\, developing their own sound as a frequent support act on Nanci’s tours across America\, Ireland\, Scotland and England. Collaborations with Nanci continued\, culminating in Pete and Maura producing her final album\, “Intersections.” Along the way\, they hosted a nationwide radio program\, “The Dharma Cafe” on Sirius/XM\, wrote and released sixteen CDs of original music\, and have been core artists on folk radio\, expanding their audience further with the inception of the AAA and Americana formats.
URL:https://bostoncoffeehouses.org/event/the-kennedys-3/
LOCATION:Rose Garden Coffeehouse\, Mansfield MA\, 17 West St\, Mansfield\, MA\, 02048\, United States
CATEGORIES:Coffeehouse,Concert,Multi-instrumentalist,Music,Singer-songwriter
ATTACH;FMTTYPE=image/jpeg:https://bostoncoffeehouses.org/wp-content/uploads/2023/11/The_Kenndys_by_Jeff_Fasano_1200-bacha.jpg
END:VEVENT
END:VCALENDAR