BEGIN:VCALENDAR
VERSION:2.0
PRODID:-//BACHA - ECPv6.15.19//NONSGML v1.0//EN
CALSCALE:GREGORIAN
METHOD:PUBLISH
X-ORIGINAL-URL:https://bostoncoffeehouses.org
X-WR-CALDESC:Events for BACHA
REFRESH-INTERVAL;VALUE=DURATION:PT1H
X-Robots-Tag:noindex
X-PUBLISHED-TTL:PT1H
BEGIN:VTIMEZONE
TZID:America/New_York
BEGIN:DAYLIGHT
TZOFFSETFROM:-0500
TZOFFSETTO:-0400
TZNAME:EDT
DTSTART:20220313T070000
END:DAYLIGHT
BEGIN:STANDARD
TZOFFSETFROM:-0400
TZOFFSETTO:-0500
TZNAME:EST
DTSTART:20221106T060000
END:STANDARD
BEGIN:DAYLIGHT
TZOFFSETFROM:-0500
TZOFFSETTO:-0400
TZNAME:EDT
DTSTART:20230312T070000
END:DAYLIGHT
BEGIN:STANDARD
TZOFFSETFROM:-0400
TZOFFSETTO:-0500
TZNAME:EST
DTSTART:20231105T060000
END:STANDARD
BEGIN:DAYLIGHT
TZOFFSETFROM:-0500
TZOFFSETTO:-0400
TZNAME:EDT
DTSTART:20240310T070000
END:DAYLIGHT
BEGIN:STANDARD
TZOFFSETFROM:-0400
TZOFFSETTO:-0500
TZNAME:EST
DTSTART:20241103T060000
END:STANDARD
END:VTIMEZONE
BEGIN:VEVENT
DTSTART;TZID=America/New_York:20230930T190000
DTEND;TZID=America/New_York:20230930T213000
DTSTAMP:20260423T055030
CREATED:20230918T213114Z
LAST-MODIFIED:20230918T215541Z
UID:10000261-1696100400-1696109400@bostoncoffeehouses.org
SUMMARY:Cliff Eberhardt in Concert - SSFMC
DESCRIPTION:Cliff Eberhardt\nSaturday Sep 30 2023\n\nTix $23 Members\, $25 Non-Member\nDoors open at 6:30p\, Show starts at 7:00p – 9:15p\nSouth Shore Folk Music Club (SSFMC)\nFirst Parish Duxbury\n842 Tremont St (Rte 3A)\nDuxbury MA\n\nCliff’s dad introduced him to the guitar when he was 7 and he quickly taught himself to play. He cut his teeth listening to James Taylor\, Joni Mitchell\, Bruce Springsteen\, Howlin’ Wolf\, Muddy Waters\, Bonnie Raitt\, and Mississippi John Hurt at local clubs — but also Cole Porter\, the Gershwins\, and Rodgers and Hart.\nCliff moved to New York in 1978 – because the clubs were great\, the Bitter End\, the Speakeasy\, Kenny’s Castaway\, Folk City and the company amazing\, John Gorka\, Suzanne Vega\, Lucy Kaplansky\, Julie Gold\, Steve Forbert\, Christine Lavin\, and Shawn Colvin. Between long hours as a taxi driver\, Cliff played guitar on the road with Richie Havens\, Melanie and sang jingles for Coke\, Miller Beer and Chevrolet\, “The Heartbeat of America” campaign.\nCliff has produced an incredible number of acclaimed albums\, collaborated with Jazz\, Folk\, and Country legends\, written original songs for a new production of “The Taming of the Shrew” for Folger Theatre and Shakespeare Library in Washington DC\, reunited with old songwriting pals\, John Gorka\, Christine Lavin\, Cheryl Wheeler\, Lucy Kaplansky and Patty Larkin to tour nationally again as On A Winter’s Night and much\, much more!.\nSince the pandemic\, he’s out on the road again and not to be missed!  Right at the Club!  Get your tickets\, and Come on Down!
URL:https://bostoncoffeehouses.org/event/cliff-eberhardt-in-concert-ssfmc/
LOCATION:South Shore Folk Music Club\, Duxbury MA\, 842 Tremont St\, Duxbury\, MA\, 02332\, United States
CATEGORIES:Concert,Music
ATTACH;FMTTYPE=image/jpeg:https://bostoncoffeehouses.org/wp-content/uploads/2023/09/IMG_3270.jpeg
END:VEVENT
END:VCALENDAR