BEGIN:VCALENDAR
VERSION:2.0
PRODID:-//BACHA - ECPv6.15.19//NONSGML v1.0//EN
CALSCALE:GREGORIAN
METHOD:PUBLISH
X-ORIGINAL-URL:https://bostoncoffeehouses.org
X-WR-CALDESC:Events for BACHA
REFRESH-INTERVAL;VALUE=DURATION:PT1H
X-Robots-Tag:noindex
X-PUBLISHED-TTL:PT1H
BEGIN:VTIMEZONE
TZID:America/New_York
BEGIN:DAYLIGHT
TZOFFSETFROM:-0500
TZOFFSETTO:-0400
TZNAME:EDT
DTSTART:20230312T070000
END:DAYLIGHT
BEGIN:STANDARD
TZOFFSETFROM:-0400
TZOFFSETTO:-0500
TZNAME:EST
DTSTART:20231105T060000
END:STANDARD
BEGIN:DAYLIGHT
TZOFFSETFROM:-0500
TZOFFSETTO:-0400
TZNAME:EDT
DTSTART:20240310T070000
END:DAYLIGHT
BEGIN:STANDARD
TZOFFSETFROM:-0400
TZOFFSETTO:-0500
TZNAME:EST
DTSTART:20241103T060000
END:STANDARD
BEGIN:DAYLIGHT
TZOFFSETFROM:-0500
TZOFFSETTO:-0400
TZNAME:EDT
DTSTART:20250309T070000
END:DAYLIGHT
BEGIN:STANDARD
TZOFFSETFROM:-0400
TZOFFSETTO:-0500
TZNAME:EST
DTSTART:20251102T060000
END:STANDARD
BEGIN:DAYLIGHT
TZOFFSETFROM:-0500
TZOFFSETTO:-0400
TZNAME:EDT
DTSTART:20260308T070000
END:DAYLIGHT
BEGIN:STANDARD
TZOFFSETFROM:-0400
TZOFFSETTO:-0500
TZNAME:EST
DTSTART:20261101T060000
END:STANDARD
END:VTIMEZONE
BEGIN:VEVENT
DTSTART;TZID=America/New_York:20250222T190000
DTEND;TZID=America/New_York:20250222T211500
DTSTAMP:20260421T082232
CREATED:20250206T205621Z
LAST-MODIFIED:20250206T205831Z
UID:10000727-1740250800-1740258900@bostoncoffeehouses.org
SUMMARY:All Open Mic Night
DESCRIPTION:The South Shore Folk Music Club (SSFMC)\, which is in its 47th year\, presents an ‘All Open Mic Night’ Saturday February\, 2025 at First Parish Duxbury!  We had so much fun last season that we’re doing it again!  Doors open and sign-ups begin at 630p\, show starts at 7p.m.  You can sing\, do spoken word\, prose\, poetry\, comedy\, performance art\, original or not\, all genres – not just folk!  Musicians pay only $6.  The Sound is impeccable!  Performers – The microphone is yours!  Audience\, come out and support live music in one of its most amazing formats – Open Mic!  The hall will be set up in our intimate tables\, chairs and real candlelight configuration.  Join us to showcase your talent and enjoy homemade treats for this special show!  See you at the Club!  Note:  For more information\, please check out our website – https://www.southshorefolkmusicclub.org/
URL:https://bostoncoffeehouses.org/event/all-open-mic-night/
LOCATION:South Shore Folk Music Club\, Duxbury MA\, 842 Tremont St\, Duxbury\, MA\, 02332\, United States
CATEGORIES:All genres,Open Mic
ATTACH;FMTTYPE=image/jpeg:https://bostoncoffeehouses.org/wp-content/uploads/2025/02/Audience-w-Piper-SSFMC-photo-enhanced.jpeg
END:VEVENT
BEGIN:VEVENT
DTSTART;TZID=America/New_York:20250215T193000
DTEND;TZID=America/New_York:20250215T220000
DTSTAMP:20260421T082232
CREATED:20240806T151141Z
LAST-MODIFIED:20240806T151141Z
UID:10000453-1739647800-1739656800@bostoncoffeehouses.org
SUMMARY:Reverend Robert Jones
DESCRIPTION:Nationally known and respected singer-songwriter\, educator\, author and storyteller Rev.Jones delivers a thrilling evening of song and stories – and perhaps some lessons for life. \nNew Moon concerts take place in the meeting room of the Haverhill UU Church at 15 Kenoza Avenue.  Enter by the back door off the parking lot. Reserve seats at the New Moon website www.newmooncoffeehouse.org. Pay CASH ONLY when the doors open at 6:30. General admission. Building is wheelchair accessible. Save some cash for our famous homemade desserts. For more info\, go to www.revrobertjones.com or call 617-327-0542
URL:https://bostoncoffeehouses.org/event/reverend-robert-jones/
LOCATION:New Moon Coffeehouse\, Haverhill MA\, 16 Ashland St\, Haverhill\, MA\, 01830\, United States
CATEGORIES:All genres
END:VEVENT
BEGIN:VEVENT
DTSTART;TZID=America/New_York:20240928T183000
DTEND;TZID=America/New_York:20240928T211500
DTSTAMP:20260421T082232
CREATED:20240827T040014Z
LAST-MODIFIED:20240827T040014Z
UID:10000472-1727548200-1727558100@bostoncoffeehouses.org
SUMMARY:All Open Mic Night September 28\, 2024
DESCRIPTION:The South Shore Folk Music Club (SSFMC)\, which is in its 46th year\, presents an ‘All Open Mic Night ’ Saturday September 28\, 2024 at First Parish Duxbury!  We had so much fun last season that we’re doing it again!  Doors open and sign-ups begin at 630p\, show starts at 7p.m.  You can sing\, do spoken word\, prose\, poetry\, comedy\, performance art\, original or not\, all genres – not just folk!  Musicians and Members pay only $6.  Non-Members $8.  Kids (up to high school age) $3.  The Sound is impeccable!  Performers – The microphone is yours!  Audience\, come out and support live music in one of its most amazing formats – Open Mic!  The hall will be set up in our intimate tables\, chairs and real candlelight configuration.  Join us to showcase your talent and enjoy homemade treats for this special show!  See you at the Club!  Note:  For more information\, please check out our website – https://www.southshorefolkmusicclub.org/
URL:https://bostoncoffeehouses.org/event/all-open-mic-night-september-28-2024/
LOCATION:South Shore Folk Music Club\, Duxbury MA\, 842 Tremont St\, Duxbury\, MA\, 02332\, United States
CATEGORIES:All genres,Open Mic
ATTACH;FMTTYPE=image/jpeg:https://bostoncoffeehouses.org/wp-content/uploads/2024/08/Audience-w-Piper-SSFMC-photo-enhanced.jpeg
END:VEVENT
BEGIN:VEVENT
DTSTART;TZID=America/New_York:20240427T190000
DTEND;TZID=America/New_York:20240427T210000
DTSTAMP:20260421T082232
CREATED:20240403T220608Z
LAST-MODIFIED:20240420T192608Z
UID:10000391-1714244400-1714251600@bostoncoffeehouses.org
SUMMARY:l'Esperance Mandolin Ensemble Concert
DESCRIPTION:The l’Esperance Mandolin Ensemble\, features musicians from Massachusetts\, New York\, Rhode Island and Connecticut of different backgrounds and ages who come together for the pleasure of making music!  This diverse ensemble\, sometimes up to 17 musicians\,  play mandolins\, mandolas\, octave mandolins\, mandocellos\, mandobass and guitar!  This versatile\, intimate instrument readily lends its voice from classical to contemporary\, from bluegrass\, Celtic\, American Traditional to Klezmer\, from pop classics to Baroque\, and l’Esperance will do it all!  L’Esperance has been sharing the joy of the mandolin with audiences around New England since 1994.  This is a rare\, all-acoustic concert that we’re pleased to present at the South Shore Folk Music Club!
URL:https://bostoncoffeehouses.org/event/lesperance-mandolin-ensemble-concert/
LOCATION:South Shore Folk Music Club\, Duxbury MA\, 842 Tremont St\, Duxbury\, MA\, 02332\, United States
CATEGORIES:All genres,Concert
ATTACH;FMTTYPE=image/jpeg:https://bostoncoffeehouses.org/wp-content/uploads/2024/04/lEsperance-Mandolin-cropped-photo-27Ap24.jpg
END:VEVENT
BEGIN:VEVENT
DTSTART;TZID=America/New_York:20240413T190000
DTEND;TZID=America/New_York:20240413T213000
DTSTAMP:20260421T082232
CREATED:20240403T213851Z
LAST-MODIFIED:20240404T205609Z
UID:10000389-1713034800-1713043800@bostoncoffeehouses.org
SUMMARY:All Open Mic Night
DESCRIPTION:The South Shore Folk Music Club (SSFMC)\, which is in its 46th year\, presents an ‘All Open Mic Night’ Sat April 13!  We had so much fun last month that we’re doing it again!  Doors open and sign-ups begin at 630p\, show starts at 7p.m.  You can sing\, do spoken word\, prose\, poetry\, comedy\, performance art\, original or not\, all genres – not just folk!  Musicians pay only $6.  The Sound is impeccable!  Performers – The microphone is yours!  Audience\, come out and support live music in one of its most amazing formats – Open Mic!  The hall will be set up in our intimate tables\, chairs and real candlelight configuration.  Join us to showcase your talent and enjoy homemade treats for this special show!  See you at the Club!
URL:https://bostoncoffeehouses.org/event/ssfmc-coffeehouse-all-open-mic-night-saturday-april-13-2024/
LOCATION:South Shore Folk Music Club\, Duxbury MA\, 842 Tremont St\, Duxbury\, MA\, 02332\, United States
CATEGORIES:All genres,Coffeehouse,Open Mic
ATTACH;FMTTYPE=image/jpeg:https://bostoncoffeehouses.org/wp-content/uploads/2024/04/Audience-w-Piper-SSFMC-photo.jpeg
END:VEVENT
BEGIN:VEVENT
DTSTART;TZID=America/New_York:20240302T190000
DTEND;TZID=America/New_York:20240302T213000
DTSTAMP:20260421T082232
CREATED:20240223T235813Z
LAST-MODIFIED:20240224T002230Z
UID:10000369-1709406000-1709415000@bostoncoffeehouses.org
SUMMARY:Annual All Open Mic Night
DESCRIPTION:The South Shore Folk Music Club (SSFMC)\, which is in its 46th year\, presents the Annual All Open Mic Night Sat March 2d!  Doors open and signups begin at 630p\, show starts at 7p.m.  You can sing\, do spoken word\, prose\, poetry\, performance art\, original or not\, all genres – not just folk!    Musicians pay only $6.  The Sound is impeccable!  Performers – The microphone is yours!  Audience\, come out and support live music in one of it’s most amazing formats:  Open Mic!  The hall will  set up in our intimate tables\, chairs and real candlelight configuration.  Join us to showcase your talent and enjoy homemade treats.  We will also have pizza on-hand for this special show!  See you at the Club!
URL:https://bostoncoffeehouses.org/event/annual-all-open-mic-night-at-the-south-shore-folk-music-club-842-tremont-st-duxbury-7-915p/
LOCATION:South Shore Folk Music Club\, Duxbury MA\, 842 Tremont St\, Duxbury\, MA\, 02332\, United States
CATEGORIES:All genres,Open Mic
ATTACH;FMTTYPE=image/jpeg:https://bostoncoffeehouses.org/wp-content/uploads/2024/02/Flyer-All-Open-Mic-Night-70-2Mar23.jpg
END:VEVENT
END:VCALENDAR