BEGIN:VCALENDAR
VERSION:2.0
PRODID:-//BACHA - ECPv6.15.19//NONSGML v1.0//EN
CALSCALE:GREGORIAN
METHOD:PUBLISH
X-WR-CALNAME:BACHA
X-ORIGINAL-URL:https://bostoncoffeehouses.org
X-WR-CALDESC:Events for BACHA
REFRESH-INTERVAL;VALUE=DURATION:PT1H
X-Robots-Tag:noindex
X-PUBLISHED-TTL:PT1H
BEGIN:VTIMEZONE
TZID:America/New_York
BEGIN:DAYLIGHT
TZOFFSETFROM:-0500
TZOFFSETTO:-0400
TZNAME:EDT
DTSTART:20250309T070000
END:DAYLIGHT
BEGIN:STANDARD
TZOFFSETFROM:-0400
TZOFFSETTO:-0500
TZNAME:EST
DTSTART:20251102T060000
END:STANDARD
BEGIN:DAYLIGHT
TZOFFSETFROM:-0500
TZOFFSETTO:-0400
TZNAME:EDT
DTSTART:20260308T070000
END:DAYLIGHT
BEGIN:STANDARD
TZOFFSETFROM:-0400
TZOFFSETTO:-0500
TZNAME:EST
DTSTART:20261101T060000
END:STANDARD
BEGIN:DAYLIGHT
TZOFFSETFROM:-0500
TZOFFSETTO:-0400
TZNAME:EDT
DTSTART:20270314T070000
END:DAYLIGHT
BEGIN:STANDARD
TZOFFSETFROM:-0400
TZOFFSETTO:-0500
TZNAME:EST
DTSTART:20271107T060000
END:STANDARD
END:VTIMEZONE
BEGIN:VEVENT
DTSTART;TZID=America/New_York:20260424T183000
DTEND;TZID=America/New_York:20260424T213000
DTSTAMP:20260424T033844
CREATED:20260304T192859Z
LAST-MODIFIED:20260304T192859Z
UID:10001034-1777055400-1777066200@bostoncoffeehouses.org
SUMMARY:John Henry’s Hammer Coffeehouse – Open Mic Friday 4/24/2026
DESCRIPTION:Here are the usual IMPORTANT details for JHH Open Mic:\n2nd and 4th Fridays (except when noted)\nFirst Unitarian Church\, 90 Main St\, Worcester\, MA\nDoors open and performer sign-up at 6:30 p.m.\nPerformances begin @ 7 p.m.\n10 minutes in the limelight- spoken word or music (usually two songs unless you choose to sing American Pie or some sea shanty with fifty verses). Duos or groups are considered one act and CANNOT sign up as single performers too. Putting on a clown wig will NOT fool us. $3.00 admission for everybody. Performer or spectator. Payable to the lovely lady at the folding card table (please bring $1 bills). Refreshments & snacks (donation appreciated).\nPLEASE enter State Street upper parking lot door.  Handicap parking and accessibility at the other side of the church on Court Street by the Courthouse apartments.  If you DO park on Court Street only park on the church side of the street or you could get towed. The parking meters on Main Street and State Street require money until 8:00 pm. The meter maids (and dudes) love to hand out tickets. \nWeather Cancellations: ANY weather cancellations of the Worcester Public Schools on the day of Open Mic WILL cancel Open Mic.
URL:https://bostoncoffeehouses.org/event/john-henrys-hammer-coffeehouse-open-mic-friday-4-24-2026/
LOCATION:John Henry’s Hammer Coffeehouse\, Worcester MA\, 90 Main St\, Worcester\, MA\, 01608\, United States
CATEGORIES:Coffeehouse,Open Mic
END:VEVENT
BEGIN:VEVENT
DTSTART;TZID=America/New_York:20260424T190000
DTEND;TZID=America/New_York:20260424T203000
DTSTAMP:20260424T033844
CREATED:20260309T203451Z
LAST-MODIFIED:20260309T203451Z
UID:10001051-1777057200-1777062600@bostoncoffeehouses.org
SUMMARY:Thomas Csorba
DESCRIPTION:Thomas Csorba is a songwriter who writes for the long arc — songs not just for now\, but for always.. He doesn’t chase trends or flash. Instead\, he writes with a reverence for language\, for melody\, and for the invisible threads that connect a life. Csorba already has some impressive notches on his belt\, opening for acclaimed acts like John Moreland\, Amanda Shires\, Yola\, Paul Cauthen\, Red Shahan\, Briscoe\, Parker Millsap\, and many others With several albums and EPs under his belt\, Thomas has earned respect from his peers and the press with the Houston Chronicle writing “Is Thomas Csorba the next great Texas songwriter?” Csorba has no plans to stop the steady march forward\, because for him\, this isn’t about the next big thing — it’s about the next true song. And if Windchimes is any indication\, he’s just getting to the good part.
URL:https://bostoncoffeehouses.org/event/thomas-csorba/2026-04-24/
LOCATION:Goodfolk\, Topsfield\, MA\, 7 Central Street\, Topsfield\, MA\, 01983\, United States
CATEGORIES:Folksinger
ATTACH;FMTTYPE=image/jpeg:https://bostoncoffeehouses.org/wp-content/uploads/2026/03/Thomas-Csorba-Pic-Photo-by-Austin-Leih-e1773088480492.jpg
END:VEVENT
BEGIN:VEVENT
DTSTART;TZID=America/New_York:20260424T193000
DTEND;TZID=America/New_York:20260424T220000
DTSTAMP:20260424T033844
CREATED:20250704T154521Z
LAST-MODIFIED:20250704T154521Z
UID:10000859-1777059000-1777068000@bostoncoffeehouses.org
SUMMARY:The Clements Brothers
DESCRIPTION:Folk harmony as only identical twins can do it plus music and songwriting inspired by rock. bluegrass\, jazz and classical influences. Come see them in an intimate setting while you can! \nReserve tickets by emailing musiconcentre@gmail.com. Admission is $25 for adults and $10 for 21 and under. There are no advance ticket sales. Pay at the door with cash or credit card. More information is available at www.tparkerchurch.org/events or by phone at 617-327-0542.
URL:https://bostoncoffeehouses.org/event/the-clements-brothers-4/
LOCATION:Music on Centre\, West Roxbury MA\, 1859 Centre St\, West Roxbury\, MA\, 02132\, United States
CATEGORIES:Concert
END:VEVENT
END:VCALENDAR