BEGIN:VCALENDAR
VERSION:2.0
PRODID:-//BACHA - ECPv6.15.19//NONSGML v1.0//EN
CALSCALE:GREGORIAN
METHOD:PUBLISH
X-WR-CALNAME:BACHA
X-ORIGINAL-URL:https://bostoncoffeehouses.org
X-WR-CALDESC:Events for BACHA
REFRESH-INTERVAL;VALUE=DURATION:PT1H
X-Robots-Tag:noindex
X-PUBLISHED-TTL:PT1H
BEGIN:VTIMEZONE
TZID:America/New_York
BEGIN:DAYLIGHT
TZOFFSETFROM:-0500
TZOFFSETTO:-0400
TZNAME:EDT
DTSTART:20250309T070000
END:DAYLIGHT
BEGIN:STANDARD
TZOFFSETFROM:-0400
TZOFFSETTO:-0500
TZNAME:EST
DTSTART:20251102T060000
END:STANDARD
BEGIN:DAYLIGHT
TZOFFSETFROM:-0500
TZOFFSETTO:-0400
TZNAME:EDT
DTSTART:20260308T070000
END:DAYLIGHT
BEGIN:STANDARD
TZOFFSETFROM:-0400
TZOFFSETTO:-0500
TZNAME:EST
DTSTART:20261101T060000
END:STANDARD
BEGIN:DAYLIGHT
TZOFFSETFROM:-0500
TZOFFSETTO:-0400
TZNAME:EDT
DTSTART:20270314T070000
END:DAYLIGHT
BEGIN:STANDARD
TZOFFSETFROM:-0400
TZOFFSETTO:-0500
TZNAME:EST
DTSTART:20271107T060000
END:STANDARD
END:VTIMEZONE
BEGIN:VEVENT
DTSTART;TZID=America/New_York:20260423T190000
DTEND;TZID=America/New_York:20260423T203000
DTSTAMP:20260423T022549
CREATED:20260309T203451Z
LAST-MODIFIED:20260309T203451Z
UID:10001050-1776970800-1776976200@bostoncoffeehouses.org
SUMMARY:Thomas Csorba
DESCRIPTION:Thomas Csorba is a songwriter who writes for the long arc — songs not just for now\, but for always.. He doesn’t chase trends or flash. Instead\, he writes with a reverence for language\, for melody\, and for the invisible threads that connect a life. Csorba already has some impressive notches on his belt\, opening for acclaimed acts like John Moreland\, Amanda Shires\, Yola\, Paul Cauthen\, Red Shahan\, Briscoe\, Parker Millsap\, and many others With several albums and EPs under his belt\, Thomas has earned respect from his peers and the press with the Houston Chronicle writing “Is Thomas Csorba the next great Texas songwriter?” Csorba has no plans to stop the steady march forward\, because for him\, this isn’t about the next big thing — it’s about the next true song. And if Windchimes is any indication\, he’s just getting to the good part.
URL:https://bostoncoffeehouses.org/event/thomas-csorba/2026-04-23/
LOCATION:Goodfolk\, Topsfield\, MA\, 7 Central Street\, Topsfield\, MA\, 01983\, United States
CATEGORIES:Folksinger
ATTACH;FMTTYPE=image/jpeg:https://bostoncoffeehouses.org/wp-content/uploads/2026/03/Thomas-Csorba-Pic-Photo-by-Austin-Leih-e1773088480492.jpg
END:VEVENT
END:VCALENDAR